Workbook
Name ___LCB1: #REF!
Name ___LCB1: #REF!
Name ___LCB1: #REF!
Name ___LCB1: #REF!
Name ___PQD1: #REF!
Name ___PQD1: #REF!
Name ___PQD1: #REF!
Name ___PQD1: #REF!
Name __LCB1: #REF!
Name __LCB1: #REF!
Name __LCB1: #REF!
Name __LCB1: #REF!
Name __PQD1: #REF!
Name __PQD1: #REF!
Name __PQD1: #REF!
Name __PQD1: #REF!
Name _LCB1: #REF!
Name _LCB1: #REF!
Name _LCB1: #REF!
Name _LCB1: #REF!
Name _PQD1: #REF!
Name _PQD1: #REF!
Name _PQD1: #REF!
Name _PQD1: #REF!
Name a: #REF!
Name a: #REF!
Name a: #REF!
Name a: #REF!
Name abc: '[1]Cong 6T'!#REF!
Name abc: '[1]Cong 6T'!#REF!
Name abc: '[1]Cong 6T'!#REF!
Name abc: '[1]Cong 6T'!#REF!
Name BarData: #REF!
Name BarData: #REF!
Name BarData: #REF!
Name BarData: #REF!
Name BDHT: #REF!
Name BDHT: #REF!
Name BDHT: #REF!
Name BDHT: #REF!
Name bgf: '[2]PX-SX'!$B$23:$H$171
Name counxlkcs: #REF!
Name counxlkcs: #REF!
Name counxlkcs: #REF!
Name counxlkcs: #REF!
Name couxlkcs: #REF!
Name couxlkcs: #REF!
Name couxlkcs: #REF!
Name couxlkcs: #REF!
Name couxlkd: #REF!
Name couxlkd: #REF!
Name couxlkd: #REF!
Name couxlkd: #REF!
Name couxlkh: #REF!
Name couxlkh: #REF!
Name couxlkh: #REF!
Name couxlkh: #REF!
Name couxlktnl: #REF!
Name couxlktnl: #REF!
Name couxlktnl: #REF!

Sheet NHAp DIEN TICH CHUAN
A2: BẢNG TỔNG HỢP CÔNG TRÌNH: KHU TÁI ĐỊNH CƯ NAM AN HÒA (GIAI ĐOẠN 3)
A3: ĐỊA ĐIỂM: KHU PHỐ 2 VÀ KHU PHỐ 5, PHƯỜNG RẠCH GIÁ, TỈNH AN GIANG
B5: Số | C5: Họ và Tên | D5: Số | E5: Số | F5: Số | G5: Đất đai | N5: Cây trồng | R5: Vật kiến trúc | X5: Kết cấu | AD5: Tổng | AE5: Các thông tin do | AF5: Cơ sở pháp lý | AG5: Ý kiến hội đồng
A6: a | B6: TT | D6: kh | E6: tờ | F6: th | G6: Loại đất | H6: DT (m2) | I6: AH | J6: Đ.giá BT | K6: Đ.giá HT | L6: T.tiền BT | M6: T.tiền HT | N6: Loại cây | O6: SL | P6: Đ.giá | Q6: T.tiền | R6: Hạng mục | S6: DV | T6: DT | U6: AH | V6: Đ.giá | W6: T.tiền | X6: Móng | Y6: Mái | Z6: Nền | AA6: Vách | AB6: Cột | AC6: Trần | AD6: T.tiền | AE6: cán bộ đo đạc thu thập | AF6: được áp dụng
A7: =IF(B7<>0,B7,A6) -> 1 | B7: 1 | C7: Quách Ngọc Tuấn | D7: 4 | G7: Đất trồng cây lâu năm ngoài GCN (LG) - VT1 - giáp đường LQK (đoạn Đống Đa - Ngô Văn Sở) | H7: 10.5 | R7: Nhà C4.05 (hỗ trợ 90%) | S7: m² | T7: 15.3 | X7: Gạch | Y7: Tolv | Z7: G.men | AA7: Tường | AB7: Gạch | AC7: Prima | AE7: Nguồn gốc đất do cha cho con là Quách Ngọc Tuấn ngày 12/6/2006 (giấy tay). Phần diện tích 10,5 m² nằm ngoài GCN thuộc đất HLATGT, có cùng nguồn gốc và thời điểm sử dụng theo GCN số BU 454890 do UBND Thành Phố Rạch Giá cấp ngày 22/10/2014.
A8: =IF(B8<>0,B8,A7) -> 1 | C8: 1974 - 0910 7400 2275 | R8: Mái che tol (hỗ trợ 90%) | S8: m² | T8: 5.85 | AE8: Nhà xây dựng năm 2006, sửa lại năm 2015
A9: =IF(B9<>0,B9,A8) -> 1 | C9: 1065/1C Lâm Quang Ky, Phường Rạch Giá, tỉnh An Giang | R9: Nền xi măng SN.01 (hỗ trợ 90%) | S9: m² | T9: 14.1 | AE9: Tỷ lệ mất đất: 100%
A10: =IF(B10<>0,B10,A9) -> 1 | C10: Vợ: Trần Thị Kiều Oanh | R10: Trần Prima (hỗ trợ 90%) | S10: m² | T10: 15.3 | AE10: Kinh doanh mua bán tạp hóa (ko giấy phép)
A11: =IF(B11<>0,B11,A10) -> 1
A12: =IF(B12<>0,B12,A11) -> 1
A13: =IF(B13<>0,B13,A12) -> 1
A14: =IF(B14<>0,B14,A13) -> 1
A15: =IF(B15<>0,B15,A14) -> 2 | B15: 2 | C15: Hộ Ông Quách Ngọc Nghé | D15: 12 | E15: 85 | F15: 37 | G15: Đất ở đô thị (GCN) - VT1 - đường LQK (đoạn Đống Đa - Ngô Văn Sở) | H15: 181.7 | N15: Dừa A | O15: 5 | R15: Nhà C2.01 | S15: m² | T15: 104.4 | X15: Btct | Y15: Btct | Z15: G.men | AA15: Tường | AB15: Btct | AE15: Có GCN số BU 454890 do UBND Thành Phố Rạch Giá cấp ngày 22/10/2014.
A16: =IF(B16<>0,B16,A15) -> 2 | C16: 1943 - 0910 4300 2669 | E16: 85 | F16: 37 | N16: Dừa B | O16: 2 | R16: NTC.02 | S16: m² | T16: 47.94 | Y16: Tolv | Z16: G.men | AB16: Sắt | AE16: Tờ BĐ 85, thửa 37; diện tích đất trồng cây lâu năm 2.316,8 m²
A17: =IF(B17<>0,B17,A16) -> 2 | C17: 1065 Lâm Quang Ky, Phường Rạch Giá, tỉnh An Giang | N17: Dừa C | O17: 5 | R17: Sân xi măng SN.01 | S17: m² | T17: 17.7 | U17: 12.7 | AE17: Có GCN quyền sở hữu nhà ở và Quyền sử dụng đất ở, hồ sơ gốc số 484 do UBND tỉnh Kiên Giang cấp ngày 10/11/1998.
A18: =IF(B18<>0,B18,A17) -> 2 | C18: Vợ: Trang Thị Em | G18: Đất trồng cây lâu năm (GCN) | H18: 354.5 | N18: Dừa D | O18: 6 | R18: Nền xi măng SN.01 | S18: m² | T18: 17.9 | U18: 9.1 | AE18: Tờ BĐ 85, thửa 37, diện tích đất ở 300,0 m²
A19: =IF(B19<>0,B19,A18) -> 2 | G19: Đất trồng cây lâu năm-Ngoài GCN (LG) - VT1 - Giáp đường LQK (đoạn Đống Đa - Ngô Văn Sở) | H19: 30.8 | N19: Mít B | O19: 4 | R19: Nền gạch men | S19: m² | T19: 53.51 | AE19: Có GCN quyền sở hữu nhà ở và quyền sử dụng đất ở, số hồ sơ gốc 0088/2009 do UBND thành phố Rạch Giá cấp ngày 22/1/2009. Diện tích sàn (nhà ở, căn hộ): 247,24 m².
A20: =IF(B20<>0,B20,A19) -> 2 | N20: Chuối A | O20: 152 | R20: Nền xi măng SN.02 | S20: m² | T20: 73.68 | AE20: Nhà xây dựng năm 2001
A21: =IF(B21<>0,B21,A20) -> 2 | N21: Chuối B | O21: 101 | R21: WC+ Tắm (trong nhà) xí bệt, dán gạch men WC.01 | S21: m² | T21: 8.3 | X21: Btct | Y21: Btct | Z21: G.men | AA21: Tường | AB21: Btct | AE21: Tỷ lệ mất đất: 15,3%
A22: =IF(B22<>0,B22,A21) -> 2 | N22: Chuối C | O22: 145 | R22: Mái che tol | S22: m² | T22: 8.05 | AE22: Phần diện tích 30,8 m² (LG) nằm ngoài GCN, có cùng nguồn gốc và thời điểm sử dụng theo GCN số BU 454890 do UBND Thành Phố Rạch Giá cấp ngày 22/10/2014.
A23: =IF(B23<>0,B23,A22) -> 2 | N23: Đu đủ C | O23: 1 | R23: Nền gạch men | S23: m² | T23: 8.05
A24: =IF(B24<>0,B24,A23) -> 2 | N24: Xoài B | O24: 2 | R24: Bồn BTCT (có nắp) BNN.01 | S24: m³ | T24: 20.13
A25: =IF(B25<>0,B25,A24) -> 2 | N25: Xoài C | O25: 1 | R25: Hàng rào xây 10, song sắt, móng BTCT, trụ BTCT HR.14 | S25: m² | T25: 23.45
A26: =IF(B26<>0,B26,A25) -> 2 | N26: Xoài D | O26: 2 | R26: Chuồng gà | S26: m² | T26: 4.6 | Y26: Tolv | Z26: đất | AA26: lưới B40 | AB26: Sắt
A27: =IF(B27<>0,B27,A26) -> 2 | N27: Hạnh B | O27: 1 | R27: Miếu xây C4.01 | S27: m² | T27: 1.2 | Y27: Ngói | Z27: G.men | AA27: Tường | AB27: Gạch
A28: =IF(B28<>0,B28,A27) -> 2 | N28: Sao E | O28: 1 | R28: Chuồng gà | S28: m² | T28: 4.56 | Y28: Lưới B40 | Z28: Đất | AA28: lưới B40 | AB28: Gỗ<10
A29: =IF(B29<>0,B29,A28) -> 2 | N29: Bồ đề E | O29: 1 | R29: Hàng rào xây 10, khung lưới B40, móng BTCT, trụ BTCT HR.08 | S29: m² | T29: 74.16
A30: =IF(B30<>0,B30,A29) -> 2 | N30: Sộp H | O30: 1 | R30: Hàng ba nhà C2.01*80% (tầng 1) | S30: m² | T30: 15.08 | Y30: Btct | Z30: G.men | AB30: Btct
A31: =IF(B31<>0,B31,A30) -> 2 | N31: Nhàu G | O31: 1 | R31: Hàng ba C2.01*80% (tầng 1) | S31: m² | T31: 14.75 | Y31: Btct | Z31: G.men | AB31: Btct
A32: =IF(B32<>0,B32,A31) -> 2 | N32: Chanh C | O32: 1 | R32: Nhà C2.07 (tầng 1) | S32: m² | T32: 88 | Y32: Tol giả ngói | Z32: G.men | AA32: Tường | AB32: Btct
A33: =IF(B33<>0,B33,A32) -> 2 | N33: Chanh D | O33: 1 | R33: WC (Tầng 1) xí bệt, dán gạch men WC.01 | S33: m² | T33: 2.66 | Y33: Btct | Z33: G.men | AA33: Tường | AB33: Btct | AC33: Lima
A34: =IF(B34<>0,B34,A33) -> 2 | N34: Chuối A | O34: 63 | R34: Tắm (tầng 1) dán gạch men WC.10 | S34: m² | T34: 4 | Y34: Btct | Z34: G.men | AA34: Tường | AB34: Btct
A35: =IF(B35<>0,B35,A34) -> 2 | N35: Chuối B | O35: 44 | R35: Nền gạch men | S35: m² | T35: 47.94
A36: =IF(B36<>0,B36,A35) -> 2 | N36: Chuối C | O36: 43 | R36: Hàng ba C2.22 x 80% | S36: m² | T36: 15.84
A37: =IF(B37<>0,B37,A36) -> 2 | N37: Rau màu các loại A (m²) | O37: 22 | R37: Nền gạch men | S37: m² | T37: 14.3
A38: =IF(B38<>0,B38,A37) -> 2
A39: =IF(B39<>0,B39,A38) -> 2
A40: =IF(B40<>0,B40,A39) -> 2
A41: =IF(B41<>0,B41,A40) -> 3 | B41: 3 | C41: Quách Thị Thủy (GCN Hộ Ông Quách Ngọc Nghé) | D41: 2 | E41: 85 | F41: 37 | G41: Đất ở đô thị (GCN) | H41: 2.6 | R41: Nhà C2.07 (hỗ trợ 90%) | S41: m² | T41: 31.5 | X41: Btct | Y41: Tolv | Z41: G.men | AA41: Tường | AB41: Btct | AC41: Trần nhựa | AE41: Nguồn gốc đất do cha cho con là Quách Thị Thủy ngày 12/6/2006 (giấy tay), một phần thửa đất có GCN số BU 454890 do UBND Thành phố Rạch giá cấp ngày 22/10/2014. Tờ BĐ 85, thửa 37; diện tích đất trồng cây lâu năm 2.316,8 m². GCN do cha Quách Ngọc Nghé đứng tên.
A42: =IF(B42<>0,B42,A41) -> 3 | C42: 1968 - 0911 6800 5041 | E42: 85 | F42: 37 | G42: Đất trồng cây lâu năm (GCN) | H42: 33.1 | R42: Nền xi măng SN.01 (hỗ trợ 90%) | S42: m² | T42: 5.4 | AE42: Tỷ lệ mất đất: 26,8%
A43: =IF(B43<>0,B43,A42) -> 3 | C43: 1065/1 Lâm Quang Ky, Phường Rạch Giá, tỉnh An Giang | R43: Nền gạch men (hỗ trợ 90%) | S43: m² | T43: 9.84 | AE43: Nhà xây dựng năm 2006, sửa lại năm 2021
A44: =IF(B44<>0,B44,A43) -> 3 | R44: Hàng rào khung lưới B40, trụ sắt HR.18 (hỗ trợ 90%) | S44: m² | T44: 9.28
A45: =IF(B45<>0,B45,A44) -> 3 | R45: Đal BT ông thiên (hỗ trợ 90%) | S45: m³ | T45: 0.01
A46: =IF(B46<>0,B46,A45) -> 3 | R46: Trụ xây gạch (hỗ trợ 90%) | S46: m³ | T46: 0.02
A48: =IF(B48<>0,B48,A46) -> 3
A49: =IF(B49<>0,B49,A48) -> 3
A50: =IF(B50<>0,B50,A49) -> 4 | B50: 4 | C50: Quách Ngọc Dũng (GCN Hộ Ông Quách Ngọc Nghé) | D50: 2 | E50: 85 | F50: 37 | G50: Đất trồng cây lâu năm (GCN) | H50: 35.6 | R50: Nhà C3.05 (hỗ trợ 90%) | S50: m² | T50: 31.95 | X50: Btct | Y50: Tolv | Z50: G.men | AA50: Tường | AB50: Btct | AC50: Trần nhựa | AE50: Nguồn gốc đất do cha cho con là Quách Ngọc Dũng ngày 12/6/2006 (giấy tay), một phần thửa đất có GCN số BU 454890 do UBND Thành phố Rạch giá cấp ngày 22/10/2014. Tờ BĐ 85, thửa 37; diện tích đất trồng cây lâu năm, diện tích 2.316,8 m². GCN do cha Quách Ngọc Nghé đứng tên.
A51: =IF(B51<>0,B51,A50) -> 4 | C51: 1970 - 0910 7000 8356 | R51: Nền xi măng SN.01 (hỗ trợ 90%) | S51: m² | T51: 7.2 | AE51: Nhà xây dựng năm 2006
A52: =IF(B52<>0,B52,A51) -> 4 | C52: 1065/1B Lâm Quang Ky, Phường Rạch Giá, tỉnh An Giang | R52: Nền xi măng SN.01 (hỗ trợ 90%) | S52: m² | T52: 10.44 | Y52: Btct | Z52: G.men | AA52: Tường | AB52: Btct | AE52: Tỷ lệ mất đất: 49%
A53: =IF(B53<>0,B53,A52) -> 4 | R53: Mái che tol (hỗ trợ 90%) | S53: m² | T53: 8.1
A54: =IF(B54<>0,B54,A53) -> 4 | R54: Đal bt (hỗ trợ 90%) | S54: m³ | T54: 1.62
A55: =IF(B55<>0,B55,A54) -> 4 | R55: Gạch men ốp (hỗ trợ 90%) | S55: m² | T55: 0.16
A56: =IF(B56<>0,B56,A55) -> 4
A57: =IF(B57<>0,B57,A56) -> 4
A58: =IF(B58<>0,B58,A57) -> 5 | B58: 5 | C58: Nguyễn Ngọc Trung (GCN Quách Thị Tuyết Mai; Nguyễn Ngọc Trường) | D58: 7 | E58: 86 | F58: 1582 | G58: Đất trồng cây lâu năm (GCN) | H58: 24.6 | N58: Dừa A | O58: 4 | R58: Sân gạch tàu SN.01 (hỗ trợ 90%) | S58: m² | T58: 29.2 | AE58: Nguồn gốc đất do cha mẹ cho con là Nguyễn Ngọc Trung năm 1990 (không có giấy tay), một phần thửa đất có GCN số DN 948275 do Chi nhánh văn phòng ĐKĐĐ Thành Phố Rạch Giá cấp ngày 23/04/2024.
A59: =IF(B59<>0,B59,A58) -> 5 | C59: 1972 - 0910 7202 1433 | N59: Bồ đề E | O59: 1 | R59: Miếu C4.01 (hỗ trợ 90%) | S59: m² | T59: 1.3 | Y59: Đal bt+G.men | Z59: G.men | AA59: Tường | AB59: Gạch | AE59: Tờ BĐ 86, thửa 1582; diện tích 929,6 m² đất trồng cây lâu năm. GCN do Quách Thị Tuyết Mai; Nguyễn Ngọc Trường đứng tên
A60: =IF(B60<>0,B60,A59) -> 5 | C60: 1065/1 Lâm Quang Ky, Phường Rạch Giá, tỉnh An Giang | N60: Sung E | O60: 1 | R60: Hàng rào song sắt, trụ sắt HR.14 (hỗ trợ 90%) | S60: m² | T60: 22.88 | AE60: Tỷ lệ mất đất: 9,4%
A61: =IF(B61<>0,B61,A60) -> 5 | C61: Vợ: Huỳnh Thị Thanh Hương | N61: Bông trang Đ | O61: 1 | R61: Ống nhựa BM phi 300 (hỗ trợ 90%) | S61: m | T61: 12
A62: =IF(B62<>0,B62,A61) -> 5 | N62: Bình bát C | O62: 1 | R62: Trụ sắt phi 90 (hỗ trợ 90%) | S62: m | T62: 6
A63: =IF(B63<>0,B63,A62) -> 5 | R63: Hàng rào lưới B40, trụ gỗ HR.18 (hỗ trợ 90%) | S63: m² | T63: 4.8
A64: =IF(B64<>0,B64,A63) -> 5 | R64: Trụ xây gạch (hỗ trợ 90%) | S64: m³ | T64: 0.1
A65: =IF(B65<>0,B65,A64) -> 5 | R65: Gạch men ốp (hỗ trợ 90%) | S65: m² | T65: 0.16
A66: =IF(B66<>0,B66,A65) -> 5
A67: =IF(B67<>0,B67,A66) -> 5
A68: =IF(B68<>0,B68,A67) -> 6 | B68: 6 | C68: Nguyễn Thị Tuyết Loan (GCN Quách Thị Tuyết Mai; Nguyễn Ngọc Trường) | D68: 2 | E68: 86 | F68: 1582 | G68: Đất trồng cây lâu năm (GCN) | H68: 23.9 | R68: Nền xi măng SN.01 (hỗ trợ 80%) | S68: m² | T68: 9.4 | AE68: Nguồn gốc đất do cha mẹ cho con là Nguyễn Thị Tuyết Loan ngày 18/6/2015 (giấy tay), một phần thửa đất có GCN số DN 948275 do Chi nhánh văn phòng ĐKĐĐ Thành Phố Rạch Giá cấp ngày 23/04/2024.
A69: =IF(B69<>0,B69,A68) -> 6 | C69: 1981 - 0911 8101 6007 | AE69: Tờ BĐ 86, thửa 1582; diện tích 929,6 m² đất trồng cây lâu năm. GCN do Quách Thị Tuyết Mai; Nguyễn Ngọc Trường đứng tên
A70: =IF(B70<>0,B70,A69) -> 6 | C70: 1065/7 Lâm Quang Ky, Phường Rạch Giá, tỉnh An Giang | AE70: Tỷ lệ mất đất: 2,6%
A71: =IF(B71<>0,B71,A70) -> 6
A72: =IF(B72<>0,B72,A71) -> 6
A73: =IF(B73<>0,B73,A72) -> 6
A74: =IF(B74<>0,B74,A73) -> 7 | B74: 7 | C74: Nguyễn Ngọc Hiếu (GCN Quách Thị Tuyết Mai; Nguyễn Ngọc Trường) | D74: 1 | E74: 86 | F74: 1582 | G74: Đất trồng cây lâu năm (GCN) | H74: 16.6 | R74: Nền xi măng SN.01 (hỗ trợ 80%) | S74: m² | T74: 22.9 | AE74: Nguồn gốc đất do cha mẹ cho con là Nguyễn Ngọc Hiếu ngày 18/6/2015 (giấy tay), một phần thửa đất có GCN số DN 948275 do Chi nhánh văn phòng ĐKĐĐ Thành Phố Rạch Giá cấp ngày 23/04/2024.
A75: =IF(B75<>0,B75,A74) -> 7 | C75: 1975 - 0910 7501 4086 | AE75: Tờ BĐ 86, thửa 1582; diện tích 929,6 m² đất trồng cây lâu năm. GCN do Quách Thị Tuyết Mai; Nguyễn Ngọc Trường đứng tên
A76: =IF(B76<>0,B76,A75) -> 7 | C76: 1065/3 Lâm Quang Ky, Phường Rạch Giá, tỉnh An Giang | AE76: Tỷ lệ mất đất: 1,8%
A77: =IF(B77<>0,B77,A76) -> 7
A78: =IF(B78<>0,B78,A77) -> 7
A79: =IF(B79<>0,B79,A78) -> 7
A80: =IF(B80<>0,B80,A79) -> 8 | B80: 8 | C80: Nguyễn Ngọc Thảo (GCN Quách Thị Tuyết Mai; Nguyễn Ngọc Trường) | D80: 3 | E80: 86 | F80: 1582 | G80: Đất trồng cây lâu năm (GCN) | H80: 23.5 | R80: Nhà C4.05 (hỗ trợ 80%) | S80: m² | T80: 17.39 | X80: Gạch | Y80: Tolv | Z80: G.men | AA80: Tường+tol | AB80: Gạch | AE80: Nguồn gốc đất do cha mẹ cho con là Nguyễn Ngọc Thảo ngày 18/6/2015 (giấy tay), một phần thửa đất có GCN số DN 948275 do Chi nhánh văn phòng ĐKĐĐ Thành Phố Rạch Giá cấp ngày 23/04/2024.
A81: =IF(B81<>0,B81,A80) -> 8 | C81: 1982 - 0910 8201 0257 | R81: Nền gạch men (hỗ trợ 80%) | S81: m² | T81: 10.8 | AE81: Tờ BĐ 86, thửa 1582; diện tích 929,6 m² đất trồng cây lâu năm. GCN do Quách Thị Tuyết Mai; Nguyễn Ngọc Trường đứng tên
A82: =IF(B82<>0,B82,A81) -> 8 | C82: 1065/5 Lâm Quang Ky, Phường Rạch Giá, tỉnh An Giang | AE82: Tỷ lệ mất đất: 2,5%
A83: =IF(B83<>0,B83,A82) -> 8 | AE83: Nhà xây dựng năm 2015
A84: =IF(B84<>0,B84,A83) -> 8
A85: =IF(B85<>0,B85,A84) -> 8
A86: =IF(B86<>0,B86,A85) -> 8
A87: =IF(B87<>0,B87,A86) -> 9 | B87: 9 | C87: Nguyễn Văn Phương | D87: 4 | E87: 86 | F87: 1581 | G87: Đất trồng cây lâu năm (GCN) | H87: 98.6 | R87: Nền gạch men | S87: m² | T87: 7.6 | AE87: Có GCN số DN 948274 do Chi nhánh văn phòng ĐKĐĐ Thành Phố Rạch Giá cấp ngày 23/04/2024.
A88: =IF(B88<>0,B88,A87) -> 9 | C88: 1981 - 0910 8101 7829 | AE88: Tờ BĐ 86, thửa 1581; diện tích: đất ở đô thị 951,7 m², đất trồng cây lâu năm 166,0 m²
A89: =IF(B89<>0,B89,A88) -> 9 | C89: Lê Chúc Xuân | AE89: Tỷ lệ mất đất: 59,4%
A90: =IF(B90<>0,B90,A89) -> 9 | C90: 1977 - 0911 7701 5749 | AE90: GCN đồng sử dụng
A91: =IF(B91<>0,B91,A90) -> 9 | C91: L3 - 34 Phan Thị Ràng, Phường Rạch Giá, tỉnh An Giang
A93: =IF(B93<>0,B93,A91) -> 9
A94: =IF(B94<>0,B94,A93) -> 10 | B94: 10 | C94: Thái Viết Tùng | D94: 1 | E94: 86 | F94: 198 | G94: Đất ở tại đô thị (GCN) | H94: 79.4 | R94: Hàng rào lưới B40, trụ đỗ cột BT HR.11 | S94: m² | T94: 80 | AE94: Có GCN số BL 298846 do UBND Thành phố Rạch Giá cấp ngày 31/07/2012.
A95: =IF(B95<>0,B95,A94) -> 10 | C95: 1989 - 0910 8900 4439 | E95: 86 | F95: 198 | G95: Đất trồng cây lâu năm (GCN) | H95: 44.1 | AE95: Tờ BĐ 86, thửa 198; diện tích: đất ở đô thị 659,5 m², đất trồng cây lâu năm 731,8 m², đất trồng lúa 1.550,9 m²
A96: =IF(B96<>0,B96,A95) -> 10 | C96: 986/30 Nguyễn Trung Trực, phường Rạch Giá, tỉnh An Giang | AE96: Tỷ lệ mất đất: 61,6% (6 thửa)
A97: =IF(B97<>0,B97,A96) -> 10 | AE97: Có số PA 70,71,72,98,175
A98: =IF(B98<>0,B98,A97) -> 10
A99: =IF(B99<>0,B99,A98) -> 10
A100: =IF(B100<>0,B100,A99) -> 10
A101: =IF(B101<>0,B101,A98) -> 11 | B101: 11 | C101: Trần Thị Minh Châu | D101: 7 | E101: 86 | F101: 318 | G101: Đất ở tại đô thị (GCN) | H101: 21 | AE101: Có GCN số CU 861005 do Sở TNMT tỉnh Kiên Giang cấp ngày 07/5/2020.
A102: =IF(B102<>0,B102,A101) -> 11 | C102: 1984 - 0911 8401 9983 | E102: 86 | F102: 318 | G102: Đất trồng cây lâu năm (GCN) | H102: 8.8 | AE102: Tờ BĐ 86, thửa 318; diện tích: đất ở đô thị 100,0 m², đất trồng cây lâu năm 216,3 m², đất trồng lúa 350,3 m².
A103: =IF(B103<>0,B103,A102) -> 11 | C103: Khu phố Phi Kinh, phường Rạch Giá, tỉnh An Giang | AE103: Tỷ lệ mất đất: 1,6%
A104: =IF(B104<>0,B104,A103) -> 11 | C104: Chồng: Trần Trung Toàn
...

Sheet Kangatang

Sheet Kangatang_2

Sheet Kangatang_3

Sheet Kangatang_4

Sheet Kangatang_5

Sheet Kangatang_6

Sheet Kangatang_7

Sheet Kangatang_8

Sheet Kangatang_9

Sheet Kangatang_10

Sheet Kangatang_11

Sheet Kangatang_12

Sheet Kangatang_13

Sheet Kangatang_14

Sheet Kangatang_15

Sheet Kangatang_16

Sheet Kangatang_17

Sheet Kangatang_18

Sheet Kangatang_19

Sheet Kangatang_20

Sheet Kangatang_21

Sheet Kangatang_22

Sheet Kangatang_23

Sheet Kangatang_24

Sheet Kangatang_25

Sheet Kangatang_26

Sheet Kangatang_27

Sheet Kangatang_28

Sheet Kangatang_29

Sheet Kangatang_30

Sheet Kangatang_31

Sheet Kangatang_32

Sheet Kangatang_33

Sheet Kangatang_34

Sheet Kangatang_35

Sheet Kangatang_36

Sheet Kangatang_37

Sheet Kangatang_38

Sheet Kangatang_39

Sheet Kangatang_40

Sheet Kangatang_41

Sheet Kangatang_42

Sheet Kangatang_43

Sheet Kangatang_44

Sheet Kangatang_45

Sheet Kangatang_46

Sheet Kangatang_47

Sheet Kangatang_48

Sheet Kangatang_49

Sheet Kangatang_50

Sheet Kangatang_51

Sheet NHAP
B1: =0.4+5.9-0.5 -> 5.8 | AL1: năm xây dựng nhà cung cấp sau
A2: BẢNG TỔNG HỢP BỒI THƯỜNG, HỖ TRỢ, TÁI ĐỊNH CƯ KHI NHÀ NƯỚC THU HỒI ĐẤT ĐỂ THỰC HIỆN DỰ ÁN: KHU TÁI ĐỊNH CƯ NAM AN HÒA (GIAI ĐOẠN 3)
A3: ĐỊA ĐIỂM: KHU PHỐ 2 AN HÒA VÀ KHU PHỐ 5 AN HÒA, PHƯỜNG RẠCH GIÁ, TỈNH AN GIANG
B4: 82997
B5: Họ và Tên | D5: Số | E5: Số | F5: Đất đai | M5: Cây trồng | R5: Vật kiến trúc | X5: Kết cấu | AD5: Chính sách bồi thường, hỗ trợ khác | AH5: Tổng | AI5: Các cơ sở pháp lý
A6: a | B6: Họ và Tên | C6: Địa chỉ thửa đất | D6: tờ | E6: th | F6: Loại đất | G6: DT (m2) | H6: Diện tích CĐN | I6: Đ.giá BT | J6: Đ.giá HT | K6: T.tiền BT | L6: T.tiền HT | M6: Loại cây | N6: DVT | O6: SL | P6: Đ.giá | Q6: T.tiền | R6: Hạng mục | S6: DV | T6: DT | U6: AH | V6: Đ.giá | W6: T.tiền | X6: Móng | Y6: Mái | Z6: Nền | AA6: Vách | AB6: Cột | AC6: Trần | AD6: Loại BT,HT | AE6: S.lượng | AF6: Đ.giá | AG6: T.tiền | AH6: T.tiền | AI6: Các thông tin được địa phương xác nhận về nguồn gốc đất, nhà vật kiến trúc trên đất | AJ6: Căn cứ cơ sở pháp lý
A7: Grand | B7: Tổng | G7: 82991.2 | H7: 43626.2 | K7: 66035954000 | L7: 62265448000 | O7: 16033.5 | Q7: 2065249500 | T7: 23019.546 | W7: 25201681000 | AE7: =SUBTOTAL(9,AE36:AE2426) -> 31 | AG7: 309000000 | AH7: 155877332500
A8: 3 | B8: Hộ Ông Quách Ngọc Nghé | C8: khu phố An Hoà 5, phường Rạch Giá, tỉnh An Giang | D8: 85 | E8: 37 | G8: 587.1 | H8: 405.4 | K8: 2987514000 | L8: 674261000 | O8: 605 | Q8: 76300000 | T8: 670.2 | W8: 1667759000 | AE8: =SUBTOTAL(9,AE9:AE34) -> 0 | AG8: 0 | AH8: 5405834000
A9: 3 | B9: 1943 - 0910 4300 2669 | D9: 85 | E9: 37 | F9: Đất ở đô thị (GCN) - VT1 - đường LQK (đoạn Đống Đa - Ngô Văn Sở) | G9: 124.2 | I9: 16800000 | J9: 0 | K9: 2086560000 | L9: 0 | M9: Dừa A | O9: 5 | P9: 1708000 | Q9: 8540000 | R9: Nhà C2.01 (hỗ trợ 90%) | S9: m² | T9: 104.4 | V9: 5789151 | W9: 604387000 | X9: Btct | Y9: Btct | Z9: G.men | AA9: Tường | AB9: Btct | AI9: Có GCN số BU 454890 do UBND Thành Phố Rạch Giá cấp ngày 22/10/2014. | AJ9: Giá bồi thường về đất theo Nghị quyết số 16/2025/NQ-HĐND ngày 30/12/2025 của Hội đồng nhân dân tỉnh AG và Quyết định số 69/2026/QĐ-UBND ngày 18/7/2026 của UBND tỉnh AG
A10: 3 | B10: 1065 Lâm Quang Ky, Phường Rạch Giá, tỉnh An Giang | D10: 85 | E10: 37 | F10: Đất ở đô thị (GCN) - VT2 - đường LQK (đoạn Đống Đa - Ngô Văn Sở) | G10: 57.5 | I10: 11760000 | J10: 0 | K10: 676200000 | L10: 0 | M10: Dừa B | O10: 2 | P10: 1122000 | Q10: 2244000 | R10: NTC.02 (hỗ trợ 90%) | S10: m² | T10: 47.94 | V10: 770070 | W10: 36917000 | Y10: Tolv | Z10: G.men | AB10: Sắt | AI10: Tờ BĐ 85, thửa 37; diện tích đất trồng cây lâu năm 2.316,8 m² | AJ10: Hỗ trợ CĐN và TKVL theo khoản 1, điều 13 Quyết định số 12/2025/QĐ-UBND ngày 30/9/2025 của UBND tỉnh AG
A11: 3 | B11: Vợ: Trang Thị Em | F11: Đất trồng cây lâu năm (GCN) - VT1 - Giáp đường LQK (đoạn Đống Đa - Ngô Văn Sở) - CĐN | G11: 354.5 | H11: 354.5 | I11: 554400 | J11: 1663200 | K11: 196535000 | L11: 589604000 | M11: Dừa C | O11: 5 | P11: 494000 | Q11: 2470000 | R11: Sân xi măng SN.01 (hỗ trợ 90%) | S11: m² | T11: 17.7 | U11: 12.7 | V11: 238288 | W11: 4218000 | AI11: Có GCN quyền sở hữu nhà ở và Quyền sử dụng đất ở, hồ sơ gốc số 484 do UBND tỉnh Kiên Giang cấp ngày 10/11/1998. | AJ11: Giá hỗ trợ VKT theo Quyết định số 11/QĐ-UBND ngày 31/3/2025 và khoản c, điều 5 Quyết định số 07/2026/QĐ-UBND ngày 12/02/2026 của UBND tỉnh AG | AK11: nguồn góc kí 354,5 bản đồ sửa
A12: 3 | F12: Đất trồng cây lâu năm-Ngoài GCN (LG) - VT1 - Giáp đường LQK (đoạn Đống Đa - Ngô Văn Sở) - CĐN | G12: 50.9 | H12: 50.9 | I12: 554400 | J12: 1663200 | K12: 28219000 | L12: 84657000 | M12: Dừa D | O12: 6 | P12: 211000 | Q12: 1266000 | R12: Nền xi măng SN.01 (hỗ trợ 90%) | S12: m² | T12: 17.9 | U12: 9.1 | V12: 238288 | W12: 4265000 | AI12: Tờ BĐ 85, thửa 37, diện tích đất ở 300,0 m² | AJ12: Giá bồi thường về cây trồng theo Quyết định số 18/QĐ-UBND ngày 02/12/2025 và Quyết định số 03/2026/QĐ-UBND ngày 22/01/2026 của UBND tỉnh AG
A13: 3 | M13: Mít B | O13: 4 | P13: 1632000 | Q13: 6528000 | R13: Nền gạch men (hỗ trợ 90%) | S13: m² | T13: 53.51 | V13: 275180 | W13: 14725000 | AI13: Có GCN quyền sở hữu nhà ở và quyền sử dụng đất ở, số hồ sơ gốc 0088/2009 do UBND thành phố Rạch Giá cấp ngày 22/1/2009. Diện tích sàn (nhà ở, căn hộ): 247,24 m². | AJ13: Hỗ trợ di chuyển nhà theo khoản 1, Điều 8, Quyết định số 12/2025/QĐ-UBND ngày 30/9/2025 của UBND tỉnh AG
A14: 3 | M14: Chuối A | O14: 152 | P14: 132000 | Q14: 20064000 | R14: Nền xi măng SN.02 (hỗ trợ 90%) | S14: m² | T14: 73.68 | V14: 265836 | W14: 19587000 | AI14: Nhà xây dựng năm 2001 | AJ14: Báo cáo số 06/BC-TTKĐ ngày 15 tháng 4 năm 2026 ngày 15 tháng 4 năm 2026 của Trung tâm kiểm định và Dịch vụ xây dựng - Sở Xây dựng tỉnh AG
A15: 3 | M15: Chuối B | O15: 101 | P15: 76000 | Q15: 7676000 | R15: WC+ Tắm (trong nhà) xí bệt, dán gạch men WC.01 (hỗ trợ 90%) | S15: m² | T15: 8.3 | V15: 9347414 | W15: 77584000 | X15: Btct | Y15: Btct | Z15: G.men | AA15: Tường | AB15: Btct | AI15: Phần diện tích 30,8 m² (LG) nằm ngoài GCN, có cùng nguồn gốc và thời điểm sử dụng theo GCN số BU 454890 do UBND Thành Phố Rạch Giá cấp ngày 22/10/2014.
A16: 3 | M16: Chuối C | O16: 145 | P16: 34000 | Q16: 4930000 | R16: Mái che tol (hỗ trợ 90%) | S16: m² | T16: 8.05 | V16: 0 | W16: 0 | AI16: CĐN theo mẫu 07 giấy xác nhận trực tiếp SXNN của UBND phường Rạch Giá
A17: 3 | M17: Đu đủ C | O17: 1 | P17: 45000 | Q17: 45000 | R17: Nền gạch men (hỗ trợ 90%) | S17: m² | T17: 8.05 | V17: 275180 | W17: 2215000
A18: 3 | M18: Xoài B | O18: 2 | P18: 3064000 | Q18: 6128000 | R18: Bồn BTCT (có nắp) BNN.01 (hỗ trợ 90%) | S18: m³ | T18: 20.13 | V18: 3878211 | W18: 78068000
A19: 3 | M19: Xoài C | O19: 1 | P19: 1035000 | Q19: 1035000 | R19: Hàng rào xây 10, song sắt, móng BTCT, trụ BTCT HR.14 (hỗ trợ 90%) | S19: m² | T19: 23.45 | V19: 890132 | W19: 20874000
A20: 3 | M20: Xoài D | O20: 2 | P20: 400000 | Q20: 800000 | R20: Chuồng gà (hỗ trợ 90%) | S20: m² | T20: 4.6 | V20: 0 | W20: 0 | Y20: Tolv | Z20: đất | AA20: lưới B40 | AB20: Sắt
A21: 3 | M21: Hạnh B | O21: 1 | P21: 300000 | Q21: 300000 | R21: Miếu xây C4.01 (hỗ trợ 90%) | S21: m² | T21: 1.2 | V21: 3764632 | W21: 4518000 | Y21: Ngói | Z21: G.men | AA21: Tường | AB21: Gạch
A22: 3 | M22: Sao E | O22: 1 | P22: 360000 | Q22: 360000 | R22: Chuồng gà (hỗ trợ 90%) | S22: m² | T22: 4.56 | V22: 0 | W22: 0 | Y22: Lưới B40 | Z22: Đất | AA22: lưới B40 | AB22: Gỗ<10
A23: 3 | M23: Bồ đề E | O23: 1 | P23: 60000 | Q23: 60000 | R23: Hàng rào xây 10, khung lưới B40, móng BTCT, trụ BTCT HR.08 (hỗ trợ 90%) | S23: m² | T23: 74.16 | V23: 830536 | W23: 61593000
A24: 3 | M24: Sộp H | O24: 1 | P24: 32000 | Q24: 32000 | R24: Hàng ba nhà C2.01*80% (tầng 1) (hỗ trợ 90%) | S24: m² | T24: 15.08 | V24: 4631321 | W24: 69840000 | Y24: Btct | Z24: G.men | AB24: Btct
A25: 3 | M25: Nhàu G | O25: 1 | P25: 60000 | Q25: 60000 | R25: Hàng ba C2.01*80% (tầng 1) (hỗ trợ 90%) | S25: m² | T25: 14.75 | V25: 4631321 | W25: 68312000 | Y25: Btct | Z25: G.men | AB25: Btct
A26: 3 | M26: Chanh C | O26: 1 | P26: 283000 | Q26: 283000 | R26: Nhà C2.07 (tầng 1) (hỗ trợ 90%) | S26: m² | T26: 88 | V26: 5469063 | W26: 481278000 | Y26: Tol giả ngói | Z26: G.men | AA26: Tường | AB26: Btct
A27: 3 | M27: Chanh D | O27: 1 | P27: 93000 | Q27: 93000 | R27: WC (Tầng 1) xí bệt, dán gạch men WC.01 (hỗ trợ 90%) | S27: m² | T27: 2.66 | V27: 9347414 | W27: 24864000 | Y27: Btct | Z27: G.men | AA27: Tường | AB27: Btct | AC27: Lima
A28: 3 | M28: Chuối A | O28: 63 | P28: 132000 | Q28: 8316000 | R28: Tắm (tầng 1) dán gạch men WC.10 (hỗ trợ 90%) | S28: m² | T28: 4 | V28: 3141561 | W28: 12566000 | Y28: Btct | Z28: G.men | AA28: Tường | AB28: Btct
A29: 3 | M29: Chuối B | O29: 44 | P29: 76000 | Q29: 3344000 | R29: Nền gạch men (hỗ trợ 90%) | S29: m² | T29: 47.94 | V29: 275180 | W29: 13192000
A30: 3 | M30: Chuối C | O30: 43 | P30: 34000 | Q30: 1462000 | R30: Hàng ba C2.22 x 80% (hỗ trợ 90%) | S30: m² | T30: 15.84 | V30: 4092245 | W30: 64821000
A31: 3 | M31: Rau màu các loại A (m²) | O31: 22 | P31: 12000 | Q31: 264000 | R31: Nền gạch men (hỗ trợ 90%) | S31: m² | T31: 14.3 | V31: 275180 | W31: 3935000
A32: 3
A33: 3
A34: 3
A35: 1 | B35: Quách Ngọc Tuấn | C35: khu phố An Hoà 5, phường Rạch Giá, tỉnh An Giang | G35: 0 | H35: 0 | K35: 0 | L35: 0 | O35: 0 | Q35: 0 | T35: 50.55 | W35: 61518000 | AE35: =SUBTOTAL(9,AE36:AE41) -> 1 | AG35: 5000000 | AH35: 66518000
A36: 1 | B36: 1974 - 0910 7400 2275 | R36: Nhà C4.05 (hỗ trợ 90%) | S36: m² | T36: 15.3 | V36: 3550600 | W36: 54324000 | X36: Gạch | Y36: Tolv | Z36: G.men | AA36: Tường | AB36: Gạch | AC36: Prima | AD36: Kinh doanh không đăng ký | AE36: 1 | AF36: 5000000 | AG36: 5000000 | AI36: Nhà xây dựng năm 2006, sửa lại năm 2015 cất trên đất Ông Quách Ngọc Nghé | AJ36: Giá hỗ trợ VKT theo Quyết định số 11/QĐ-UBND ngày 31/3/2025 và khoản c, điều 5 Quyết định số 07/2026/QĐ-UBND ngày 12/02/2026 của UBND tỉnh AG
A37: 1 | B37: 1065/1C Lâm Quang Ky, Phường Rạch Giá, tỉnh An Giang | R37: Mái che tol (hỗ trợ 90%) | S37: m² | T37: 5.85 | V37: 0 | W37: 0 | AI37: Kinh doanh mua bán tạp hóa (ko giấy phép) | AJ37: Hỗ trợ kinh doanh theo khoản 1, Điều 12, Quyết định số 12/2025/QĐ-UBND ngày 30/9/2025 của UBND tỉnh AG
A38: 1 | B38: Vợ: Trần Thị Kiều Oanh | R38: Nền xi măng SN.01 (hỗ trợ 90%) | S38: m² | T38: 14.1 | V38: 238288 | W38: 3360000 | AJ38: Báo cáo số 06/BC-TTKĐ ngày 15 tháng 4 năm 2026 ngày 15 tháng 4 năm 2026 của Trung tâm kiểm định và Dịch vụ xây dựng - Sở Xây dựng tỉnh AG
A39: 1 | R39: Trần Prima (hỗ trợ 90%) | S39: m² | T39: 15.3 | V39: 250583 | W39: 3834000
A40: 1
A41: 1
A42: 2 | B42: Hộ Ông Quách Ngọc Nghé | C42: khu phố An Hoà 5, phường Rạch Giá, tỉnh An Giang | G42: 25.9 | H42: 0 | K42: 14359000 | L42: 0 | O42: 0 | Q42: 0 | T42: 0 | W42: 0 | AE42: =SUBTOTAL(9,AE43:AE48) -> 0 | AG42: 0 | AH42: 14359000
A43: 2 | B43: 1943 - 0910 4300 2669 | F43: Đất trồng cây lâu năm ngoài GCN (LG) - VT1 - giáp đường LQK (đoạn Đống Đa - Ngô Văn Sở) - trừ VKT | G43: 25.9 | I43: 554400 | J43: 0 | K43: 14359000 | L43: 0 | AI43: Nguồn gốc đất Phần diện tích 10,5 m² nằm ngoài GCN thuộc đất HLATGT, có cùng nguồn gốc và thời điểm sử dụng theo GCN số BU 454890 do UBND Thành Phố Rạch Giá cấp ngày 22/10/2014 do Hộ Ông Quách Ngọc Nghé đứng tên. hiện trạng do cha Quách Ngọc Nghé cho con là Quách Ngọc Tuấn ngày 12/6/2006 (giấy tay). | AJ43: Giá bồi thường về đất theo Nghị quyết số 16/2025/NQ-HĐND ngày 30/12/2025 của Hội đồng nhân dân tỉnh AG và Quyết định số 69/2026/QĐ-UBND ngày 18/7/2026 của UBND tỉnh AG
A44: 2 | B44: 1065 Lâm Quang Ky, Phường Rạch Giá, tỉnh An Giang
A45: 2 | B45: Vợ: Trang Thị Em
A46: 2
A47: 2
A48: 2
A49: 4 | B49: Hộ Ông Quách Ngọc Nghé | C49: khu phố An Hoà 5, phường Rạch Giá, tỉnh An Giang | D49: 85 | E49: 37 | G49: 35.7 | H49: 0 | K49: 48927000 | L49: 0 | O49: 0 | Q49: 0 | T49: 0 | W49: 0 | AE49: =SUBTOTAL(9,AE50:AE57) -> 0 | AG49: 0 | AH49: 48927000
A50: 4 | B50: 1943 - 0910 4300 2669 | D50: 85 | E50: 37 | F50: Đất ở đô thị (GCN) - VT2 - đường LQK (đoạn Đống Đa - Ngô Văn Sở) | G50: 2.6 | I50: 11760000 | J50: 0 | K50: 30576000 | L50: 0 | AI50: Nguồn gốc đất có GCN số BU 454890 do UBND Thành phố Rạch giá cấp ngày 22/10/2014. Tờ BĐ 85, thửa 37; diện tích đất trồng cây lâu năm 2.316,8 m². GCN do Quách Ngọc Nghé đứng tên. hiện trạng cha Quách Ngọc Nghé cho con là Quách Thị Thủy ngày 12/6/2006 (giấy tay), một phần thửa đất | AJ50: Giá bồi thường về đất theo Nghị quyết số 16/2025/NQ-HĐND ngày 30/12/2025 của Hội đồng nhân dân tỉnh AG và Quyết định số 69/2026/QĐ-UBND ngày 18/7/2026 của UBND tỉnh AG
A51: 4 | B51: 1065 Lâm Quang Ky, Phường Rạch Giá, tỉnh An Giang | F51: Đất trồng cây lâu năm (GCN) - VT1 - Giáp đường LQK (đoạn Đống Đa - Ngô Văn Sở) - trừ VKT | G51: 33.1 | I51: 554400 | J51: 0 | K51: 18351000 | L51: 0
A52: 4 | B52: Vợ: Trang Thị Em
A53: 4
A54: 4
A55: 4
A56: 4
A57: 4
A58: 5 | B58: Hộ Ông Quách Ngọc Nghé | C58: khu phố An Hoà 5, phường Rạch Giá, tỉnh An Giang | D58: 85 | E58: 37 | G58: 35.6 | H58: 0 | K58: 19737000 | L58: 0 | O58: 0 | Q58: 0 | T58: 0 | W58: 0 | AE58: =SUBTOTAL(9,AE59:AE66) -> 0 | AG58: 0 | AH58: 19737000
A59: 5 | B59: 1943 - 0910 4300 2669 | F59: Đất trồng cây lâu năm (GCN) - VT1 - Giáp đường LQK (đoạn Đống Đa - Ngô Văn Sở) - trừ VKT | G59: 35.6 | I59: 554400 | J59: 0 | K59: 19737000 | L59: 0 | AI59: Nguồn gốc đất có GCN số BU 454890 do UBND Thành phố Rạch giá cấp ngày 22/10/2014. Tờ BĐ 85, thửa 37; diện tích đất trồng cây lâu năm, diện tích 2.316,8 m². GCN do Quách Ngọc Nghé đứng tên. hiện trạng do cha Quách Ngọc Nghé cho con là Quách Ngọc Dũng ngày 12/6/2006 (giấy tay), một phần thửa đất | AJ59: Giá bồi thường về đất theo Nghị quyết số 16/2025/NQ-HĐND ngày 30/12/2025 của Hội đồng nhân dân tỉnh AG và Quyết định số 69/2026/QĐ-UBND ngày 18/7/2026 của UBND tỉnh AG
A60: 5 | B60: 1065 Lâm Quang Ky, Phường Rạch Giá, tỉnh An Giang
A61: 5 | B61: Vợ: Trang Thị Em
A62: 5
A63: 5
A64: 5
A65: 5
A66: 5
A67: 6 | B67: Quách Thị Thủy | C67: khu phố An Hoà 5, phường Rạch Giá, tỉnh An Giang | G67: 0 | H67: 0 | K67: 0 | L67: 0 | O67: 0 | Q67: 0 | T67: 56.05 | W67: 180951000 | AE67: =SUBTOTAL(9,AE68:AE76) -> 0 | AG67: 0 | AH67: 180951000
A68: 6 | B68: 1968 - 0911 6800 5041 | R68: Nhà C2.07 (hỗ trợ 90%) | S68: m² | T68: 31.5 | V68: 5469063 | W68: 172275000 | X68: Btct | Y68: Tolv | Z68: G.men | AA68: Tường | AB68: Btct | AC68: Trần nhựa | AI68: Nhà xây dựng năm 2006, sửa lại năm 2021 | AJ68: Giá hỗ trợ VKT theo Quyết định số 11/QĐ-UBND ngày 31/3/2025 và khoản c, điều 5 Quyết định số 07/2026/QĐ-UBND ngày 12/02/2026 của UBND tỉnh AG
A69: 6 | B69: 1065/1 Lâm Quang Ky, Phường Rạch Giá, tỉnh An Giang | R69: Nền xi măng SN.01 (hỗ trợ 90%) | S69: m² | T69: 5.4 | V69: 238288 | W69: 1287000 | AJ69: Báo cáo số 06/BC-TTKĐ ngày 15 tháng 4 năm 2026 ngày 15 tháng 4 năm 2026 của Trung tâm kiểm định và Dịch vụ xây dựng - Sở Xây dựng tỉnh AG
A70: 6 | R70: Nền gạch men (hỗ trợ 90%) | S70: m² | T70: 9.84 | V70: 275180 | W70: 2708000
A71: 6 | R71: Hàng rào khung lưới B40, trụ sắt HR.18 (hỗ trợ 90%) | S71: m² | T71: 9.28 | V71: 496651 | W71: 4609000
A72: 6 | R72: Đal BT ông thiên (hỗ trợ 90%) | S72: m³ | T72: 0.01 | V72: 0 | W72: 0
A73: 6 | R73: Trụ xây gạch (hỗ trợ 90%) | S73: m³ | T73: 0.02 | V73: 3591896 | W73: 72000
A74: 6
A75: 6
A76: 6
A77: 7 | B77: Quách Ngọc Dũng | C77: khu phố An Hoà 5, phường Rạch Giá, tỉnh An Giang | G77: 0 | H77: 0 | K77: 0 | L77: 0 | O77: 0 | Q77: 0 | T77: 59.47 | W77: 173830000 | AE77: =SUBTOTAL(9,AE78:AE84) -> 0 | AG77: 0 | AH77: 173830000
A78: 7 | B78: 1970 - 0910 7000 8356 | R78: Nhà C3.05 (hỗ trợ 90%) | S78: m² | T78: 31.95 | V78: 5307665 | W78: 169580000 | X78: Btct | Y78: Tolv | Z78: G.men | AA78: Tường | AB78: Btct | AC78: Trần nhựa | AI78: Nhà xây dựng năm 2006 | AJ78: Giá hỗ trợ VKT theo Quyết định số 11/QĐ-UBND ngày 31/3/2025 và khoản c, điều 5 Quyết định số 07/2026/QĐ-UBND ngày 12/02/2026 của UBND tỉnh AG
A79: 7 | B79: 1065/1B Lâm Quang Ky, Phường Rạch Giá, tỉnh An Giang | R79: Nền xi măng SN.01 (hỗ trợ 90%) | S79: m² | T79: 7.2 | V79: 238288 | W79: 1716000 | AJ79: Báo cáo số 06/BC-TTKĐ ngày 15 tháng 4 năm 2026 ngày 15 tháng 4 năm 2026 của Trung tâm kiểm định và Dịch vụ xây dựng - Sở Xây dựng tỉnh AG
A80: 7 | R80: Nền xi măng SN.01 (hỗ trợ 90%) | S80: m² | T80: 10.44 | V80: 238288 | W80: 2488000 | Y80: Btct | Z80: G.men | AA80: Tường | AB80: Btct
A81: 7 | R81: Mái che tol (hỗ trợ 90%) | S81: m² | T81: 8.1 | V81: 0 | W81: 0
A82: 7 | R82: Đal bt (hỗ trợ 90%) | S82: m³ | T82: 1.62 | V82: 0 | W82: 0
A83: 7 | R83: Gạch men ốp (hỗ trợ 90%) | S83: m² | T83: 0.16 | V83: 286855 | W83: 46000
A84: 7
A85: 8 | B85: Quách Thị Tuyết Mai; Nguyễn Ngọc Trường | C85: khu phố An Hoà 5, phường Rạch Giá, tỉnh An Giang | D85: 86 | E85: 1582 | G85: 24.6 | H85: 0 | K85: 13638000 | L85: 0 | O85: 0 | Q85: 0 | T85: 0 | W85: 0 | AE85: =SUBTOTAL(9,AE86:AE91) -> 0 | AG85: 0 | AH85: 13638000
A86: 8 | B86: 1949 - 0911 4900 5395 1949 - 0830 4900 4059 | F86: Đất trồng cây lâu năm (GCN) - VT1 giáp hẻm 1065 (ngăn cách mương) | G86: 24.6 | I86: 554400 | J86: 0 | K86: 13638000 | L86: 0 | AI86: Nguồn gốc đất có GCN số DN 948275 do Chi nhánh văn phòng ĐKĐĐ Thành Phố Rạch Giá cấp ngày 23/04/2024. Tờ BĐ 86, thửa 1582; diện tích 929,6 m² đất trồng cây lâu năm. GCN do Quách Thị Tuyết Mai; Nguyễn Ngọc Trường đứng tên. hiện trạng do cha mẹ cho con là Nguyễn Ngọc Trung năm 1990 (không có giấy tay), một phần thửa đất | AJ86: Giá bồi thường về đất theo Nghị quyết số 16/2025/NQ-HĐND ngày 30/12/2025 của Hội đồng nhân dân tỉnh AG và Quyết định số 69/2026/QĐ-UBND ngày 18/7/2026 của UBND tỉnh AG | AK86: chưa thông tin CĐN
A87: 8 | B87: 818 Ngô Quyền, phường Rạch Giá, tỉnh An Giang | AI87: Chưa lập hồ sơ chính chủ
A88: 8
A89: 8
A90: 8
A91: 8
A92: 9 | B92: Quách Thị Tuyết Mai; Nguyễn Ngọc Trường | C92: khu phố An Hoà 5, phường Rạch Giá, tỉnh An Giang | D92: 86 | E92: 1582 | G92: 23.9 | H92: 0 | K92: 13250000 | L92: 0 | O92: 0 | Q92: 0 | T92: 0 | W92: 0 | AE92: =SUBTOTAL(9,AE93:AE97) -> 0 | AG92: 0 | AH92: 13250000
A93: 9 | B93: 1949 - 0911 4900 5395 1949 - 0830 4900 4059 | F93: Đất trồng cây lâu năm (GCN) - VT1 giáp hẻm 1065 (ngăn cách mương) | G93: 23.9 | I93: 554400 | J93: 0 | K93: 13250000 | L93: 0 | AI93: Nguồn gốc đất có GCN số DN 948275 do Chi nhánh văn phòng ĐKĐĐ Thành Phố Rạch Giá cấp ngày 23/04/2024.Tờ BĐ 86, thửa 1582; diện tích 929,6 m² đất trồng cây lâu năm. GCN do Quách Thị Tuyết Mai; Nguyễn Ngọc Trường đứng tên. hiện trạng do cha mẹ cho con là Nguyễn Thị Tuyết Loan ngày 18/6/2015 (giấy tay), một phần thửa đất | AJ93: Giá bồi thường về đất theo Nghị quyết số 16/2025/NQ-HĐND ngày 30/12/2025 của Hội đồng nhân dân tỉnh AG và Quyết định số 69/2026/QĐ-UBND ngày 18/7/2026 của UBND tỉnh AG | AK93: chưa thông tin CĐN
A94: 9 | B94: 818 Ngô Quyền, phường Rạch Giá, tỉnh An Giang | AI94: Chưa lập hồ sơ chính chủ
A95: 9
A96: 9
A97: 9
A98: 10 | B98: Quách Thị Tuyết Mai; Nguyễn Ngọc Trường | C98: khu phố An Hoà 5, phường Rạch Giá, tỉnh An Giang | D98: 86 | E98: 1582 | G98: 16.6 | H98: 0 | K98: 9203000 | L98: 0 | O98: 0 | Q98: 0 | T98: 0 | W98: 0 | AE98: =SUBTOTAL(9,AE99:AE102) -> 0 | AG98: 0 | AH98: 9203000
A99: 10 | B99: 1949 - 0911 4900 5395 1949 - 0830 4900 4059 | F99: Đất trồng cây lâu năm (GCN) - VT1 giáp hẻm 1065 (ngăn cách mương) | G99: 16.6 | I99: 554400 | J99: 0 | K99: 9203000 | L99: 0 | AI99: Nguồn gốc đất ó GCN số DN 948275 do Chi nhánh văn phòng ĐKĐĐ Thành Phố Rạch Giá cấp ngày 23/04/2024.Tờ BĐ 86, thửa 1582; diện tích 929,6 m² đất trồng cây lâu năm. GCN do Quách Thị Tuyết Mai; Nguyễn Ngọc Trường đứng tên. hiện trạng do cha mẹ cho con là Nguyễn Ngọc Hiếu ngày 18/6/2015 (giấy tay), một phần thửa đất | AJ99: Giá bồi thường về đất theo Nghị quyết số 16/2025/NQ-HĐND ngày 30/12/2025 của Hội đồng nhân dân tỉnh AG và Quyết định số 69/2026/QĐ-UBND ngày 18/7/2026 của UBND tỉnh AG | AK99: chưa thông tin CĐN
A100: 10 | B100: 818 Ngô Quyền, phường Rạch Giá, tỉnh An Giang | AI100: Chưa lập hồ sơ chính chủ
...

Sheet Kangatang_52

Sheet Kangatang_53

Sheet Kangatang_54

Sheet Kangatang_55

Sheet Kangatang_56

Sheet Kangatang_57

Sheet con to do BTH
B1: =H7+C1 -> 82997 | C1: =0.4+5.9-0.5 -> 5.8 | AM1: năm xây dựng nhà cung cấp sau
A2: BẢNG TỔNG HỢP BỒI THƯỜNG, HỖ TRỢ, TÁI ĐỊNH CƯ KHI NHÀ NƯỚC THU HỒI ĐẤT ĐỂ THỰC HIỆN DỰ ÁN: KHU TÁI ĐỊNH CƯ NAM AN HÒA (GIAI ĐOẠN 3)
A3: ĐỊA ĐIỂM: KHU PHỐ 2 AN HÒA VÀ KHU PHỐ 5 AN HÒA, PHƯỜNG RẠCH GIÁ, TỈNH AN GIANG
B4: =C4-B1 -> 0 | C4: 82997
B5: Số | C5: Họ và Tên | D5: Số | E5: Số | F5: Số | G5: Đất đai | O5: Cây trồng | S5: Vật kiến trúc | Y5: Kết cấu | AE5: Chính sách bồi thường, hỗ trợ khác | AI5: Tổng | AJ5: Các cơ sở pháp lý
A6: a | B6: PA | D6: kh | E6: tờ | F6: th | G6: Loại đất | H6: DT (m2) | I6: Diện tích CĐN | J6: AH | K6: Đ.giá BT | L6: Đ.giá HT | M6: T.tiền BT | N6: T.tiền HT | O6: Loại cây | P6: SL | Q6: Đ.giá | R6: T.tiền | S6: Hạng mục | T6: DV | U6: DT | V6: AH | W6: Đ.giá | X6: T.tiền | Y6: Móng | Z6: Mái | AA6: Nền | AB6: Vách | AC6: Cột | AD6: Trần | AE6: Loại BT,HT | AF6: S.lượng | AG6: Đ.giá | AH6: T.tiền | AI6: T.tiền | AJ6: Các thông tin được địa phương xác nhận về nguồn gốc đất, nhà vật kiến trúc trên đất | AK6: Căn cứ cơ sở pháp lý
A7: Grand Total | C7: Tổng | H7: =SUBTOTAL(9,H9:H2439) -> 82991.2 | I7: =SUBTOTAL(9,I9:I2439) -> 43626.2 | M7: =SUBTOTAL(9,M9:M2439) -> 70703020000 | N7: =SUBTOTAL(9,N9:N2439) -> 62265448000 | P7: =SUBTOTAL(9,P9:P2439) -> 16033.5 | R7: =SUBTOTAL(9,R9:R2439) -> 2065249500 | U7: =SUBTOTAL(9,U9:U2439) -> 23019.546 | X7: =SUBTOTAL(9,X9:X2439) -> 25201681000 | AF7: =SUBTOTAL(9,AF9:AF2439) -> 31 | AH7: =SUBTOTAL(9,AH9:AH2439) -> 309000000 | AI7: =SUBTOTAL(9,AI8:AI2439) -> 160544398500
A8: 1 Total | B8: 1 | C8: Quách Ngọc Tuấn | H8: =SUBTOTAL(9,H9:H14) -> 0 | I8: =SUBTOTAL(9,I9:I14) -> 0 | M8: =SUBTOTAL(9,M9:M14) -> 0 | N8: =SUBTOTAL(9,N9:N14) -> 0 | P8: =SUBTOTAL(9,P9:P14) -> 0 | R8: =SUBTOTAL(9,R9:R14) -> 0 | U8: =SUBTOTAL(9,U9:U14) -> 50.55 | X8: =SUBTOTAL(9,X9:X14) -> 61518000 | AF8: =SUBTOTAL(9,AF9:AF14) -> 1 | AH8: =SUBTOTAL(9,AH9:AH14) -> 5000000 | AI8: =IF(B8<>0,M8+N8+R8+X8+AH8," ") -> 66518000
A9: =IF(B8<>0,B8,A6) -> 1 | C9: 1974 - 0910 7400 2275 | D9: 4 | K9: =IF(G9<>0,VLOOKUP(G9,'gia dat'!$A$1:$F$144,5,0)," ") | L9: =IF(G9<>0,VLOOKUP(G9,'gia dat'!$A$1:$F$144,6,0)," ") | M9: =IF(H9<>0,ROUND(H9*K9,-3)," ") | N9: =IF(H9<>0,ROUND(H9*L9,-3)," ") | Q9: =IF(O9<>0,VLOOKUP(O9,'Cây trong'!$A$2:$C$246,3,0)," ") | R9: =IF(O9<>0,ROUND(P9*Q9,-2)," ") | S9: Nhà C4.05 (hỗ trợ 90%) | T9: m² | U9: 15.3 | W9: =IF(S9<>0,VLOOKUP(S9,VKT!$A$2:$G$415,7,0),"") -> 3550600 | X9: =IF(S9<>0,ROUND(U9*W9,-3)," ") -> 54324000 | Y9: Gạch | Z9: Tolv | AA9: G.men | AB9: Tường | AC9: Gạch | AD9: Prima | AE9: Kinh doanh không đăng ký | AF9: 1 | AG9: =IF(AE9<>0,VLOOKUP(AE9,ODDS!$A$2:$C$13,3,0),"") -> 5000000 | AH9: =IF(AE9<>0,ROUND(AF9*AG9,-2)," ") -> 5000000 | AI9: =IF(B9<>0,M9+N9+R9+X9+AH9," ") | AJ9: Nhà xây dựng năm 2006, sửa lại năm 2015 cất trên đất Ông Quách Ngọc Nghé | AK9: Giá hỗ trợ VKT theo Quyết định số 11/QĐ-UBND ngày 31/3/2025 và khoản c, điều 5 Quyết định số 07/2026/QĐ-UBND ngày 12/02/2026 của UBND tỉnh AG
A10: =IF(B9<>0,B9,A9) -> 1 | C10: 1065/1C Lâm Quang Ky, Phường Rạch Giá, tỉnh An Giang | K10: =IF(G10<>0,VLOOKUP(G10,'gia dat'!$A$1:$F$144,5,0)," ") | L10: =IF(G10<>0,VLOOKUP(G10,'gia dat'!$A$1:$F$144,6,0)," ") | M10: =IF(H10<>0,ROUND(H10*K10,-3)," ") | N10: =IF(H10<>0,ROUND(H10*L10,-3)," ") | Q10: =IF(O10<>0,VLOOKUP(O10,'Cây trong'!$A$2:$C$246,3,0)," ") | R10: =IF(O10<>0,ROUND(P10*Q10,-2)," ") | S10: Mái che tol (hỗ trợ 90%) | T10: m² | U10: 5.85 | W10: =IF(S10<>0,VLOOKUP(S10,VKT!$A$2:$G$415,7,0),"") -> 0 | X10: =IF(S10<>0,ROUND(U10*W10,-3)," ") -> 0 | AG10: =IF(AE10<>0,VLOOKUP(AE10,ODDS!$A$2:$C$13,3,0),"") | AH10: =IF(AE10<>0,ROUND(AF10*AG10,-2)," ") | AI10: =IF(B10<>0,M10+N10+R10+X10+AH10," ") | AJ10: Kinh doanh mua bán tạp hóa (ko giấy phép) | AK10: Hỗ trợ kinh doanh theo khoản 1, Điều 12, Quyết định số 12/2025/QĐ-UBND ngày 30/9/2025 của UBND tỉnh AG
A11: =IF(B10<>0,B10,A10) -> 1 | C11: Vợ: Trần Thị Kiều Oanh | K11: =IF(G11<>0,VLOOKUP(G11,'gia dat'!$A$1:$F$144,5,0)," ") | L11: =IF(G11<>0,VLOOKUP(G11,'gia dat'!$A$1:$F$144,6,0)," ") | M11: =IF(H11<>0,ROUND(H11*K11,-3)," ") | N11: =IF(H11<>0,ROUND(H11*L11,-3)," ") | Q11: =IF(O11<>0,VLOOKUP(O11,'Cây trong'!$A$2:$C$246,3,0)," ") | R11: =IF(O11<>0,ROUND(P11*Q11,-2)," ") | S11: Nền xi măng SN.01 (hỗ trợ 90%) | T11: m² | U11: 14.1 | W11: =IF(S11<>0,VLOOKUP(S11,VKT!$A$2:$G$415,7,0),"") -> 238288 | X11: =IF(S11<>0,ROUND(U11*W11,-3)," ") -> 3360000 | AG11: =IF(AE11<>0,VLOOKUP(AE11,ODDS!$A$2:$C$13,3,0),"") | AH11: =IF(AE11<>0,ROUND(AF11*AG11,-2)," ") | AI11: =IF(B11<>0,M11+N11+R11+X11+AH11," ") | AK11: Báo cáo số 06/BC-TTKĐ ngày 15 tháng 4 năm 2026 ngày 15 tháng 4 năm 2026 của Trung tâm kiểm định và Dịch vụ xây dựng - Sở Xây dựng tỉnh AG
A12: =IF(B11<>0,B11,A11) -> 1 | K12: =IF(G12<>0,VLOOKUP(G12,'gia dat'!$A$1:$F$144,5,0)," ") | L12: =IF(G12<>0,VLOOKUP(G12,'gia dat'!$A$1:$F$144,6,0)," ") | M12: =IF(H12<>0,ROUND(H12*K12,-3)," ") | N12: =IF(H12<>0,ROUND(H12*L12,-3)," ") | Q12: =IF(O12<>0,VLOOKUP(O12,'Cây trong'!$A$2:$C$246,3,0)," ") | R12: =IF(O12<>0,ROUND(P12*Q12,-2)," ") | S12: Trần Prima (hỗ trợ 90%) | T12: m² | U12: 15.3 | W12: =IF(S12<>0,VLOOKUP(S12,VKT!$A$2:$G$415,7,0),"") -> 250583 | X12: =IF(S12<>0,ROUND(U12*W12,-3)," ") -> 3834000 | AG12: =IF(AE12<>0,VLOOKUP(AE12,ODDS!$A$2:$C$13,3,0),"") | AH12: =IF(AE12<>0,ROUND(AF12*AG12,-2)," ") | AI12: =IF(B12<>0,M12+N12+R12+X12+AH12," ")
A13: =IF(B12<>0,B12,A12) -> 1 | K13: =IF(G13<>0,VLOOKUP(G13,'gia dat'!$A$1:$F$144,5,0)," ") | L13: =IF(G13<>0,VLOOKUP(G13,'gia dat'!$A$1:$F$144,6,0)," ") | M13: =IF(H13<>0,ROUND(H13*K13,-3)," ") | N13: =IF(H13<>0,ROUND(H13*L13,-3)," ") | W13: =IF(S13<>0,VLOOKUP(S13,VKT!$A$2:$G$415,7,0),"") | X13: =IF(S13<>0,ROUND(U13*W13,-3)," ") | AG13: =IF(AE13<>0,VLOOKUP(AE13,ODDS!$A$2:$C$13,3,0),"") | AI13: =IF(B13<>0,M13+N13+R13+X13+AH13," ")
A14: =IF(B13<>0,B13,A13) -> 1 | K14: =IF(G14<>0,VLOOKUP(G14,'gia dat'!$A$1:$F$144,5,0)," ") | L14: =IF(G14<>0,VLOOKUP(G14,'gia dat'!$A$1:$F$144,6,0)," ") | M14: =IF(H14<>0,ROUND(H14*K14,-3)," ") | N14: =IF(H14<>0,ROUND(H14*L14,-3)," ") | W14: =IF(S14<>0,VLOOKUP(S14,VKT!$A$2:$G$415,7,0),"") | X14: =IF(S14<>0,ROUND(U14*W14,-3)," ") | AG14: =IF(AE14<>0,VLOOKUP(AE14,ODDS!$A$2:$C$13,3,0),"") | AI14: =IF(B14<>0,M14+N14+R14+X14+AH14," ")
A15: 2 Total | B15: 2 | C15: Hộ Ông Quách Ngọc Nghé | H15: =SUBTOTAL(9,H16:H21) -> 25.9 | I15: =SUBTOTAL(9,I16:I21) -> 0 | M15: =SUBTOTAL(9,M16:M21) -> 14359000 | N15: =SUBTOTAL(9,N16:N21) -> 0 | P15: =SUBTOTAL(9,P16:P21) -> 0 | R15: =SUBTOTAL(9,R16:R21) -> 0 | U15: =SUBTOTAL(9,U16:U21) -> 0 | X15: =SUBTOTAL(9,X16:X21) -> 0 | AF15: =SUBTOTAL(9,AF16:AF21) -> 0 | AH15: =SUBTOTAL(9,AH16:AH21) -> 0 | AI15: =IF(B15<>0,M15+N15+R15+X15+AH15," ") -> 14359000
A16: =IF(B15<>0,B15,A14) -> 2 | C16: 1943 - 0910 4300 2669 | G16: Đất trồng cây lâu năm ngoài GCN (LG) - VT1 - giáp đường LQK (đoạn Đống Đa - Ngô Văn Sở) - trừ VKT | H16: 25.9 | I16: =IF(N16>0,H16,"") | K16: =IF(G16<>0,VLOOKUP(G16,'gia dat'!$A$1:$F$144,5,0)," ") -> 554400 | L16: =IF(G16<>0,VLOOKUP(G16,'gia dat'!$A$1:$F$144,6,0)," ") -> 0 | M16: =IF(H16<>0,ROUND(H16*K16,-3)," ") -> 14359000 | N16: =IF(H16<>0,ROUND(H16*L16,-3)," ") -> 0 | W16: =IF(S16<>0,VLOOKUP(S16,VKT!$A$2:$G$415,7,0),"") | X16: =IF(S16<>0,ROUND(U16*W16,-3)," ") | AG16: =IF(AE16<>0,VLOOKUP(AE16,ODDS!$A$2:$C$13,3,0),"") | AI16: =IF(B16<>0,M16+N16+R16+X16+AH16," ") | AJ16: Nguồn gốc đất Phần diện tích 10,5 m² nằm ngoài GCN thuộc đất HLATGT, có cùng nguồn gốc và thời điểm sử dụng theo GCN số BU 454890 do UBND Thành Phố Rạch Giá cấp ngày 22/10/2014 do Hộ Ông Quách Ngọc Nghé đứng tên. hiện trạng do cha Quách Ngọc Nghé cho con là Quách Ngọc Tuấn ngày 12/6/2006 (giấy tay). | AK16: Giá bồi thường về đất theo Nghị quyết số 16/2025/NQ-HĐND ngày 30/12/2025 của Hội đồng nhân dân tỉnh AG và Quyết định số 69/2026/QĐ-UBND ngày 18/7/2026 của UBND tỉnh AG
A17: =IF(B16<>0,B16,A16) -> 2 | C17: 1065 Lâm Quang Ky, Phường Rạch Giá, tỉnh An Giang | K17: =IF(G17<>0,VLOOKUP(G17,'gia dat'!$A$1:$F$144,5,0)," ") | L17: =IF(G17<>0,VLOOKUP(G17,'gia dat'!$A$1:$F$144,6,0)," ") | M17: =IF(H17<>0,ROUND(H17*K17,-3)," ") | N17: =IF(H17<>0,ROUND(H17*L17,-3)," ") | W17: =IF(S17<>0,VLOOKUP(S17,VKT!$A$2:$G$415,7,0),"") | X17: =IF(S17<>0,ROUND(U17*W17,-3)," ") | AG17: =IF(AE17<>0,VLOOKUP(AE17,ODDS!$A$2:$C$13,3,0),"") | AI17: =IF(B17<>0,M17+N17+R17+X17+AH17," ")
A18: =IF(B17<>0,B17,A17) -> 2 | C18: Vợ: Trang Thị Em | K18: =IF(G18<>0,VLOOKUP(G18,'gia dat'!$A$1:$F$144,5,0)," ") | L18: =IF(G18<>0,VLOOKUP(G18,'gia dat'!$A$1:$F$144,6,0)," ") | M18: =IF(H18<>0,ROUND(H18*K18,-3)," ") | N18: =IF(H18<>0,ROUND(H18*L18,-3)," ") | W18: =IF(S18<>0,VLOOKUP(S18,VKT!$A$2:$G$415,7,0),"") | X18: =IF(S18<>0,ROUND(U18*W18,-3)," ") | AG18: =IF(AE18<>0,VLOOKUP(AE18,ODDS!$A$2:$C$13,3,0),"") | AI18: =IF(B18<>0,M18+N18+R18+X18+AH18," ")
A19: =IF(B18<>0,B18,A18) -> 2 | K19: =IF(G19<>0,VLOOKUP(G19,'gia dat'!$A$1:$F$144,5,0)," ") | L19: =IF(G19<>0,VLOOKUP(G19,'gia dat'!$A$1:$F$144,6,0)," ") | M19: =IF(H19<>0,ROUND(H19*K19,-3)," ") | N19: =IF(H19<>0,ROUND(H19*L19,-3)," ") | W19: =IF(S19<>0,VLOOKUP(S19,VKT!$A$2:$G$415,7,0),"") | X19: =IF(S19<>0,ROUND(U19*W19,-3)," ") | AG19: =IF(AE19<>0,VLOOKUP(AE19,ODDS!$A$2:$C$13,3,0),"") | AI19: =IF(B19<>0,M19+N19+R19+X19+AH19," ")
A20: =IF(B19<>0,B19,A19) -> 2 | K20: =IF(G20<>0,VLOOKUP(G20,'gia dat'!$A$1:$F$144,5,0)," ") | L20: =IF(G20<>0,VLOOKUP(G20,'gia dat'!$A$1:$F$144,6,0)," ") | M20: =IF(H20<>0,ROUND(H20*K20,-3)," ") | N20: =IF(H20<>0,ROUND(H20*L20,-3)," ") | Q20: =IF(O20<>0,VLOOKUP(O20,'Cây trong'!$A$2:$C$246,3,0)," ") | R20: =IF(O20<>0,ROUND(P20*Q20,-2)," ") | W20: =IF(S20<>0,VLOOKUP(S20,VKT!$A$2:$G$415,7,0),"") | X20: =IF(S20<>0,ROUND(U20*W20,-3)," ") | AG20: =IF(AE20<>0,VLOOKUP(AE20,ODDS!$A$2:$C$13,3,0),"") | AH20: =IF(AE20<>0,ROUND(AF20*AG20,-2)," ") | AI20: =IF(B20<>0,M20+N20+R20+X20+AH20," ")
A21: =IF(B20<>0,B20,A20) -> 2 | K21: =IF(G21<>0,VLOOKUP(G21,'gia dat'!$A$1:$F$144,5,0)," ") | L21: =IF(G21<>0,VLOOKUP(G21,'gia dat'!$A$1:$F$144,6,0)," ") | M21: =IF(H21<>0,ROUND(H21*K21,-3)," ") | N21: =IF(H21<>0,ROUND(H21*L21,-3)," ") | Q21: =IF(O21<>0,VLOOKUP(O21,'Cây trong'!$A$2:$C$246,3,0)," ") | R21: =IF(O21<>0,ROUND(P21*Q21,-2)," ") | W21: =IF(S21<>0,VLOOKUP(S21,VKT!$A$2:$G$415,7,0),"") | X21: =IF(S21<>0,ROUND(U21*W21,-3)," ") | AG21: =IF(AE21<>0,VLOOKUP(AE21,ODDS!$A$2:$C$13,3,0),"") | AH21: =IF(AE21<>0,ROUND(AF21*AG21,-2)," ") | AI21: =IF(B21<>0,M21+N21+R21+X21+AH21," ")
A22: 3 Total | B22: 3 | C22: Hộ Ông Quách Ngọc Nghé | H22: =SUBTOTAL(9,H23:H48) -> 587.1 | I22: =SUBTOTAL(9,I23:I28) -> 405.4 | M22: =SUBTOTAL(9,M23:M48) -> 2987514000 | N22: =SUBTOTAL(9,N23:N48) -> 674261000 | P22: =SUBTOTAL(9,P23:P48) -> 605 | R22: =SUBTOTAL(9,R23:R48) -> 76300000 | U22: =SUBTOTAL(9,U23:U48) -> 670.2 | X22: =SUBTOTAL(9,X23:X48) -> 1667759000 | AF22: =SUBTOTAL(9,AF23:AF48) -> 0 | AH22: =SUBTOTAL(9,AH23:AH48) -> 0 | AI22: =IF(B22<>0,M22+N22+R22+X22+AH22," ") -> 5405834000
A23: =IF(B22<>0,B22,A21) -> 3 | C23: 1943 - 0910 4300 2669 | D23: 12 | E23: 85 | F23: 37 | G23: Đất ở đô thị (GCN) - VT1 - đường LQK (đoạn Đống Đa - Ngô Văn Sở) | H23: 124.2 | I23: =IF(N23>0,H23,"") | K23: =IF(G23<>0,VLOOKUP(G23,'gia dat'!$A$1:$F$144,5,0)," ") -> 16800000 | L23: =IF(G23<>0,VLOOKUP(G23,'gia dat'!$A$1:$F$144,6,0)," ") -> 0 | M23: =IF(H23<>0,ROUND(H23*K23,-3)," ") -> 2086560000 | N23: =IF(H23<>0,ROUND(H23*L23,-3)," ") -> 0 | O23: Dừa A | P23: 5 | Q23: =IF(O23<>0,VLOOKUP(O23,'Cây trong'!$A$2:$C$246,3,0)," ") -> 1708000 | R23: =IF(O23<>0,ROUND(P23*Q23,-2)," ") -> 8540000 | S23: Nhà C2.01 (hỗ trợ 90%) | T23: m² | U23: 104.4 | W23: =IF(S23<>0,VLOOKUP(S23,VKT!$A$2:$G$415,7,0),"") -> 5789151 | X23: =IF(S23<>0,ROUND(U23*W23,-3)," ") -> 604387000 | Y23: Btct | Z23: Btct | AA23: G.men | AB23: Tường | AC23: Btct | AG23: =IF(AE23<>0,VLOOKUP(AE23,ODDS!$A$2:$C$13,3,0),"") | AI23: =IF(B23<>0,M23+N23+R23+X23+AH23," ") | AJ23: Có GCN số BU 454890 do UBND Thành Phố Rạch Giá cấp ngày 22/10/2014. | AK23: Giá bồi thường về đất theo Nghị quyết số 16/2025/NQ-HĐND ngày 30/12/2025 của Hội đồng nhân dân tỉnh AG và Quyết định số 69/2026/QĐ-UBND ngày 18/7/2026 của UBND tỉnh AG
A24: =IF(B23<>0,B23,A23) -> 3 | C24: 1065 Lâm Quang Ky, Phường Rạch Giá, tỉnh An Giang | E24: 85 | F24: 37 | G24: Đất ở đô thị (GCN) - VT2 - đường LQK (đoạn Đống Đa - Ngô Văn Sở) | H24: =181.7-H23 -> 57.5 | I24: =IF(N24>0,H24,"") | K24: =IF(G24<>0,VLOOKUP(G24,'gia dat'!$A$1:$F$144,5,0)," ") -> 11760000 | L24: =IF(G24<>0,VLOOKUP(G24,'gia dat'!$A$1:$F$144,6,0)," ") -> 0 | M24: =IF(H24<>0,ROUND(H24*K24,-3)," ") -> 676200000 | N24: =IF(H24<>0,ROUND(H24*L24,-3)," ") -> 0 | O24: Dừa B | P24: 2 | Q24: =IF(O24<>0,VLOOKUP(O24,'Cây trong'!$A$2:$C$246,3,0)," ") -> 1122000 | R24: =IF(O24<>0,ROUND(P24*Q24,-2)," ") -> 2244000 | S24: NTC.02 (hỗ trợ 90%) | T24: m² | U24: 47.94 | W24: =IF(S24<>0,VLOOKUP(S24,VKT!$A$2:$G$415,7,0),"") -> 770070 | X24: =IF(S24<>0,ROUND(U24*W24,-3)," ") -> 36917000 | Z24: Tolv | AA24: G.men | AC24: Sắt | AG24: =IF(AE24<>0,VLOOKUP(AE24,ODDS!$A$2:$C$13,3,0),"") | AH24: =IF(AE24<>0,ROUND(AF24*AG24,-2)," ") | AI24: =IF(B24<>0,M24+N24+R24+X24+AH24," ") | AJ24: Tờ BĐ 85, thửa 37; diện tích đất trồng cây lâu năm 2.316,8 m² | AK24: Hỗ trợ CĐN và TKVL theo khoản 1, điều 13 Quyết định số 12/2025/QĐ-UBND ngày 30/9/2025 của UBND tỉnh AG
A25: =IF(B24<>0,B24,A24) -> 3 | C25: Vợ: Trang Thị Em | E25: 85 | F25: 37 | G25: Đất trồng cây lâu năm (GCN) - VT1 - Giáp đường LQK (đoạn Đống Đa - Ngô Văn Sở) - CĐN | H25: 354.5 | I25: =IF(N25>0,H25,"") -> 354.5 | K25: =IF(G25<>0,VLOOKUP(G25,'gia dat'!$A$1:$F$144,5,0)," ") -> 554400 | L25: =IF(G25<>0,VLOOKUP(G25,'gia dat'!$A$1:$F$144,6,0)," ") -> 1663200 | M25: =IF(H25<>0,ROUND(H25*K25,-3)," ") -> 196535000 | N25: =IF(H25<>0,ROUND(H25*L25,-3)," ") -> 589604000 | O25: Dừa C | P25: 5 | Q25: =IF(O25<>0,VLOOKUP(O25,'Cây trong'!$A$2:$C$246,3,0)," ") -> 494000 | R25: =IF(O25<>0,ROUND(P25*Q25,-2)," ") -> 2470000 | S25: Sân xi măng SN.01 (hỗ trợ 90%) | T25: m² | U25: 17.7 | V25: 12.7 | W25: =IF(S25<>0,VLOOKUP(S25,VKT!$A$2:$G$415,7,0),"") -> 238288 | X25: =IF(S25<>0,ROUND(U25*W25,-3)," ") -> 4218000 | AG25: =IF(AE25<>0,VLOOKUP(AE25,ODDS!$A$2:$C$13,3,0),"") | AH25: =IF(AE25<>0,ROUND(AF25*AG25,-2)," ") | AI25: =IF(B25<>0,M25+N25+R25+X25+AH25," ") | AJ25: Có GCN quyền sở hữu nhà ở và Quyền sử dụng đất ở, hồ sơ gốc số 484 do UBND tỉnh Kiên Giang cấp ngày 10/11/1998. | AK25: Giá hỗ trợ VKT theo Quyết định số 11/QĐ-UBND ngày 31/3/2025 và khoản c, điều 5 Quyết định số 07/2026/QĐ-UBND ngày 12/02/2026 của UBND tỉnh AG | AL25: nguồn góc kí 354,5 bản đồ sửa
A26: =IF(B25<>0,B25,A25) -> 3 | G26: Đất trồng cây lâu năm-Ngoài GCN (LG) - VT1 - Giáp đường LQK (đoạn Đống Đa - Ngô Văn Sở) - CĐN | H26: 50.9 | I26: =IF(N26>0,H26,"") -> 50.9 | K26: =IF(G26<>0,VLOOKUP(G26,'gia dat'!$A$1:$F$144,5,0)," ") -> 554400 | L26: =IF(G26<>0,VLOOKUP(G26,'gia dat'!$A$1:$F$144,6,0)," ") -> 1663200 | M26: =IF(H26<>0,ROUND(H26*K26,-3)," ") -> 28219000 | N26: =IF(H26<>0,ROUND(H26*L26,-3)," ") -> 84657000 | O26: Dừa D | P26: 6 | Q26: =IF(O26<>0,VLOOKUP(O26,'Cây trong'!$A$2:$C$246,3,0)," ") -> 211000 | R26: =IF(O26<>0,ROUND(P26*Q26,-2)," ") -> 1266000 | S26: Nền xi măng SN.01 (hỗ trợ 90%) | T26: m² | U26: 17.9 | V26: 9.1 | W26: =IF(S26<>0,VLOOKUP(S26,VKT!$A$2:$G$415,7,0),"") -> 238288 | X26: =IF(S26<>0,ROUND(U26*W26,-3)," ") -> 4265000 | AG26: =IF(AE26<>0,VLOOKUP(AE26,ODDS!$A$2:$C$13,3,0),"") | AH26: =IF(AE26<>0,ROUND(AF26*AG26,-2)," ") | AI26: =IF(B26<>0,M26+N26+R26+X26+AH26," ") | AJ26: Tờ BĐ 85, thửa 37, diện tích đất ở 300,0 m² | AK26: Giá bồi thường về cây trồng theo Quyết định số 18/QĐ-UBND ngày 02/12/2025 và Quyết định số 03/2026/QĐ-UBND ngày 22/01/2026 của UBND tỉnh AG
A27: =IF(B26<>0,B26,A26) -> 3 | K27: =IF(G27<>0,VLOOKUP(G27,'gia dat'!$A$1:$F$144,5,0)," ") | L27: =IF(G27<>0,VLOOKUP(G27,'gia dat'!$A$1:$F$144,6,0)," ") | M27: =IF(H27<>0,ROUND(H27*K27,-3)," ") | N27: =IF(H27<>0,ROUND(H27*L27,-3)," ") | O27: Mít B | P27: 4 | Q27: =IF(O27<>0,VLOOKUP(O27,'Cây trong'!$A$2:$C$246,3,0)," ") -> 1632000 | R27: =IF(O27<>0,ROUND(P27*Q27,-2)," ") -> 6528000 | S27: Nền gạch men (hỗ trợ 90%) | T27: m² | U27: 53.51 | W27: =IF(S27<>0,VLOOKUP(S27,VKT!$A$2:$G$415,7,0),"") -> 275180 | X27: =IF(S27<>0,ROUND(U27*W27,-3)," ") -> 14725000 | AG27: =IF(AE27<>0,VLOOKUP(AE27,ODDS!$A$2:$C$13,3,0),"") | AH27: =IF(AE27<>0,ROUND(AF27*AG27,-2)," ") | AI27: =IF(B27<>0,M27+N27+R27+X27+AH27," ") | AJ27: Có GCN quyền sở hữu nhà ở và quyền sử dụng đất ở, số hồ sơ gốc 0088/2009 do UBND thành phố Rạch Giá cấp ngày 22/1/2009. Diện tích sàn (nhà ở, căn hộ): 247,24 m². | AK27: Hỗ trợ di chuyển nhà theo khoản 1, Điều 8, Quyết định số 12/2025/QĐ-UBND ngày 30/9/2025 của UBND tỉnh AG
A28: =IF(B27<>0,B27,A27) -> 3 | K28: =IF(G28<>0,VLOOKUP(G28,'gia dat'!$A$1:$F$144,5,0)," ") | L28: =IF(G28<>0,VLOOKUP(G28,'gia dat'!$A$1:$F$144,6,0)," ") | M28: =IF(H28<>0,ROUND(H28*K28,-3)," ") | N28: =IF(H28<>0,ROUND(H28*L28,-3)," ") | O28: Chuối A | P28: 152 | Q28: =IF(O28<>0,VLOOKUP(O28,'Cây trong'!$A$2:$C$246,3,0)," ") -> 132000 | R28: =IF(O28<>0,ROUND(P28*Q28,-2)," ") -> 20064000 | S28: Nền xi măng SN.02 (hỗ trợ 90%) | T28: m² | U28: 73.68 | W28: =IF(S28<>0,VLOOKUP(S28,VKT!$A$2:$G$415,7,0),"") -> 265836 | X28: =IF(S28<>0,ROUND(U28*W28,-3)," ") -> 19587000 | AG28: =IF(AE28<>0,VLOOKUP(AE28,ODDS!$A$2:$C$13,3,0),"") | AH28: =IF(AE28<>0,ROUND(AF28*AG28,-2)," ") | AI28: =IF(B28<>0,M28+N28+R28+X28+AH28," ") | AJ28: Nhà xây dựng năm 2001 | AK28: Báo cáo số 06/BC-TTKĐ ngày 15 tháng 4 năm 2026 ngày 15 tháng 4 năm 2026 của Trung tâm kiểm định và Dịch vụ xây dựng - Sở Xây dựng tỉnh AG
A29: =IF(B28<>0,B28,A28) -> 3 | K29: =IF(G29<>0,VLOOKUP(G29,'gia dat'!$A$1:$F$144,5,0)," ") | L29: =IF(G29<>0,VLOOKUP(G29,'gia dat'!$A$1:$F$144,6,0)," ") | M29: =IF(H29<>0,ROUND(H29*K29,-3)," ") | N29: =IF(H29<>0,ROUND(H29*L29,-3)," ") | O29: Chuối B | P29: 101 | Q29: =IF(O29<>0,VLOOKUP(O29,'Cây trong'!$A$2:$C$246,3,0)," ") -> 76000 | R29: =IF(O29<>0,ROUND(P29*Q29,-2)," ") -> 7676000 | S29: WC+ Tắm (trong nhà) xí bệt, dán gạch men WC.01 (hỗ trợ 90%) | T29: m² | U29: 8.3 | W29: =IF(S29<>0,VLOOKUP(S29,VKT!$A$2:$G$415,7,0),"") -> 9347414 | X29: =IF(S29<>0,ROUND(U29*W29,-3)," ") -> 77584000 | Y29: Btct | Z29: Btct | AA29: G.men | AB29: Tường | AC29: Btct | AG29: =IF(AE29<>0,VLOOKUP(AE29,ODDS!$A$2:$C$13,3,0),"") | AH29: =IF(AE29<>0,ROUND(AF29*AG29,-2)," ") | AI29: =IF(B29<>0,M29+N29+R29+X29+AH29," ") | AJ29: Phần diện tích 30,8 m² (LG) nằm ngoài GCN, có cùng nguồn gốc và thời điểm sử dụng theo GCN số BU 454890 do UBND Thành Phố Rạch Giá cấp ngày 22/10/2014.
A30: =IF(B29<>0,B29,A29) -> 3 | K30: =IF(G30<>0,VLOOKUP(G30,'gia dat'!$A$1:$F$144,5,0)," ") | L30: =IF(G30<>0,VLOOKUP(G30,'gia dat'!$A$1:$F$144,6,0)," ") | M30: =IF(H30<>0,ROUND(H30*K30,-3)," ") | N30: =IF(H30<>0,ROUND(H30*L30,-3)," ") | O30: Chuối C | P30: 145 | Q30: =IF(O30<>0,VLOOKUP(O30,'Cây trong'!$A$2:$C$246,3,0)," ") -> 34000 | R30: =IF(O30<>0,ROUND(P30*Q30,-2)," ") -> 4930000 | S30: Mái che tol (hỗ trợ 90%) | T30: m² | U30: 8.05 | W30: =IF(S30<>0,VLOOKUP(S30,VKT!$A$2:$G$415,7,0),"") -> 0 | X30: =IF(S30<>0,ROUND(U30*W30,-3)," ") -> 0 | AG30: =IF(AE30<>0,VLOOKUP(AE30,ODDS!$A$2:$C$13,3,0),"") | AH30: =IF(AE30<>0,ROUND(AF30*AG30,-2)," ") | AI30: =IF(B30<>0,M30+N30+R30+X30+AH30," ") | AJ30: CĐN theo mẫu 07 giấy xác nhận trực tiếp SXNN của UBND phường Rạch Giá
A31: =IF(B30<>0,B30,A30) -> 3 | K31: =IF(G31<>0,VLOOKUP(G31,'gia dat'!$A$1:$F$144,5,0)," ") | L31: =IF(G31<>0,VLOOKUP(G31,'gia dat'!$A$1:$F$144,6,0)," ") | M31: =IF(H31<>0,ROUND(H31*K31,-3)," ") | N31: =IF(H31<>0,ROUND(H31*L31,-3)," ") | O31: Đu đủ C | P31: 1 | Q31: =IF(O31<>0,VLOOKUP(O31,'Cây trong'!$A$2:$C$246,3,0)," ") -> 45000 | R31: =IF(O31<>0,ROUND(P31*Q31,-2)," ") -> 45000 | S31: Nền gạch men (hỗ trợ 90%) | T31: m² | U31: 8.05 | W31: =IF(S31<>0,VLOOKUP(S31,VKT!$A$2:$G$415,7,0),"") -> 275180 | X31: =IF(S31<>0,ROUND(U31*W31,-3)," ") -> 2215000 | AG31: =IF(AE31<>0,VLOOKUP(AE31,ODDS!$A$2:$C$13,3,0),"") | AH31: =IF(AE31<>0,ROUND(AF31*AG31,-2)," ") | AI31: =IF(B31<>0,M31+N31+R31+X31+AH31," ")
A32: =IF(B31<>0,B31,A31) -> 3 | K32: =IF(G32<>0,VLOOKUP(G32,'gia dat'!$A$1:$F$144,5,0)," ") | L32: =IF(G32<>0,VLOOKUP(G32,'gia dat'!$A$1:$F$144,6,0)," ") | M32: =IF(H32<>0,ROUND(H32*K32,-3)," ") | N32: =IF(H32<>0,ROUND(H32*L32,-3)," ") | O32: Xoài B | P32: 2 | Q32: =IF(O32<>0,VLOOKUP(O32,'Cây trong'!$A$2:$C$246,3,0)," ") -> 3064000 | R32: =IF(O32<>0,ROUND(P32*Q32,-2)," ") -> 6128000 | S32: Bồn BTCT (có nắp) BNN.01 (hỗ trợ 90%) | T32: m³ | U32: 20.13 | W32: =IF(S32<>0,VLOOKUP(S32,VKT!$A$2:$G$415,7,0),"") -> 3878211 | X32: =IF(S32<>0,ROUND(U32*W32,-3)," ") -> 78068000 | AG32: =IF(AE32<>0,VLOOKUP(AE32,ODDS!$A$2:$C$13,3,0),"") | AH32: =IF(AE32<>0,ROUND(AF32*AG32,-2)," ") | AI32: =IF(B32<>0,M32+N32+R32+X32+AH32," ")
A33: =IF(B32<>0,B32,A32) -> 3 | K33: =IF(G33<>0,VLOOKUP(G33,'gia dat'!$A$1:$F$144,5,0)," ") | L33: =IF(G33<>0,VLOOKUP(G33,'gia dat'!$A$1:$F$144,6,0)," ") | M33: =IF(H33<>0,ROUND(H33*K33,-3)," ") | N33: =IF(H33<>0,ROUND(H33*L33,-3)," ") | O33: Xoài C | P33: 1 | Q33: =IF(O33<>0,VLOOKUP(O33,'Cây trong'!$A$2:$C$246,3,0)," ") -> 1035000 | R33: =IF(O33<>0,ROUND(P33*Q33,-2)," ") -> 1035000 | S33: Hàng rào xây 10, song sắt, móng BTCT, trụ BTCT HR.14 (hỗ trợ 90%) | T33: m² | U33: 23.45 | W33: =IF(S33<>0,VLOOKUP(S33,VKT!$A$2:$G$415,7,0),"") -> 890132 | X33: =IF(S33<>0,ROUND(U33*W33,-3)," ") -> 20874000 | AG33: =IF(AE33<>0,VLOOKUP(AE33,ODDS!$A$2:$C$13,3,0),"") | AH33: =IF(AE33<>0,ROUND(AF33*AG33,-2)," ") | AI33: =IF(B33<>0,M33+N33+R33+X33+AH33," ")
A34: =IF(B33<>0,B33,A33) -> 3 | K34: =IF(G34<>0,VLOOKUP(G34,'gia dat'!$A$1:$F$144,5,0)," ") | L34: =IF(G34<>0,VLOOKUP(G34,'gia dat'!$A$1:$F$144,6,0)," ") | M34: =IF(H34<>0,ROUND(H34*K34,-3)," ") | N34: =IF(H34<>0,ROUND(H34*L34,-3)," ") | O34: Xoài D | P34: 2 | Q34: =IF(O34<>0,VLOOKUP(O34,'Cây trong'!$A$2:$C$246,3,0)," ") -> 400000 | R34: =IF(O34<>0,ROUND(P34*Q34,-2)," ") -> 800000 | S34: Chuồng gà (hỗ trợ 90%) | T34: m² | U34: 4.6 | W34: =IF(S34<>0,VLOOKUP(S34,VKT!$A$2:$G$415,7,0),"") -> 0 | X34: =IF(S34<>0,ROUND(U34*W34,-3)," ") -> 0 | Z34: Tolv | AA34: đất | AB34: lưới B40 | AC34: Sắt | AG34: =IF(AE34<>0,VLOOKUP(AE34,ODDS!$A$2:$C$13,3,0),"") | AH34: =IF(AE34<>0,ROUND(AF34*AG34,-2)," ") | AI34: =IF(B34<>0,M34+N34+R34+X34+AH34," ")
A35: =IF(B34<>0,B34,A34) -> 3 | K35: =IF(G35<>0,VLOOKUP(G35,'gia dat'!$A$1:$F$144,5,0)," ") | L35: =IF(G35<>0,VLOOKUP(G35,'gia dat'!$A$1:$F$144,6,0)," ") | M35: =IF(H35<>0,ROUND(H35*K35,-3)," ") | N35: =IF(H35<>0,ROUND(H35*L35,-3)," ") | O35: Hạnh B | P35: 1 | Q35: =IF(O35<>0,VLOOKUP(O35,'Cây trong'!$A$2:$C$246,3,0)," ") -> 300000 | R35: =IF(O35<>0,ROUND(P35*Q35,-2)," ") -> 300000 | S35: Miếu xây C4.01 (hỗ trợ 90%) | T35: m² | U35: 1.2 | W35: =IF(S35<>0,VLOOKUP(S35,VKT!$A$2:$G$415,7,0),"") -> 3764632 | X35: =IF(S35<>0,ROUND(U35*W35,-3)," ") -> 4518000 | Z35: Ngói | AA35: G.men | AB35: Tường | AC35: Gạch | AG35: =IF(AE35<>0,VLOOKUP(AE35,ODDS!$A$2:$C$13,3,0),"") | AH35: =IF(AE35<>0,ROUND(AF35*AG35,-2)," ") | AI35: =IF(B35<>0,M35+N35+R35+X35+AH35," ")
A36: =IF(B35<>0,B35,A35) -> 3 | K36: =IF(G36<>0,VLOOKUP(G36,'gia dat'!$A$1:$F$144,5,0)," ") | L36: =IF(G36<>0,VLOOKUP(G36,'gia dat'!$A$1:$F$144,6,0)," ") | M36: =IF(H36<>0,ROUND(H36*K36,-3)," ") | N36: =IF(H36<>0,ROUND(H36*L36,-3)," ") | O36: Sao E | P36: 1 | Q36: =IF(O36<>0,VLOOKUP(O36,'Cây trong'!$A$2:$C$246,3,0)," ") -> 360000 | R36: =IF(O36<>0,ROUND(P36*Q36,-2)," ") -> 360000 | S36: Chuồng gà (hỗ trợ 90%) | T36: m² | U36: 4.56 | W36: =IF(S36<>0,VLOOKUP(S36,VKT!$A$2:$G$415,7,0),"") -> 0 | X36: =IF(S36<>0,ROUND(U36*W36,-3)," ") -> 0 | Z36: Lưới B40 | AA36: Đất | AB36: lưới B40 | AC36: Gỗ<10 | AG36: =IF(AE36<>0,VLOOKUP(AE36,ODDS!$A$2:$C$13,3,0),"") | AH36: =IF(AE36<>0,ROUND(AF36*AG36,-2)," ") | AI36: =IF(B36<>0,M36+N36+R36+X36+AH36," ")
A37: =IF(B36<>0,B36,A36) -> 3 | K37: =IF(G37<>0,VLOOKUP(G37,'gia dat'!$A$1:$F$144,5,0)," ") | L37: =IF(G37<>0,VLOOKUP(G37,'gia dat'!$A$1:$F$144,6,0)," ") | M37: =IF(H37<>0,ROUND(H37*K37,-3)," ") | N37: =IF(H37<>0,ROUND(H37*L37,-3)," ") | O37: Bồ đề E | P37: 1 | Q37: =IF(O37<>0,VLOOKUP(O37,'Cây trong'!$A$2:$C$246,3,0)," ") -> 60000 | R37: =IF(O37<>0,ROUND(P37*Q37,-2)," ") -> 60000 | S37: Hàng rào xây 10, khung lưới B40, móng BTCT, trụ BTCT HR.08 (hỗ trợ 90%) | T37: m² | U37: 74.16 | W37: =IF(S37<>0,VLOOKUP(S37,VKT!$A$2:$G$415,7,0),"") -> 830536 | X37: =IF(S37<>0,ROUND(U37*W37,-3)," ") -> 61593000 | AG37: =IF(AE37<>0,VLOOKUP(AE37,ODDS!$A$2:$C$13,3,0),"") | AH37: =IF(AE37<>0,ROUND(AF37*AG37,-2)," ") | AI37: =IF(B37<>0,M37+N37+R37+X37+AH37," ")
A38: =IF(B37<>0,B37,A37) -> 3 | K38: =IF(G38<>0,VLOOKUP(G38,'gia dat'!$A$1:$F$144,5,0)," ") | L38: =IF(G38<>0,VLOOKUP(G38,'gia dat'!$A$1:$F$144,6,0)," ") | M38: =IF(H38<>0,ROUND(H38*K38,-3)," ") | N38: =IF(H38<>0,ROUND(H38*L38,-3)," ") | O38: Sộp H | P38: 1 | Q38: =IF(O38<>0,VLOOKUP(O38,'Cây trong'!$A$2:$C$246,3,0)," ") -> 32000 | R38: =IF(O38<>0,ROUND(P38*Q38,-2)," ") -> 32000 | S38: Hàng ba nhà C2.01*80% (tầng 1) (hỗ trợ 90%) | T38: m² | U38: 15.08 | W38: =IF(S38<>0,VLOOKUP(S38,VKT!$A$2:$G$415,7,0),"") -> 4631321 | X38: =IF(S38<>0,ROUND(U38*W38,-3)," ") -> 69840000 | Z38: Btct | AA38: G.men | AC38: Btct | AG38: =IF(AE38<>0,VLOOKUP(AE38,ODDS!$A$2:$C$13,3,0),"") | AH38: =IF(AE38<>0,ROUND(AF38*AG38,-2)," ") | AI38: =IF(B38<>0,M38+N38+R38+X38+AH38," ")
A39: =IF(B38<>0,B38,A38) -> 3 | K39: =IF(G39<>0,VLOOKUP(G39,'gia dat'!$A$1:$F$144,5,0)," ") | L39: =IF(G39<>0,VLOOKUP(G39,'gia dat'!$A$1:$F$144,6,0)," ") | M39: =IF(H39<>0,ROUND(H39*K39,-3)," ") | N39: =IF(H39<>0,ROUND(H39*L39,-3)," ") | O39: Nhàu G | P39: 1 | Q39: =IF(O39<>0,VLOOKUP(O39,'Cây trong'!$A$2:$C$246,3,0)," ") -> 60000 | R39: =IF(O39<>0,ROUND(P39*Q39,-2)," ") -> 60000 | S39: Hàng ba C2.01*80% (tầng 1) (hỗ trợ 90%) | T39: m² | U39: 14.75 | W39: =IF(S39<>0,VLOOKUP(S39,VKT!$A$2:$G$415,7,0),"") -> 4631321 | X39: =IF(S39<>0,ROUND(U39*W39,-3)," ") -> 68312000 | Z39: Btct | AA39: G.men | AC39: Btct | AG39: =IF(AE39<>0,VLOOKUP(AE39,ODDS!$A$2:$C$13,3,0),"") | AH39: =IF(AE39<>0,ROUND(AF39*AG39,-2)," ") | AI39: =IF(B39<>0,M39+N39+R39+X39+AH39," ")
A40: =IF(B39<>0,B39,A39) -> 3 | K40: =IF(G40<>0,VLOOKUP(G40,'gia dat'!$A$1:$F$144,5,0)," ") | L40: =IF(G40<>0,VLOOKUP(G40,'gia dat'!$A$1:$F$144,6,0)," ") | M40: =IF(H40<>0,ROUND(H40*K40,-3)," ") | N40: =IF(H40<>0,ROUND(H40*L40,-3)," ") | O40: Chanh C | P40: 1 | Q40: =IF(O40<>0,VLOOKUP(O40,'Cây trong'!$A$2:$C$246,3,0)," ") -> 283000 | R40: =IF(O40<>0,ROUND(P40*Q40,-2)," ") -> 283000 | S40: Nhà C2.07 (tầng 1) (hỗ trợ 90%) | T40: m² | U40: 88 | W40: =IF(S40<>0,VLOOKUP(S40,VKT!$A$2:$G$415,7,0),"") -> 5469063 | X40: =IF(S40<>0,ROUND(U40*W40,-3)," ") -> 481278000 | Z40: Tol giả ngói | AA40: G.men | AB40: Tường | AC40: Btct | AG40: =IF(AE40<>0,VLOOKUP(AE40,ODDS!$A$2:$C$13,3,0),"") | AH40: =IF(AE40<>0,ROUND(AF40*AG40,-2)," ") | AI40: =IF(B40<>0,M40+N40+R40+X40+AH40," ")
A41: =IF(B40<>0,B40,A40) -> 3 | K41: =IF(G41<>0,VLOOKUP(G41,'gia dat'!$A$1:$F$144,5,0)," ") | L41: =IF(G41<>0,VLOOKUP(G41,'gia dat'!$A$1:$F$144,6,0)," ") | M41: =IF(H41<>0,ROUND(H41*K41,-3)," ") | N41: =IF(H41<>0,ROUND(H41*L41,-3)," ") | O41: Chanh D | P41: 1 | Q41: =IF(O41<>0,VLOOKUP(O41,'Cây trong'!$A$2:$C$246,3,0)," ") -> 93000 | R41: =IF(O41<>0,ROUND(P41*Q41,-2)," ") -> 93000 | S41: WC (Tầng 1) xí bệt, dán gạch men WC.01 (hỗ trợ 90%) | T41: m² | U41: 2.66 | W41: =IF(S41<>0,VLOOKUP(S41,VKT!$A$2:$G$415,7,0),"") -> 9347414 | X41: =IF(S41<>0,ROUND(U41*W41,-3)," ") -> 24864000 | Z41: Btct | AA41: G.men | AB41: Tường | AC41: Btct | AD41: Lima | AG41: =IF(AE41<>0,VLOOKUP(AE41,ODDS!$A$2:$C$13,3,0),"") | AH41: =IF(AE41<>0,ROUND(AF41*AG41,-2)," ") | AI41: =IF(B41<>0,M41+N41+R41+X41+AH41," ")
A42: =IF(B41<>0,B41,A41) -> 3 | K42: =IF(G42<>0,VLOOKUP(G42,'gia dat'!$A$1:$F$144,5,0)," ") | L42: =IF(G42<>0,VLOOKUP(G42,'gia dat'!$A$1:$F$144,6,0)," ") | M42: =IF(H42<>0,ROUND(H42*K42,-3)," ") | N42: =IF(H42<>0,ROUND(H42*L42,-3)," ") | O42: Chuối A | P42: 63 | Q42: =IF(O42<>0,VLOOKUP(O42,'Cây trong'!$A$2:$C$246,3,0)," ") -> 132000 | R42: =IF(O42<>0,ROUND(P42*Q42,-2)," ") -> 8316000 | S42: Tắm (tầng 1) dán gạch men WC.10 (hỗ trợ 90%) | T42: m² | U42: 4 | W42: =IF(S42<>0,VLOOKUP(S42,VKT!$A$2:$G$415,7,0),"") -> 3141561 | X42: =IF(S42<>0,ROUND(U42*W42,-3)," ") -> 12566000 | Z42: Btct | AA42: G.men | AB42: Tường | AC42: Btct | AG42: =IF(AE42<>0,VLOOKUP(AE42,ODDS!$A$2:$C$13,3,0),"") | AH42: =IF(AE42<>0,ROUND(AF42*AG42,-2)," ") | AI42: =IF(B42<>0,M42+N42+R42+X42+AH42," ")
A43: =IF(B42<>0,B42,A42) -> 3 | K43: =IF(G43<>0,VLOOKUP(G43,'gia dat'!$A$1:$F$144,5,0)," ") | L43: =IF(G43<>0,VLOOKUP(G43,'gia dat'!$A$1:$F$144,6,0)," ") | M43: =IF(H43<>0,ROUND(H43*K43,-3)," ") | N43: =IF(H43<>0,ROUND(H43*L43,-3)," ") | O43: Chuối B | P43: 44 | Q43: =IF(O43<>0,VLOOKUP(O43,'Cây trong'!$A$2:$C$246,3,0)," ") -> 76000 | R43: =IF(O43<>0,ROUND(P43*Q43,-2)," ") -> 3344000 | S43: Nền gạch men (hỗ trợ 90%) | T43: m² | U43: 47.94 | W43: =IF(S43<>0,VLOOKUP(S43,VKT!$A$2:$G$415,7,0),"") -> 275180 | X43: =IF(S43<>0,ROUND(U43*W43,-3)," ") -> 13192000 | AG43: =IF(AE43<>0,VLOOKUP(AE43,ODDS!$A$2:$C$13,3,0),"") | AH43: =IF(AE43<>0,ROUND(AF43*AG43,-2)," ") | AI43: =IF(B43<>0,M43+N43+R43+X43+AH43," ")
A44: =IF(B43<>0,B43,A43) -> 3 | K44: =IF(G44<>0,VLOOKUP(G44,'gia dat'!$A$1:$F$144,5,0)," ") | L44: =IF(G44<>0,VLOOKUP(G44,'gia dat'!$A$1:$F$144,6,0)," ") | M44: =IF(H44<>0,ROUND(H44*K44,-3)," ") | N44: =IF(H44<>0,ROUND(H44*L44,-3)," ") | O44: Chuối C | P44: 43 | Q44: =IF(O44<>0,VLOOKUP(O44,'Cây trong'!$A$2:$C$246,3,0)," ") -> 34000 | R44: =IF(O44<>0,ROUND(P44*Q44,-2)," ") -> 1462000 | S44: Hàng ba C2.22 x 80% (hỗ trợ 90%) | T44: m² | U44: 15.84 | W44: =IF(S44<>0,VLOOKUP(S44,VKT!$A$2:$G$415,7,0),"") -> 4092245 | X44: =IF(S44<>0,ROUND(U44*W44,-3)," ") -> 64821000 | AG44: =IF(AE44<>0,VLOOKUP(AE44,ODDS!$A$2:$C$13,3,0),"") | AH44: =IF(AE44<>0,ROUND(AF44*AG44,-2)," ") | AI44: =IF(B44<>0,M44+N44+R44+X44+AH44," ")
A45: =IF(B44<>0,B44,A44) -> 3 | K45: =IF(G45<>0,VLOOKUP(G45,'gia dat'!$A$1:$F$144,5,0)," ") | L45: =IF(G45<>0,VLOOKUP(G45,'gia dat'!$A$1:$F$144,6,0)," ") | M45: =IF(H45<>0,ROUND(H45*K45,-3)," ") | N45: =IF(H45<>0,ROUND(H45*L45,-3)," ") | O45: Rau màu các loại A (m²) | P45: 22 | Q45: =IF(O45<>0,VLOOKUP(O45,'Cây trong'!$A$2:$C$246,3,0)," ") -> 12000 | R45: =IF(O45<>0,ROUND(P45*Q45,-2)," ") -> 264000 | S45: Nền gạch men (hỗ trợ 90%) | T45: m² | U45: 14.3 | W45: =IF(S45<>0,VLOOKUP(S45,VKT!$A$2:$G$415,7,0),"") -> 275180 | X45: =IF(S45<>0,ROUND(U45*W45,-3)," ") -> 3935000 | AG45: =IF(AE45<>0,VLOOKUP(AE45,ODDS!$A$2:$C$13,3,0),"") | AH45: =IF(AE45<>0,ROUND(AF45*AG45,-2)," ") | AI45: =IF(B45<>0,M45+N45+R45+X45+AH45," ")
A46: =IF(B45<>0,B45,A45) -> 3 | K46: =IF(G46<>0,VLOOKUP(G46,'gia dat'!$A$1:$F$144,5,0)," ") | L46: =IF(G46<>0,VLOOKUP(G46,'gia dat'!$A$1:$F$144,6,0)," ") | M46: =IF(H46<>0,ROUND(H46*K46,-3)," ") | N46: =IF(H46<>0,ROUND(H46*L46,-3)," ") | Q46: =IF(O46<>0,VLOOKUP(O46,'Cây trong'!$A$2:$C$246,3,0)," ") | R46: =IF(O46<>0,ROUND(P46*Q46,-2)," ") | W46: =IF(S46<>0,VLOOKUP(S46,VKT!$A$2:$G$415,7,0),"") | X46: =IF(S46<>0,ROUND(U46*W46,-3)," ") | AG46: =IF(AE46<>0,VLOOKUP(AE46,ODDS!$A$2:$C$13,3,0),"") | AH46: =IF(AE46<>0,ROUND(AF46*AG46,-2)," ") | AI46: =IF(B46<>0,M46+N46+R46+X46+AH46," ")
A47: =IF(B46<>0,B46,A46) -> 3 | K47: =IF(G47<>0,VLOOKUP(G47,'gia dat'!$A$1:$F$144,5,0)," ") | L47: =IF(G47<>0,VLOOKUP(G47,'gia dat'!$A$1:$F$144,6,0)," ") | M47: =IF(H47<>0,ROUND(H47*K47,-3)," ") | N47: =IF(H47<>0,ROUND(H47*L47,-3)," ") | W47: =IF(S47<>0,VLOOKUP(S47,VKT!$A$2:$G$415,7,0),"") | X47: =IF(S47<>0,ROUND(U47*W47,-3)," ") | AG47: =IF(AE47<>0,VLOOKUP(AE47,ODDS!$A$2:$C$13,3,0),"") | AI47: =IF(B47<>0,M47+N47+R47+X47+AH47," ")
A48: =IF(B47<>0,B47,A47) -> 3 | K48: =IF(G48<>0,VLOOKUP(G48,'gia dat'!$A$1:$F$144,5,0)," ") | L48: =IF(G48<>0,VLOOKUP(G48,'gia dat'!$A$1:$F$144,6,0)," ") | M48: =IF(H48<>0,ROUND(H48*K48,-3)," ") | N48: =IF(H48<>0,ROUND(H48*L48,-3)," ") | W48: =IF(S48<>0,VLOOKUP(S48,VKT!$A$2:$G$415,7,0),"") | X48: =IF(S48<>0,ROUND(U48*W48,-3)," ") | AG48: =IF(AE48<>0,VLOOKUP(AE48,ODDS!$A$2:$C$13,3,0),"") | AI48: =IF(B48<>0,M48+N48+R48+X48+AH48," ")
A49: 4 Total | B49: 4 | C49: Hộ Ông Quách Ngọc Nghé | H49: =SUBTOTAL(9,H50:H57) -> 35.7 | I49: =SUBTOTAL(9,I50:I55) -> 0 | M49: =SUBTOTAL(9,M50:M57) -> 48927000 | N49: =SUBTOTAL(9,N50:N57) -> 0 | P49: =SUBTOTAL(9,P50:P57) -> 0 | R49: =SUBTOTAL(9,R50:R57) -> 0 | U49: =SUBTOTAL(9,U50:U57) -> 0 | X49: =SUBTOTAL(9,X50:X57) -> 0 | AF49: =SUBTOTAL(9,AF50:AF57) -> 0 | AH49: =SUBTOTAL(9,AH50:AH57) -> 0 | AI49: =IF(B49<>0,M49+N49+R49+X49+AH49," ") -> 48927000
A50: =IF(B49<>0,B49,A48) -> 4 | C50: 1943 - 0910 4300 2669 | E50: 85 | F50: 37 | G50: Đất ở đô thị (GCN) - VT2 - đường LQK (đoạn Đống Đa - Ngô Văn Sở) | H50: 2.6 | I50: =IF(N50>0,H50,"") | K50: =IF(G50<>0,VLOOKUP(G50,'gia dat'!$A$1:$F$144,5,0)," ") -> 11760000 | L50: =IF(G50<>0,VLOOKUP(G50,'gia dat'!$A$1:$F$144,6,0)," ") -> 0 | M50: =IF(H50<>0,ROUND(H50*K50,-3)," ") -> 30576000 | N50: =IF(H50<>0,ROUND(H50*L50,-3)," ") -> 0 | W50: =IF(S50<>0,VLOOKUP(S50,VKT!$A$2:$G$415,7,0),"") | X50: =IF(S50<>0,ROUND(U50*W50,-3)," ") | AG50: =IF(AE50<>0,VLOOKUP(AE50,ODDS!$A$2:$C$13,3,0),"") | AI50: =IF(B50<>0,M50+N50+R50+X50+AH50," ") | AJ50: Nguồn gốc đất có GCN số BU 454890 do UBND Thành phố Rạch giá cấp ngày 22/10/2014. Tờ BĐ 85, thửa 37; diện tích đất trồng cây lâu năm 2.316,8 m². GCN do Quách Ngọc Nghé đứng tên. hiện trạng cha Quách Ngọc Nghé cho con là Quách Thị Thủy ngày 12/6/2006 (giấy tay), một phần thửa đất | AK50: Giá bồi thường về đất theo Nghị quyết số 16/2025/NQ-HĐND ngày 30/12/2025 của Hội đồng nhân dân tỉnh AG và Quyết định số 69/2026/QĐ-UBND ngày 18/7/2026 của UBND tỉnh AG
A51: =IF(B50<>0,B50,A50) -> 4 | C51: 1065 Lâm Quang Ky, Phường Rạch Giá, tỉnh An Giang | E51: 85 | F51: 37 | G51: Đất trồng cây lâu năm (GCN) - VT1 - Giáp đường LQK (đoạn Đống Đa - Ngô Văn Sở) - trừ VKT | H51: 33.1 | I51: =IF(N51>0,H51,"") | K51: =IF(G51<>0,VLOOKUP(G51,'gia dat'!$A$1:$F$144,5,0)," ") -> 554400 | L51: =IF(G51<>0,VLOOKUP(G51,'gia dat'!$A$1:$F$144,6,0)," ") -> 0 | M51: =IF(H51<>0,ROUND(H51*K51,-3)," ") -> 18351000 | N51: =IF(H51<>0,ROUND(H51*L51,-3)," ") -> 0 | W51: =IF(S51<>0,VLOOKUP(S51,VKT!$A$2:$G$415,7,0),"") | X51: =IF(S51<>0,ROUND(U51*W51,-3)," ") | AG51: =IF(AE51<>0,VLOOKUP(AE51,ODDS!$A$2:$C$13,3,0),"") | AI51: =IF(B51<>0,M51+N51+R51+X51+AH51," ")
A52: =IF(B51<>0,B51,A51) -> 4 | C52: Vợ: Trang Thị Em | K52: =IF(G52<>0,VLOOKUP(G52,'gia dat'!$A$1:$F$144,5,0)," ") | L52: =IF(G52<>0,VLOOKUP(G52,'gia dat'!$A$1:$F$144,6,0)," ") | M52: =IF(H52<>0,ROUND(H52*K52,-3)," ") | N52: =IF(H52<>0,ROUND(H52*L52,-3)," ") | W52: =IF(S52<>0,VLOOKUP(S52,VKT!$A$2:$G$415,7,0),"") | X52: =IF(S52<>0,ROUND(U52*W52,-3)," ") | AG52: =IF(AE52<>0,VLOOKUP(AE52,ODDS!$A$2:$C$13,3,0),"") | AI52: =IF(B52<>0,M52+N52+R52+X52+AH52," ")
A53: =IF(B52<>0,B52,A52) -> 4 | K53: =IF(G53<>0,VLOOKUP(G53,'gia dat'!$A$1:$F$144,5,0)," ") | L53: =IF(G53<>0,VLOOKUP(G53,'gia dat'!$A$1:$F$144,6,0)," ") | M53: =IF(H53<>0,ROUND(H53*K53,-3)," ") | N53: =IF(H53<>0,ROUND(H53*L53,-3)," ") | W53: =IF(S53<>0,VLOOKUP(S53,VKT!$A$2:$G$415,7,0),"") | X53: =IF(S53<>0,ROUND(U53*W53,-3)," ") | AG53: =IF(AE53<>0,VLOOKUP(AE53,ODDS!$A$2:$C$13,3,0),"") | AI53: =IF(B53<>0,M53+N53+R53+X53+AH53," ")
A54: =IF(B53<>0,B53,A53) -> 4 | K54: =IF(G54<>0,VLOOKUP(G54,'gia dat'!$A$1:$F$144,5,0)," ") | L54: =IF(G54<>0,VLOOKUP(G54,'gia dat'!$A$1:$F$144,6,0)," ") | M54: =IF(H54<>0,ROUND(H54*K54,-3)," ") | N54: =IF(H54<>0,ROUND(H54*L54,-3)," ") | Q54: =IF(O54<>0,VLOOKUP(O54,'Cây trong'!$A$2:$C$246,3,0)," ") | R54: =IF(O54<>0,ROUND(P54*Q54,-2)," ") | W54: =IF(S54<>0,VLOOKUP(S54,VKT!$A$2:$G$415,7,0),"") | X54: =IF(S54<>0,ROUND(U54*W54,-3)," ") | AG54: =IF(AE54<>0,VLOOKUP(AE54,ODDS!$A$2:$C$13,3,0),"") | AH54: =IF(AE54<>0,ROUND(AF54*AG54,-2)," ") | AI54: =IF(B54<>0,M54+N54+R54+X54+AH54," ")
A55: =IF(B54<>0,B54,A54) -> 4 | K55: =IF(G55<>0,VLOOKUP(G55,'gia dat'!$A$1:$F$144,5,0)," ") | L55: =IF(G55<>0,VLOOKUP(G55,'gia dat'!$A$1:$F$144,6,0)," ") | M55: =IF(H55<>0,ROUND(H55*K55,-3)," ") | N55: =IF(H55<>0,ROUND(H55*L55,-3)," ") | Q55: =IF(O55<>0,VLOOKUP(O55,'Cây trong'!$A$2:$C$246,3,0)," ") | R55: =IF(O55<>0,ROUND(P55*Q55,-2)," ") | W55: =IF(S55<>0,VLOOKUP(S55,VKT!$A$2:$G$415,7,0),"") | X55: =IF(S55<>0,ROUND(U55*W55,-3)," ") | AG55: =IF(AE55<>0,VLOOKUP(AE55,ODDS!$A$2:$C$13,3,0),"") | AH55: =IF(AE55<>0,ROUND(AF55*AG55,-2)," ") | AI55: =IF(B55<>0,M55+N55+R55+X55+AH55," ")
A56: =IF(B55<>0,B55,A55) -> 4 | K56: =IF(G56<>0,VLOOKUP(G56,'gia dat'!$A$1:$F$144,5,0)," ") | L56: =IF(G56<>0,VLOOKUP(G56,'gia dat'!$A$1:$F$144,6,0)," ") | M56: =IF(H56<>0,ROUND(H56*K56,-3)," ") | N56: =IF(H56<>0,ROUND(H56*L56,-3)," ") | W56: =IF(S56<>0,VLOOKUP(S56,VKT!$A$2:$G$415,7,0),"") | X56: =IF(S56<>0,ROUND(U56*W56,-3)," ") | AG56: =IF(AE56<>0,VLOOKUP(AE56,ODDS!$A$2:$C$13,3,0),"") | AI56: =IF(B56<>0,M56+N56+R56+X56+AH56," ")
A57: =IF(B56<>0,B56,A56) -> 4 | K57: =IF(G57<>0,VLOOKUP(G57,'gia dat'!$A$1:$F$144,5,0)," ") | L57: =IF(G57<>0,VLOOKUP(G57,'gia dat'!$A$1:$F$144,6,0)," ") | M57: =IF(H57<>0,ROUND(H57*K57,-3)," ") | N57: =IF(H57<>0,ROUND(H57*L57,-3)," ") | W57: =IF(S57<>0,VLOOKUP(S57,VKT!$A$2:$G$415,7,0),"") | X57: =IF(S57<>0,ROUND(U57*W57,-3)," ") | AG57: =IF(AE57<>0,VLOOKUP(AE57,ODDS!$A$2:$C$13,3,0),"") | AI57: =IF(B57<>0,M57+N57+R57+X57+AH57," ")
A58: 5 Total | B58: 5 | C58: Hộ Ông Quách Ngọc Nghé | H58: =SUBTOTAL(9,H59:H66) -> 35.6 | I58: =SUBTOTAL(9,I59:I64) -> 0 | M58: =SUBTOTAL(9,M59:M66) -> 19737000 | N58: =SUBTOTAL(9,N59:N66) -> 0 | P58: =SUBTOTAL(9,P59:P66) -> 0 | R58: =SUBTOTAL(9,R59:R66) -> 0 | U58: =SUBTOTAL(9,U59:U66) -> 0 | X58: =SUBTOTAL(9,X59:X66) -> 0 | AF58: =SUBTOTAL(9,AF59:AF66) -> 0 | AH58: =SUBTOTAL(9,AH59:AH66) -> 0 | AI58: =IF(B58<>0,M58+N58+R58+X58+AH58," ") -> 19737000
A59: =IF(B58<>0,B58,A57) -> 5 | C59: 1943 - 0910 4300 2669 | E59: 85 | F59: 37 | G59: Đất trồng cây lâu năm (GCN) - VT1 - Giáp đường LQK (đoạn Đống Đa - Ngô Văn Sở) - trừ VKT | H59: 35.6 | I59: =IF(N59>0,H59,"") | K59: =IF(G59<>0,VLOOKUP(G59,'gia dat'!$A$1:$F$144,5,0)," ") -> 554400 | L59: =IF(G59<>0,VLOOKUP(G59,'gia dat'!$A$1:$F$144,6,0)," ") -> 0 | M59: =IF(H59<>0,ROUND(H59*K59,-3)," ") -> 19737000 | N59: =IF(H59<>0,ROUND(H59*L59,-3)," ") -> 0 | W59: =IF(S59<>0,VLOOKUP(S59,VKT!$A$2:$G$415,7,0),"") | X59: =IF(S59<>0,ROUND(U59*W59,-3)," ") | AG59: =IF(AE59<>0,VLOOKUP(AE59,ODDS!$A$2:$C$13,3,0),"") | AI59: =IF(B59<>0,M59+N59+R59+X59+AH59," ") | AJ59: Nguồn gốc đất có GCN số BU 454890 do UBND Thành phố Rạch giá cấp ngày 22/10/2014. Tờ BĐ 85, thửa 37; diện tích đất trồng cây lâu năm, diện tích 2.316,8 m². GCN do Quách Ngọc Nghé đứng tên. hiện trạng do cha Quách Ngọc Nghé cho con là Quách Ngọc Dũng ngày 12/6/2006 (giấy tay), một phần thửa đất | AK59: Giá bồi thường về đất theo Nghị quyết số 16/2025/NQ-HĐND ngày 30/12/2025 của Hội đồng nhân dân tỉnh AG và Quyết định số 69/2026/QĐ-UBND ngày 18/7/2026 của UBND tỉnh AG
A60: =IF(B59<>0,B59,A59) -> 5 | C60: 1065 Lâm Quang Ky, Phường Rạch Giá, tỉnh An Giang | K60: =IF(G60<>0,VLOOKUP(G60,'gia dat'!$A$1:$F$144,5,0)," ") | L60: =IF(G60<>0,VLOOKUP(G60,'gia dat'!$A$1:$F$144,6,0)," ") | M60: =IF(H60<>0,ROUND(H60*K60,-3)," ") | N60: =IF(H60<>0,ROUND(H60*L60,-3)," ") | W60: =IF(S60<>0,VLOOKUP(S60,VKT!$A$2:$G$415,7,0),"") | X60: =IF(S60<>0,ROUND(U60*W60,-3)," ") | AG60: =IF(AE60<>0,VLOOKUP(AE60,ODDS!$A$2:$C$13,3,0),"") | AI60: =IF(B60<>0,M60+N60+R60+X60+AH60," ")
A61: =IF(B60<>0,B60,A60) -> 5 | C61: Vợ: Trang Thị Em | K61: =IF(G61<>0,VLOOKUP(G61,'gia dat'!$A$1:$F$144,5,0)," ") | L61: =IF(G61<>0,VLOOKUP(G61,'gia dat'!$A$1:$F$144,6,0)," ") | M61: =IF(H61<>0,ROUND(H61*K61,-3)," ") | N61: =IF(H61<>0,ROUND(H61*L61,-3)," ") | W61: =IF(S61<>0,VLOOKUP(S61,VKT!$A$2:$G$415,7,0),"") | X61: =IF(S61<>0,ROUND(U61*W61,-3)," ") | AG61: =IF(AE61<>0,VLOOKUP(AE61,ODDS!$A$2:$C$13,3,0),"") | AI61: =IF(B61<>0,M61+N61+R61+X61+AH61," ")
A62: =IF(B61<>0,B61,A61) -> 5 | K62: =IF(G62<>0,VLOOKUP(G62,'gia dat'!$A$1:$F$144,5,0)," ") | L62: =IF(G62<>0,VLOOKUP(G62,'gia dat'!$A$1:$F$144,6,0)," ") | M62: =IF(H62<>0,ROUND(H62*K62,-3)," ") | N62: =IF(H62<>0,ROUND(H62*L62,-3)," ") | W62: =IF(S62<>0,VLOOKUP(S62,VKT!$A$2:$G$415,7,0),"") | X62: =IF(S62<>0,ROUND(U62*W62,-3)," ") | AG62: =IF(AE62<>0,VLOOKUP(AE62,ODDS!$A$2:$C$13,3,0),"") | AI62: =IF(B62<>0,M62+N62+R62+X62+AH62," ")
A63: =IF(B62<>0,B62,A62) -> 5 | K63: =IF(G63<>0,VLOOKUP(G63,'gia dat'!$A$1:$F$144,5,0)," ") | L63: =IF(G63<>0,VLOOKUP(G63,'gia dat'!$A$1:$F$144,6,0)," ") | M63: =IF(H63<>0,ROUND(H63*K63,-3)," ") | N63: =IF(H63<>0,ROUND(H63*L63,-3)," ") | W63: =IF(S63<>0,VLOOKUP(S63,VKT!$A$2:$G$415,7,0),"") | X63: =IF(S63<>0,ROUND(U63*W63,-3)," ") | AG63: =IF(AE63<>0,VLOOKUP(AE63,ODDS!$A$2:$C$13,3,0),"") | AI63: =IF(B63<>0,M63+N63+R63+X63+AH63," ")
A64: =IF(B63<>0,B63,A63) -> 5 | K64: =IF(G64<>0,VLOOKUP(G64,'gia dat'!$A$1:$F$144,5,0)," ") | L64: =IF(G64<>0,VLOOKUP(G64,'gia dat'!$A$1:$F$144,6,0)," ") | M64: =IF(H64<>0,ROUND(H64*K64,-3)," ") | N64: =IF(H64<>0,ROUND(H64*L64,-3)," ") | W64: =IF(S64<>0,VLOOKUP(S64,VKT!$A$2:$G$415,7,0),"") | X64: =IF(S64<>0,ROUND(U64*W64,-3)," ") | AG64: =IF(AE64<>0,VLOOKUP(AE64,ODDS!$A$2:$C$13,3,0),"") | AI64: =IF(B64<>0,M64+N64+R64+X64+AH64," ")
A65: =IF(B64<>0,B64,A64) -> 5 | K65: =IF(G65<>0,VLOOKUP(G65,'gia dat'!$A$1:$F$144,5,0)," ") | L65: =IF(G65<>0,VLOOKUP(G65,'gia dat'!$A$1:$F$144,6,0)," ") | M65: =IF(H65<>0,ROUND(H65*K65,-3)," ") | N65: =IF(H65<>0,ROUND(H65*L65,-3)," ") | W65: =IF(S65<>0,VLOOKUP(S65,VKT!$A$2:$G$415,7,0),"") | X65: =IF(S65<>0,ROUND(U65*W65,-3)," ") | AG65: =IF(AE65<>0,VLOOKUP(AE65,ODDS!$A$2:$C$13,3,0),"") | AI65: =IF(B65<>0,M65+N65+R65+X65+AH65," ")
A66: =IF(B65<>0,B65,A65) -> 5 | K66: =IF(G66<>0,VLOOKUP(G66,'gia dat'!$A$1:$F$144,5,0)," ") | L66: =IF(G66<>0,VLOOKUP(G66,'gia dat'!$A$1:$F$144,6,0)," ") | M66: =IF(H66<>0,ROUND(H66*K66,-3)," ") | N66: =IF(H66<>0,ROUND(H66*L66,-3)," ") | W66: =IF(S66<>0,VLOOKUP(S66,VKT!$A$2:$G$415,7,0),"") | X66: =IF(S66<>0,ROUND(U66*W66,-3)," ") | AG66: =IF(AE66<>0,VLOOKUP(AE66,ODDS!$A$2:$C$13,3,0),"") | AI66: =IF(B66<>0,M66+N66+R66+X66+AH66," ")
A67: 6 Total | B67: 6 | C67: Quách Thị Thủy | H67: =SUBTOTAL(9,H68:H76) -> 0 | I67: =SUBTOTAL(9,I68:I73) -> 0 | M67: =SUBTOTAL(9,M68:M76) -> 0 | N67: =SUBTOTAL(9,N68:N76) -> 0 | P67: =SUBTOTAL(9,P68:P76) -> 0 | R67: =SUBTOTAL(9,R68:R76) -> 0 | U67: =SUBTOTAL(9,U68:U76) -> 56.05 | X67: =SUBTOTAL(9,X68:X76) -> 180951000 | AF67: =SUBTOTAL(9,AF68:AF76) -> 0 | AH67: =SUBTOTAL(9,AH68:AH76) -> 0 | AI67: =IF(B67<>0,M67+N67+R67+X67+AH67," ") -> 180951000
A68: =IF(B67<>0,B67,A66) -> 6 | C68: 1968 - 0911 6800 5041 | D68: 2 | K68: =IF(G68<>0,VLOOKUP(G68,'gia dat'!$A$1:$F$144,5,0)," ") | L68: =IF(G68<>0,VLOOKUP(G68,'gia dat'!$A$1:$F$144,6,0)," ") | M68: =IF(H68<>0,ROUND(H68*K68,-3)," ") | N68: =IF(H68<>0,ROUND(H68*L68,-3)," ") | Q68: =IF(O68<>0,VLOOKUP(O68,'Cây trong'!$A$2:$C$246,3,0)," ") | R68: =IF(O68<>0,ROUND(P68*Q68,-2)," ") | S68: Nhà C2.07 (hỗ trợ 90%) | T68: m² | U68: 31.5 | W68: =IF(S68<>0,VLOOKUP(S68,VKT!$A$2:$G$415,7,0),"") -> 5469063 | X68: =IF(S68<>0,ROUND(U68*W68,-3)," ") -> 172275000 | Y68: Btct | Z68: Tolv | AA68: G.men | AB68: Tường | AC68: Btct | AD68: Trần nhựa | AG68: =IF(AE68<>0,VLOOKUP(AE68,ODDS!$A$2:$C$13,3,0),"") | AH68: =IF(AE68<>0,ROUND(AF68*AG68,-2)," ") | AI68: =IF(B68<>0,M68+N68+R68+X68+AH68," ") | AJ68: Nhà xây dựng năm 2006, sửa lại năm 2021 | AK68: Giá hỗ trợ VKT theo Quyết định số 11/QĐ-UBND ngày 31/3/2025 và khoản c, điều 5 Quyết định số 07/2026/QĐ-UBND ngày 12/02/2026 của UBND tỉnh AG
A69: =IF(B68<>0,B68,A68) -> 6 | C69: 1065/1 Lâm Quang Ky, Phường Rạch Giá, tỉnh An Giang | K69: =IF(G69<>0,VLOOKUP(G69,'gia dat'!$A$1:$F$144,5,0)," ") | L69: =IF(G69<>0,VLOOKUP(G69,'gia dat'!$A$1:$F$144,6,0)," ") | M69: =IF(H69<>0,ROUND(H69*K69,-3)," ") | N69: =IF(H69<>0,ROUND(H69*L69,-3)," ") | Q69: =IF(O69<>0,VLOOKUP(O69,'Cây trong'!$A$2:$C$246,3,0)," ") | R69: =IF(O69<>0,ROUND(P69*Q69,-2)," ") | S69: Nền xi măng SN.01 (hỗ trợ 90%) | T69: m² | U69: 5.4 | W69: =IF(S69<>0,VLOOKUP(S69,VKT!$A$2:$G$415,7,0),"") -> 238288 | X69: =IF(S69<>0,ROUND(U69*W69,-3)," ") -> 1287000 | AG69: =IF(AE69<>0,VLOOKUP(AE69,ODDS!$A$2:$C$13,3,0),"") | AH69: =IF(AE69<>0,ROUND(AF69*AG69,-2)," ") | AI69: =IF(B69<>0,M69+N69+R69+X69+AH69," ") | AK69: Báo cáo số 06/BC-TTKĐ ngày 15 tháng 4 năm 2026 ngày 15 tháng 4 năm 2026 của Trung tâm kiểm định và Dịch vụ xây dựng - Sở Xây dựng tỉnh AG
A70: =IF(B69<>0,B69,A69) -> 6 | K70: =IF(G70<>0,VLOOKUP(G70,'gia dat'!$A$1:$F$144,5,0)," ") | L70: =IF(G70<>0,VLOOKUP(G70,'gia dat'!$A$1:$F$144,6,0)," ") | M70: =IF(H70<>0,ROUND(H70*K70,-3)," ") | N70: =IF(H70<>0,ROUND(H70*L70,-3)," ") | Q70: =IF(O70<>0,VLOOKUP(O70,'Cây trong'!$A$2:$C$246,3,0)," ") | R70: =IF(O70<>0,ROUND(P70*Q70,-2)," ") | S70: Nền gạch men (hỗ trợ 90%) | T70: m² | U70: 9.84 | W70: =IF(S70<>0,VLOOKUP(S70,VKT!$A$2:$G$415,7,0),"") -> 275180 | X70: =IF(S70<>0,ROUND(U70*W70,-3)," ") -> 2708000 | AG70: =IF(AE70<>0,VLOOKUP(AE70,ODDS!$A$2:$C$13,3,0),"") | AH70: =IF(AE70<>0,ROUND(AF70*AG70,-2)," ") | AI70: =IF(B70<>0,M70+N70+R70+X70+AH70," ")
A71: =IF(B70<>0,B70,A70) -> 6 | K71: =IF(G71<>0,VLOOKUP(G71,'gia dat'!$A$1:$F$144,5,0)," ") | L71: =IF(G71<>0,VLOOKUP(G71,'gia dat'!$A$1:$F$144,6,0)," ") | M71: =IF(H71<>0,ROUND(H71*K71,-3)," ") | N71: =IF(H71<>0,ROUND(H71*L71,-3)," ") | Q71: =IF(O71<>0,VLOOKUP(O71,'Cây trong'!$A$2:$C$246,3,0)," ") | R71: =IF(O71<>0,ROUND(P71*Q71,-2)," ") | S71: Hàng rào khung lưới B40, trụ sắt HR.18 (hỗ trợ 90%) | T71: m² | U71: 9.28 | W71: =IF(S71<>0,VLOOKUP(S71,VKT!$A$2:$G$415,7,0),"") -> 496651 | X71: =IF(S71<>0,ROUND(U71*W71,-3)," ") -> 4609000 | AG71: =IF(AE71<>0,VLOOKUP(AE71,ODDS!$A$2:$C$13,3,0),"") | AH71: =IF(AE71<>0,ROUND(AF71*AG71,-2)," ") | AI71: =IF(B71<>0,M71+N71+R71+X71+AH71," ")
A72: =IF(B71<>0,B71,A71) -> 6 | K72: =IF(G72<>0,VLOOKUP(G72,'gia dat'!$A$1:$F$144,5,0)," ") | L72: =IF(G72<>0,VLOOKUP(G72,'gia dat'!$A$1:$F$144,6,0)," ") | M72: =IF(H72<>0,ROUND(H72*K72,-3)," ") | N72: =IF(H72<>0,ROUND(H72*L72,-3)," ") | Q72: =IF(O72<>0,VLOOKUP(O72,'Cây trong'!$A$2:$C$246,3,0)," ") | R72: =IF(O72<>0,ROUND(P72*Q72,-2)," ") | S72: Đal BT ông thiên (hỗ trợ 90%) | T72: m³ | U72: 0.01 | W72: =IF(S72<>0,VLOOKUP(S72,VKT!$A$2:$G$415,7,0),"") -> 0 | X72: =IF(S72<>0,ROUND(U72*W72,-3)," ") -> 0 | AG72: =IF(AE72<>0,VLOOKUP(AE72,ODDS!$A$2:$C$13,3,0),"") | AH72: =IF(AE72<>0,ROUND(AF72*AG72,-2)," ") | AI72: =IF(B72<>0,M72+N72+R72+X72+AH72," ")
A73: =IF(B72<>0,B72,A72) -> 6 | K73: =IF(G73<>0,VLOOKUP(G73,'gia dat'!$A$1:$F$144,5,0)," ") | L73: =IF(G73<>0,VLOOKUP(G73,'gia dat'!$A$1:$F$144,6,0)," ") | M73: =IF(H73<>0,ROUND(H73*K73,-3)," ") | N73: =IF(H73<>0,ROUND(H73*L73,-3)," ") | Q73: =IF(O73<>0,VLOOKUP(O73,'Cây trong'!$A$2:$C$246,3,0)," ") | R73: =IF(O73<>0,ROUND(P73*Q73,-2)," ") | S73: Trụ xây gạch (hỗ trợ 90%) | T73: m³ | U73: 0.02 | W73: =IF(S73<>0,VLOOKUP(S73,VKT!$A$2:$G$415,7,0),"") -> 3591896 | X73: =IF(S73<>0,ROUND(U73*W73,-3)," ") -> 72000 | AG73: =IF(AE73<>0,VLOOKUP(AE73,ODDS!$A$2:$C$13,3,0),"") | AH73: =IF(AE73<>0,ROUND(AF73*AG73,-2)," ") | AI73: =IF(B73<>0,M73+N73+R73+X73+AH73," ")
A74: =IF(B73<>0,B73,A73) -> 6 | K74: =IF(G74<>0,VLOOKUP(G74,'gia dat'!$A$1:$F$144,5,0)," ") | L74: =IF(G74<>0,VLOOKUP(G74,'gia dat'!$A$1:$F$144,6,0)," ") | M74: =IF(H74<>0,ROUND(H74*K74,-3)," ") | N74: =IF(H74<>0,ROUND(H74*L74,-3)," ") | Q74: =IF(O74<>0,VLOOKUP(O74,'Cây trong'!$A$2:$C$246,3,0)," ") | R74: =IF(O74<>0,ROUND(P74*Q74,-2)," ") | W74: =IF(S74<>0,VLOOKUP(S74,VKT!$A$2:$G$415,7,0),"") | X74: =IF(S74<>0,ROUND(U74*W74,-3)," ") | AG74: =IF(AE74<>0,VLOOKUP(AE74,ODDS!$A$2:$C$13,3,0),"") | AH74: =IF(AE74<>0,ROUND(AF74*AG74,-2)," ") | AI74: =IF(B74<>0,M74+N74+R74+X74+AH74," ")
A75: =IF(B74<>0,B74,A74) -> 6 | K75: =IF(G75<>0,VLOOKUP(G75,'gia dat'!$A$1:$F$144,5,0)," ") | L75: =IF(G75<>0,VLOOKUP(G75,'gia dat'!$A$1:$F$144,6,0)," ") | M75: =IF(H75<>0,ROUND(H75*K75,-3)," ") | N75: =IF(H75<>0,ROUND(H75*L75,-3)," ") | Q75: =IF(O75<>0,VLOOKUP(O75,'Cây trong'!$A$2:$C$246,3,0)," ") | R75: =IF(O75<>0,ROUND(P75*Q75,-2)," ") | W75: =IF(S75<>0,VLOOKUP(S75,VKT!$A$2:$G$415,7,0),"") | X75: =IF(S75<>0,ROUND(U75*W75,-3)," ") | AG75: =IF(AE75<>0,VLOOKUP(AE75,ODDS!$A$2:$C$13,3,0),"") | AH75: =IF(AE75<>0,ROUND(AF75*AG75,-2)," ") | AI75: =IF(B75<>0,M75+N75+R75+X75+AH75," ")
A76: =IF(B75<>0,B75,A75) -> 6 | K76: =IF(G76<>0,VLOOKUP(G76,'gia dat'!$A$1:$F$144,5,0)," ") | L76: =IF(G76<>0,VLOOKUP(G76,'gia dat'!$A$1:$F$144,6,0)," ") | M76: =IF(H76<>0,ROUND(H76*K76,-3)," ") | N76: =IF(H76<>0,ROUND(H76*L76,-3)," ") | Q76: =IF(O76<>0,VLOOKUP(O76,'Cây trong'!$A$2:$C$246,3,0)," ") | R76: =IF(O76<>0,ROUND(P76*Q76,-2)," ") | W76: =IF(S76<>0,VLOOKUP(S76,VKT!$A$2:$G$415,7,0),"") | X76: =IF(S76<>0,ROUND(U76*W76,-3)," ") | AG76: =IF(AE76<>0,VLOOKUP(AE76,ODDS!$A$2:$C$13,3,0),"") | AH76: =IF(AE76<>0,ROUND(AF76*AG76,-2)," ") | AI76: =IF(B76<>0,M76+N76+R76+X76+AH76," ")
A77: 7 Total | B77: 7 | C77: Quách Ngọc Dũng | H77: =SUBTOTAL(9,H78:H84) -> 0 | I77: =SUBTOTAL(9,I78:I83) -> 0 | M77: =SUBTOTAL(9,M78:M84) -> 0 | N77: =SUBTOTAL(9,N78:N84) -> 0 | P77: =SUBTOTAL(9,P78:P84) -> 0 | R77: =SUBTOTAL(9,R78:R84) -> 0 | U77: =SUBTOTAL(9,U78:U84) -> 59.47 | X77: =SUBTOTAL(9,X78:X84) -> 173830000 | AF77: =SUBTOTAL(9,AF78:AF84) -> 0 | AH77: =SUBTOTAL(9,AH78:AH84) -> 0 | AI77: =IF(B77<>0,M77+N77+R77+X77+AH77," ") -> 173830000
A78: =IF(B77<>0,B77,A76) -> 7 | C78: 1970 - 0910 7000 8356 | D78: 2 | K78: =IF(G78<>0,VLOOKUP(G78,'gia dat'!$A$1:$F$144,5,0)," ") | L78: =IF(G78<>0,VLOOKUP(G78,'gia dat'!$A$1:$F$144,6,0)," ") | M78: =IF(H78<>0,ROUND(H78*K78,-3)," ") | N78: =IF(H78<>0,ROUND(H78*L78,-3)," ") | Q78: =IF(O78<>0,VLOOKUP(O78,'Cây trong'!$A$2:$C$246,3,0)," ") | R78: =IF(O78<>0,ROUND(P78*Q78,-2)," ") | S78: Nhà C3.05 (hỗ trợ 90%) | T78: m² | U78: 31.95 | W78: =IF(S78<>0,VLOOKUP(S78,VKT!$A$2:$G$415,7,0),"") -> 5307665 | X78: =IF(S78<>0,ROUND(U78*W78,-3)," ") -> 169580000 | Y78: Btct | Z78: Tolv | AA78: G.men | AB78: Tường | AC78: Btct | AD78: Trần nhựa | AG78: =IF(AE78<>0,VLOOKUP(AE78,ODDS!$A$2:$C$13,3,0),"") | AH78: =IF(AE78<>0,ROUND(AF78*AG78,-2)," ") | AI78: =IF(B78<>0,M78+N78+R78+X78+AH78," ") | AJ78: Nhà xây dựng năm 2006 | AK78: Giá hỗ trợ VKT theo Quyết định số 11/QĐ-UBND ngày 31/3/2025 và khoản c, điều 5 Quyết định số 07/2026/QĐ-UBND ngày 12/02/2026 của UBND tỉnh AG
A79: =IF(B78<>0,B78,A78) -> 7 | C79: 1065/1B Lâm Quang Ky, Phường Rạch Giá, tỉnh An Giang | K79: =IF(G79<>0,VLOOKUP(G79,'gia dat'!$A$1:$F$144,5,0)," ") | L79: =IF(G79<>0,VLOOKUP(G79,'gia dat'!$A$1:$F$144,6,0)," ") | M79: =IF(H79<>0,ROUND(H79*K79,-3)," ") | N79: =IF(H79<>0,ROUND(H79*L79,-3)," ") | Q79: =IF(O79<>0,VLOOKUP(O79,'Cây trong'!$A$2:$C$246,3,0)," ") | R79: =IF(O79<>0,ROUND(P79*Q79,-2)," ") | S79: Nền xi măng SN.01 (hỗ trợ 90%) | T79: m² | U79: 7.2 | W79: =IF(S79<>0,VLOOKUP(S79,VKT!$A$2:$G$415,7,0),"") -> 238288 | X79: =IF(S79<>0,ROUND(U79*W79,-3)," ") -> 1716000 | AG79: =IF(AE79<>0,VLOOKUP(AE79,ODDS!$A$2:$C$13,3,0),"") | AH79: =IF(AE79<>0,ROUND(AF79*AG79,-2)," ") | AI79: =IF(B79<>0,M79+N79+R79+X79+AH79," ") | AK79: Báo cáo số 06/BC-TTKĐ ngày 15 tháng 4 năm 2026 ngày 15 tháng 4 năm 2026 của Trung tâm kiểm định và Dịch vụ xây dựng - Sở Xây dựng tỉnh AG
A80: =IF(B79<>0,B79,A79) -> 7 | K80: =IF(G80<>0,VLOOKUP(G80,'gia dat'!$A$1:$F$144,5,0)," ") | L80: =IF(G80<>0,VLOOKUP(G80,'gia dat'!$A$1:$F$144,6,0)," ") | M80: =IF(H80<>0,ROUND(H80*K80,-3)," ") | N80: =IF(H80<>0,ROUND(H80*L80,-3)," ") | Q80: =IF(O80<>0,VLOOKUP(O80,'Cây trong'!$A$2:$C$246,3,0)," ") | R80: =IF(O80<>0,ROUND(P80*Q80,-2)," ") | S80: Nền xi măng SN.01 (hỗ trợ 90%) | T80: m² | U80: 10.44 | W80: =IF(S80<>0,VLOOKUP(S80,VKT!$A$2:$G$415,7,0),"") -> 238288 | X80: =IF(S80<>0,ROUND(U80*W80,-3)," ") -> 2488000 | Z80: Btct | AA80: G.men | AB80: Tường | AC80: Btct | AG80: =IF(AE80<>0,VLOOKUP(AE80,ODDS!$A$2:$C$13,3,0),"") | AH80: =IF(AE80<>0,ROUND(AF80*AG80,-2)," ") | AI80: =IF(B80<>0,M80+N80+R80+X80+AH80," ")
A81: =IF(B80<>0,B80,A80) -> 7 | K81: =IF(G81<>0,VLOOKUP(G81,'gia dat'!$A$1:$F$144,5,0)," ") | L81: =IF(G81<>0,VLOOKUP(G81,'gia dat'!$A$1:$F$144,6,0)," ") | M81: =IF(H81<>0,ROUND(H81*K81,-3)," ") | N81: =IF(H81<>0,ROUND(H81*L81,-3)," ") | Q81: =IF(O81<>0,VLOOKUP(O81,'Cây trong'!$A$2:$C$246,3,0)," ") | R81: =IF(O81<>0,ROUND(P81*Q81,-2)," ") | S81: Mái che tol (hỗ trợ 90%) | T81: m² | U81: 8.1 | W81: =IF(S81<>0,VLOOKUP(S81,VKT!$A$2:$G$415,7,0),"") -> 0 | X81: =IF(S81<>0,ROUND(U81*W81,-3)," ") -> 0 | AG81: =IF(AE81<>0,VLOOKUP(AE81,ODDS!$A$2:$C$13,3,0),"") | AH81: =IF(AE81<>0,ROUND(AF81*AG81,-2)," ") | AI81: =IF(B81<>0,M81+N81+R81+X81+AH81," ")
A82: =IF(B81<>0,B81,A81) -> 7 | K82: =IF(G82<>0,VLOOKUP(G82,'gia dat'!$A$1:$F$144,5,0)," ") | L82: =IF(G82<>0,VLOOKUP(G82,'gia dat'!$A$1:$F$144,6,0)," ") | M82: =IF(H82<>0,ROUND(H82*K82,-3)," ") | N82: =IF(H82<>0,ROUND(H82*L82,-3)," ") | Q82: =IF(O82<>0,VLOOKUP(O82,'Cây trong'!$A$2:$C$246,3,0)," ") | R82: =IF(O82<>0,ROUND(P82*Q82,-2)," ") | S82: Đal bt (hỗ trợ 90%) | T82: m³ | U82: 1.62 | W82: =IF(S82<>0,VLOOKUP(S82,VKT!$A$2:$G$415,7,0),"") -> 0 | X82: =IF(S82<>0,ROUND(U82*W82,-3)," ") -> 0 | AG82: =IF(AE82<>0,VLOOKUP(AE82,ODDS!$A$2:$C$13,3,0),"") | AH82: =IF(AE82<>0,ROUND(AF82*AG82,-2)," ") | AI82: =IF(B82<>0,M82+N82+R82+X82+AH82," ")
A83: =IF(B82<>0,B82,A82) -> 7 | K83: =IF(G83<>0,VLOOKUP(G83,'gia dat'!$A$1:$F$144,5,0)," ") | L83: =IF(G83<>0,VLOOKUP(G83,'gia dat'!$A$1:$F$144,6,0)," ") | M83: =IF(H83<>0,ROUND(H83*K83,-3)," ") | N83: =IF(H83<>0,ROUND(H83*L83,-3)," ") | Q83: =IF(O83<>0,VLOOKUP(O83,'Cây trong'!$A$2:$C$246,3,0)," ") | R83: =IF(O83<>0,ROUND(P83*Q83,-2)," ") | S83: Gạch men ốp (hỗ trợ 90%) | T83: m² | U83: 0.16 | W83: =IF(S83<>0,VLOOKUP(S83,VKT!$A$2:$G$415,7,0),"") -> 286855 | X83: =IF(S83<>0,ROUND(U83*W83,-3)," ") -> 46000 | AG83: =IF(AE83<>0,VLOOKUP(AE83,ODDS!$A$2:$C$13,3,0),"") | AH83: =IF(AE83<>0,ROUND(AF83*AG83,-2)," ") | AI83: =IF(B83<>0,M83+N83+R83+X83+AH83," ")
A84: =IF(B83<>0,B83,A83) -> 7 | K84: =IF(G84<>0,VLOOKUP(G84,'gia dat'!$A$1:$F$144,5,0)," ") | L84: =IF(G84<>0,VLOOKUP(G84,'gia dat'!$A$1:$F$144,6,0)," ") | M84: =IF(H84<>0,ROUND(H84*K84,-3)," ") | N84: =IF(H84<>0,ROUND(H84*L84,-3)," ") | Q84: =IF(O84<>0,VLOOKUP(O84,'Cây trong'!$A$2:$C$246,3,0)," ") | R84: =IF(O84<>0,ROUND(P84*Q84,-2)," ") | W84: =IF(S84<>0,VLOOKUP(S84,VKT!$A$2:$G$415,7,0),"") | X84: =IF(S84<>0,ROUND(U84*W84,-3)," ") | AG84: =IF(AE84<>0,VLOOKUP(AE84,ODDS!$A$2:$C$13,3,0),"") | AH84: =IF(AE84<>0,ROUND(AF84*AG84,-2)," ") | AI84: =IF(B84<>0,M84+N84+R84+X84+AH84," ")
A85: 8 Total | B85: 8 | C85: Quách Thị Tuyết Mai; Nguyễn Ngọc Trường | H85: =SUBTOTAL(9,H86:H91) -> 24.6 | I85: =SUBTOTAL(9,I86:I91) -> 0 | M85: =SUBTOTAL(9,M86:M91) -> 13638000 | N85: =SUBTOTAL(9,N86:N91) -> 0 | P85: =SUBTOTAL(9,P86:P91) -> 0 | R85: =SUBTOTAL(9,R86:R91) -> 0 | U85: =SUBTOTAL(9,U86:U91) -> 0 | X85: =SUBTOTAL(9,X86:X91) -> 0 | AF85: =SUBTOTAL(9,AF86:AF91) -> 0 | AH85: =SUBTOTAL(9,AH86:AH91) -> 0 | AI85: =IF(B85<>0,M85+N85+R85+X85+AH85," ") -> 13638000
A86: =IF(B85<>0,B85,A84) -> 8 | C86: 1949 - 0911 4900 5395 1949 - 0830 4900 4059 | E86: 86 | F86: 1582 | G86: Đất trồng cây lâu năm (GCN) - VT1 giáp hẻm 1065 (ngăn cách mương) | H86: 24.6 | I86: =IF(N86>0,H86,"") | K86: =IF(G86<>0,VLOOKUP(G86,'gia dat'!$A$1:$F$144,5,0)," ") -> 554400 | L86: =IF(G86<>0,VLOOKUP(G86,'gia dat'!$A$1:$F$144,6,0)," ") -> 0 | M86: =IF(H86<>0,ROUND(H86*K86,-3)," ") -> 13638000 | N86: =IF(H86<>0,ROUND(H86*L86,-3)," ") -> 0 | W86: =IF(S86<>0,VLOOKUP(S86,VKT!$A$2:$G$415,7,0),"") | X86: =IF(S86<>0,ROUND(U86*W86,-3)," ") | AG86: =IF(AE86<>0,VLOOKUP(AE86,ODDS!$A$2:$C$13,3,0),"") | AH86: =IF(AE86<>0,ROUND(AF86*AG86,-2)," ") | AI86: =IF(B86<>0,M86+N86+R86+X86+AH86," ") | AJ86: Nguồn gốc đất có GCN số DN 948275 do Chi nhánh văn phòng ĐKĐĐ Thành Phố Rạch Giá cấp ngày 23/04/2024. Tờ BĐ 86, thửa 1582; diện tích 929,6 m² đất trồng cây lâu năm. GCN do Quách Thị Tuyết Mai; Nguyễn Ngọc Trường đứng tên. hiện trạng do cha mẹ cho con là Nguyễn Ngọc Trung năm 1990 (không có giấy tay), một phần thửa đất | AK86: Giá bồi thường về đất theo Nghị quyết số 16/2025/NQ-HĐND ngày 30/12/2025 của Hội đồng nhân dân tỉnh AG và Quyết định số 69/2026/QĐ-UBND ngày 18/7/2026 của UBND tỉnh AG | AL86: chưa thông tin CĐN
A87: =IF(B86<>0,B86,A86) -> 8 | C87: 818 Ngô Quyền, phường Rạch Giá, tỉnh An Giang | K87: =IF(G87<>0,VLOOKUP(G87,'gia dat'!$A$1:$F$144,5,0)," ") | L87: =IF(G87<>0,VLOOKUP(G87,'gia dat'!$A$1:$F$144,6,0)," ") | M87: =IF(H87<>0,ROUND(H87*K87,-3)," ") | N87: =IF(H87<>0,ROUND(H87*L87,-3)," ") | W87: =IF(S87<>0,VLOOKUP(S87,VKT!$A$2:$G$415,7,0),"") | X87: =IF(S87<>0,ROUND(U87*W87,-3)," ") | AG87: =IF(AE87<>0,VLOOKUP(AE87,ODDS!$A$2:$C$13,3,0),"") | AI87: =IF(B87<>0,M87+N87+R87+X87+AH87," ") | AJ87: Chưa lập hồ sơ chính chủ
A88: =IF(B87<>0,B87,A87) -> 8 | K88: =IF(G88<>0,VLOOKUP(G88,'gia dat'!$A$1:$F$144,5,0)," ") | L88: =IF(G88<>0,VLOOKUP(G88,'gia dat'!$A$1:$F$144,6,0)," ") | M88: =IF(H88<>0,ROUND(H88*K88,-3)," ") | N88: =IF(H88<>0,ROUND(H88*L88,-3)," ") | W88: =IF(S88<>0,VLOOKUP(S88,VKT!$A$2:$G$415,7,0),"") | X88: =IF(S88<>0,ROUND(U88*W88,-3)," ") | AG88: =IF(AE88<>0,VLOOKUP(AE88,ODDS!$A$2:$C$13,3,0),"") | AI88: =IF(B88<>0,M88+N88+R88+X88+AH88," ")
A89: =IF(B88<>0,B88,A88) -> 8 | K89: =IF(G89<>0,VLOOKUP(G89,'gia dat'!$A$1:$F$144,5,0)," ") | L89: =IF(G89<>0,VLOOKUP(G89,'gia dat'!$A$1:$F$144,6,0)," ") | M89: =IF(H89<>0,ROUND(H89*K89,-3)," ") | N89: =IF(H89<>0,ROUND(H89*L89,-3)," ") | W89: =IF(S89<>0,VLOOKUP(S89,VKT!$A$2:$G$415,7,0),"") | X89: =IF(S89<>0,ROUND(U89*W89,-3)," ") | AG89: =IF(AE89<>0,VLOOKUP(AE89,ODDS!$A$2:$C$13,3,0),"") | AI89: =IF(B89<>0,M89+N89+R89+X89+AH89," ")
A90: =IF(B89<>0,B89,A89) -> 8 | K90: =IF(G90<>0,VLOOKUP(G90,'gia dat'!$A$1:$F$144,5,0)," ") | L90: =IF(G90<>0,VLOOKUP(G90,'gia dat'!$A$1:$F$144,6,0)," ") | M90: =IF(H90<>0,ROUND(H90*K90,-3)," ") | N90: =IF(H90<>0,ROUND(H90*L90,-3)," ") | W90: =IF(S90<>0,VLOOKUP(S90,VKT!$A$2:$G$415,7,0),"") | X90: =IF(S90<>0,ROUND(U90*W90,-3)," ") | AG90: =IF(AE90<>0,VLOOKUP(AE90,ODDS!$A$2:$C$13,3,0),"") | AI90: =IF(B90<>0,M90+N90+R90+X90+AH90," ")
A91: =IF(B90<>0,B90,A90) -> 8 | K91: =IF(G91<>0,VLOOKUP(G91,'gia dat'!$A$1:$F$144,5,0)," ") | L91: =IF(G91<>0,VLOOKUP(G91,'gia dat'!$A$1:$F$144,6,0)," ") | M91: =IF(H91<>0,ROUND(H91*K91,-3)," ") | N91: =IF(H91<>0,ROUND(H91*L91,-3)," ") | W91: =IF(S91<>0,VLOOKUP(S91,VKT!$A$2:$G$415,7,0),"") | X91: =IF(S91<>0,ROUND(U91*W91,-3)," ") | AG91: =IF(AE91<>0,VLOOKUP(AE91,ODDS!$A$2:$C$13,3,0),"") | AI91: =IF(B91<>0,M91+N91+R91+X91+AH91," ")
A92: 9 Total | B92: 9 | C92: Quách Thị Tuyết Mai; Nguyễn Ngọc Trường | H92: =SUBTOTAL(9,H93:H97) -> 23.9 | I92: =SUBTOTAL(9,I93:I98) -> 0 | M92: =SUBTOTAL(9,M93:M97) -> 13250000 | N92: =SUBTOTAL(9,N93:N97) -> 0 | P92: =SUBTOTAL(9,P93:P97) -> 0 | R92: =SUBTOTAL(9,R93:R97) -> 0 | U92: =SUBTOTAL(9,U93:U97) -> 0 | X92: =SUBTOTAL(9,X93:X97) -> 0 | AF92: =SUBTOTAL(9,AF93:AF97) -> 0 | AH92: =SUBTOTAL(9,AH93:AH97) -> 0 | AI92: =IF(B92<>0,M92+N92+R92+X92+AH92," ") -> 13250000
A93: =IF(B92<>0,B92,A91) -> 9 | C93: 1949 - 0911 4900 5395 1949 - 0830 4900 4059 | E93: 86 | F93: 1582 | G93: Đất trồng cây lâu năm (GCN) - VT1 giáp hẻm 1065 (ngăn cách mương) | H93: 23.9 | I93: =IF(N93>0,H93,"") | K93: =IF(G93<>0,VLOOKUP(G93,'gia dat'!$A$1:$F$144,5,0)," ") -> 554400 | L93: =IF(G93<>0,VLOOKUP(G93,'gia dat'!$A$1:$F$144,6,0)," ") -> 0 | M93: =IF(H93<>0,ROUND(H93*K93,-3)," ") -> 13250000 | N93: =IF(H93<>0,ROUND(H93*L93,-3)," ") -> 0 | W93: =IF(S93<>0,VLOOKUP(S93,VKT!$A$2:$G$415,7,0),"") | X93: =IF(S93<>0,ROUND(U93*W93,-3)," ") | AG93: =IF(AE93<>0,VLOOKUP(AE93,ODDS!$A$2:$C$13,3,0),"") | AI93: =IF(B93<>0,M93+N93+R93+X93+AH93," ") | AJ93: Nguồn gốc đất có GCN số DN 948275 do Chi nhánh văn phòng ĐKĐĐ Thành Phố Rạch Giá cấp ngày 23/04/2024.Tờ BĐ 86, thửa 1582; diện tích 929,6 m² đất trồng cây lâu năm. GCN do Quách Thị Tuyết Mai; Nguyễn Ngọc Trường đứng tên. hiện trạng do cha mẹ cho con là Nguyễn Thị Tuyết Loan ngày 18/6/2015 (giấy tay), một phần thửa đất | AK93: Giá bồi thường về đất theo Nghị quyết số 16/2025/NQ-HĐND ngày 30/12/2025 của Hội đồng nhân dân tỉnh AG và Quyết định số 69/2026/QĐ-UBND ngày 18/7/2026 của UBND tỉnh AG | AL93: chưa thông tin CĐN
A94: =IF(B93<>0,B93,A93) -> 9 | C94: 818 Ngô Quyền, phường Rạch Giá, tỉnh An Giang | K94: =IF(G94<>0,VLOOKUP(G94,'gia dat'!$A$1:$F$144,5,0)," ") | L94: =IF(G94<>0,VLOOKUP(G94,'gia dat'!$A$1:$F$144,6,0)," ") | M94: =IF(H94<>0,ROUND(H94*K94,-3)," ") | N94: =IF(H94<>0,ROUND(H94*L94,-3)," ") | W94: =IF(S94<>0,VLOOKUP(S94,VKT!$A$2:$G$415,7,0),"") | X94: =IF(S94<>0,ROUND(U94*W94,-3)," ") | AG94: =IF(AE94<>0,VLOOKUP(AE94,ODDS!$A$2:$C$13,3,0),"") | AI94: =IF(B94<>0,M94+N94+R94+X94+AH94," ") | AJ94: Chưa lập hồ sơ chính chủ
A95: =IF(B94<>0,B94,A94) -> 9 | K95: =IF(G95<>0,VLOOKUP(G95,'gia dat'!$A$1:$F$144,5,0)," ") | L95: =IF(G95<>0,VLOOKUP(G95,'gia dat'!$A$1:$F$144,6,0)," ") | M95: =IF(H95<>0,ROUND(H95*K95,-3)," ") | N95: =IF(H95<>0,ROUND(H95*L95,-3)," ") | W95: =IF(S95<>0,VLOOKUP(S95,VKT!$A$2:$G$415,7,0),"") | X95: =IF(S95<>0,ROUND(U95*W95,-3)," ") | AG95: =IF(AE95<>0,VLOOKUP(AE95,ODDS!$A$2:$C$13,3,0),"") | AI95: =IF(B95<>0,M95+N95+R95+X95+AH95," ")
A96: =IF(B95<>0,B95,A95) -> 9 | K96: =IF(G96<>0,VLOOKUP(G96,'gia dat'!$A$1:$F$144,5,0)," ") | L96: =IF(G96<>0,VLOOKUP(G96,'gia dat'!$A$1:$F$144,6,0)," ") | M96: =IF(H96<>0,ROUND(H96*K96,-3)," ") | N96: =IF(H96<>0,ROUND(H96*L96,-3)," ") | W96: =IF(S96<>0,VLOOKUP(S96,VKT!$A$2:$G$415,7,0),"") | X96: =IF(S96<>0,ROUND(U96*W96,-3)," ") | AG96: =IF(AE96<>0,VLOOKUP(AE96,ODDS!$A$2:$C$13,3,0),"") | AI96: =IF(B96<>0,M96+N96+R96+X96+AH96," ")
A97: =IF(B96<>0,B96,A96) -> 9 | K97: =IF(G97<>0,VLOOKUP(G97,'gia dat'!$A$1:$F$144,5,0)," ") | L97: =IF(G97<>0,VLOOKUP(G97,'gia dat'!$A$1:$F$144,6,0)," ") | M97: =IF(H97<>0,ROUND(H97*K97,-3)," ") | N97: =IF(H97<>0,ROUND(H97*L97,-3)," ") | W97: =IF(S97<>0,VLOOKUP(S97,VKT!$A$2:$G$415,7,0),"") | X97: =IF(S97<>0,ROUND(U97*W97,-3)," ") | AG97: =IF(AE97<>0,VLOOKUP(AE97,ODDS!$A$2:$C$13,3,0),"") | AI97: =IF(B97<>0,M97+N97+R97+X97+AH97," ")
A98: 10 Total | B98: 10 | C98: Quách Thị Tuyết Mai; Nguyễn Ngọc Trường | H98: =SUBTOTAL(9,H99:H102) -> 16.6 | I98: =SUBTOTAL(9,I99:I104) -> 0 | M98: =SUBTOTAL(9,M99:M102) -> 9203000 | N98: =SUBTOTAL(9,N99:N102) -> 0 | P98: =SUBTOTAL(9,P99:P102) -> 0 | R98: =SUBTOTAL(9,R99:R102) -> 0 | U98: =SUBTOTAL(9,U99:U102) -> 0 | X98: =SUBTOTAL(9,X99:X102) -> 0 | AF98: =SUBTOTAL(9,AF99:AF102) -> 0 | AH98: =SUBTOTAL(9,AH99:AH102) -> 0 | AI98: =IF(B98<>0,M98+N98+R98+X98+AH98," ") -> 9203000
A99: =IF(B98<>0,B98,A97) -> 10 | C99: 1949 - 0911 4900 5395 1949 - 0830 4900 4059 | E99: 86 | F99: 1582 | G99: Đất trồng cây lâu năm (GCN) - VT1 giáp hẻm 1065 (ngăn cách mương) | H99: 16.6 | I99: =IF(N99>0,H99,"") | K99: =IF(G99<>0,VLOOKUP(G99,'gia dat'!$A$1:$F$144,5,0)," ") -> 554400 | L99: =IF(G99<>0,VLOOKUP(G99,'gia dat'!$A$1:$F$144,6,0)," ") -> 0 | M99: =IF(H99<>0,ROUND(H99*K99,-3)," ") -> 9203000 | N99: =IF(H99<>0,ROUND(H99*L99,-3)," ") -> 0 | W99: =IF(S99<>0,VLOOKUP(S99,VKT!$A$2:$G$415,7,0),"") | X99: =IF(S99<>0,ROUND(U99*W99,-3)," ") | AG99: =IF(AE99<>0,VLOOKUP(AE99,ODDS!$A$2:$C$13,3,0),"") | AI99: =IF(B99<>0,M99+N99+R99+X99+AH99," ") | AJ99: Nguồn gốc đất ó GCN số DN 948275 do Chi nhánh văn phòng ĐKĐĐ Thành Phố Rạch Giá cấp ngày 23/04/2024.Tờ BĐ 86, thửa 1582; diện tích 929,6 m² đất trồng cây lâu năm. GCN do Quách Thị Tuyết Mai; Nguyễn Ngọc Trường đứng tên. hiện trạng do cha mẹ cho con là Nguyễn Ngọc Hiếu ngày 18/6/2015 (giấy tay), một phần thửa đất | AK99: Giá bồi thường về đất theo Nghị quyết số 16/2025/NQ-HĐND ngày 30/12/2025 của Hội đồng nhân dân tỉnh AG và Quyết định số 69/2026/QĐ-UBND ngày 18/7/2026 của UBND tỉnh AG | AL99: chưa thông tin CĐN
A100: =IF(B99<>0,B99,A99) -> 10 | C100: 818 Ngô Quyền, phường Rạch Giá, tỉnh An Giang | K100: =IF(G100<>0,VLOOKUP(G100,'gia dat'!$A$1:$F$144,5,0)," ") | L100: =IF(G100<>0,VLOOKUP(G100,'gia dat'!$A$1:$F$144,6,0)," ") | M100: =IF(H100<>0,ROUND(H100*K100,-3)," ") | N100: =IF(H100<>0,ROUND(H100*L100,-3)," ") | W100: =IF(S100<>0,VLOOKUP(S100,VKT!$A$2:$G$415,7,0),"") | X100: =IF(S100<>0,ROUND(U100*W100,-3)," ") | AG100: =IF(AE100<>0,VLOOKUP(AE100,ODDS!$A$2:$C$13,3,0),"") | AI100: =IF(B100<>0,M100+N100+R100+X100+AH100," ") | AJ100: Chưa lập hồ sơ chính chủ
...

Sheet BTH
B1: =H7+C1 -> 82997 | C1: =0.4+5.9-0.5 -> 5.8 | AM1: năm xây dựng nhà cung cấp sau
A2: DỰ THẢO BẢNG TỔNG HỢP BỒI THƯỜNG, HỖ TRỢ, TÁI ĐỊNH CƯ KHI NHÀ NƯỚC THU HỒI ĐẤT ĐỂ THỰC HIỆN DỰ ÁN: KHU TÁI ĐỊNH CƯ NAM AN HÒA (GIAI ĐOẠN 3)
A3: ĐỊA ĐIỂM: KHU PHỐ 2 AN HÒA VÀ KHU PHỐ 5 AN HÒA, PHƯỜNG RẠCH GIÁ, TỈNH AN GIANG
B4: =C4-B1 -> 0 | C4: 82997
B5: Số | C5: Họ và Tên | D5: Số | E5: Số | F5: Số | G5: Đất đai | O5: Cây trồng | S5: Vật kiến trúc | Y5: Kết cấu | AE5: Chính sách bồi thường, hỗ trợ khác | AI5: Tổng | AJ5: Các cơ sở pháp lý
A6: a | B6: PA | D6: kh | E6: tờ | F6: th | G6: Loại đất | H6: DT (m2) | I6: Diện tích CĐN | J6: AH | K6: Đ.giá BT | L6: Đ.giá HT | M6: T.tiền BT | N6: T.tiền HT | O6: Loại cây | P6: SL | Q6: Đ.giá | R6: T.tiền | S6: Hạng mục | T6: DV | U6: DT | V6: AH | W6: Đ.giá | X6: T.tiền | Y6: Móng | Z6: Mái | AA6: Nền | AB6: Vách | AC6: Cột | AD6: Trần | AE6: Loại BT,HT | AF6: S. lượng | AG6: Đ.giá | AH6: T.tiền | AI6: T.tiền | AJ6: Các thông tin được địa phương xác nhận về nguồn gốc đất, nhà vật kiến trúc trên đất | AK6: Căn cứ cơ sở pháp lý
A7: Grand Total | C7: Tổng | H7: =SUBTOTAL(9,H9:H2439) -> 82991.2 | I7: =SUBTOTAL(9,I9:I2439) -> 43626.2 | M7: =SUBTOTAL(9,M9:M2439) -> 70703020000 | N7: =SUBTOTAL(9,N9:N2439) -> 62265448000 | P7: =SUBTOTAL(9,P9:P2439) -> 16033.5 | R7: =SUBTOTAL(9,R9:R2439) -> 2065249500 | U7: =SUBTOTAL(9,U9:U2439) -> 23019.546 | X7: =SUBTOTAL(9,X9:X2439) -> 25201681000 | AF7: =SUBTOTAL(9,AF9:AF2439) -> 31 | AH7: =SUBTOTAL(9,AH9:AH2439) -> 309000000 | AI7: =SUBTOTAL(9,AI8:AI2439) -> 160544398500
A8: 1 Total | B8: 1 | C8: Quách Ngọc Tuấn | H8: =SUBTOTAL(9,H9:H14) -> 0 | I8: =SUBTOTAL(9,I9:I14) -> 0 | M8: =SUBTOTAL(9,M9:M14) -> 0 | N8: =SUBTOTAL(9,N9:N14) -> 0 | P8: =SUBTOTAL(9,P9:P14) -> 0 | R8: =SUBTOTAL(9,R9:R14) -> 0 | U8: =SUBTOTAL(9,U9:U14) -> 50.55 | X8: =SUBTOTAL(9,X9:X14) -> 61518000 | AF8: =SUBTOTAL(9,AF9:AF14) -> 1 | AH8: =SUBTOTAL(9,AH9:AH14) -> 5000000 | AI8: =IF(B8<>0,M8+N8+R8+X8+AH8," ") -> 66518000
A9: =IF(B8<>0,B8,A6) -> 1 | C9: 1974 - 0910 7400 2275 | D9: 4 | K9: =IF(G9<>0,VLOOKUP(G9,'gia dat'!$A$1:$F$144,5,0)," ") | L9: =IF(G9<>0,VLOOKUP(G9,'gia dat'!$A$1:$F$144,6,0)," ") | M9: =IF(H9<>0,ROUND(H9*K9,-3)," ") | N9: =IF(H9<>0,ROUND(H9*L9,-3)," ") | Q9: =IF(O9<>0,VLOOKUP(O9,'Cây trong'!$A$2:$C$246,3,0)," ") | R9: =IF(O9<>0,ROUND(P9*Q9,-2)," ") | S9: Nhà C4.05 (hỗ trợ 90%) | T9: m² | U9: 15.3 | W9: =IF(S9<>0,VLOOKUP(S9,VKT!$A$2:$G$415,7,0),"") -> 3550600 | X9: =IF(S9<>0,ROUND(U9*W9,-3)," ") -> 54324000 | Y9: Gạch | Z9: Tolv | AA9: G.men | AB9: Tường | AC9: Gạch | AD9: Prima | AE9: Kinh doanh không đăng ký | AF9: 1 | AG9: =IF(AE9<>0,VLOOKUP(AE9,ODDS!$A$2:$C$13,3,0),"") -> 5000000 | AH9: =IF(AE9<>0,ROUND(AF9*AG9,-2)," ") -> 5000000 | AI9: =IF(B9<>0,M9+N9+R9+X9+AH9," ") | AJ9: Nhà xây dựng năm 2006, sửa lại năm 2015 cất trên đất Ông Quách Ngọc Nghé | AK9: Giá hỗ trợ VKT theo Quyết định số 11/QĐ-UBND ngày 31/3/2025 và khoản c, điều 5 Quyết định số 07/2026/QĐ-UBND ngày 12/02/2026 của UBND tỉnh AG
A10: =IF(B9<>0,B9,A9) -> 1 | C10: 1065/1C Lâm Quang Ky, Phường Rạch Giá, tỉnh An Giang | K10: =IF(G10<>0,VLOOKUP(G10,'gia dat'!$A$1:$F$144,5,0)," ") | L10: =IF(G10<>0,VLOOKUP(G10,'gia dat'!$A$1:$F$144,6,0)," ") | M10: =IF(H10<>0,ROUND(H10*K10,-3)," ") | N10: =IF(H10<>0,ROUND(H10*L10,-3)," ") | Q10: =IF(O10<>0,VLOOKUP(O10,'Cây trong'!$A$2:$C$246,3,0)," ") | R10: =IF(O10<>0,ROUND(P10*Q10,-2)," ") | S10: Mái che tol (hỗ trợ 90%) | T10: m² | U10: 5.85 | W10: =IF(S10<>0,VLOOKUP(S10,VKT!$A$2:$G$415,7,0),"") -> 0 | X10: =IF(S10<>0,ROUND(U10*W10,-3)," ") -> 0 | AG10: =IF(AE10<>0,VLOOKUP(AE10,ODDS!$A$2:$C$13,3,0),"") | AH10: =IF(AE10<>0,ROUND(AF10*AG10,-2)," ") | AI10: =IF(B10<>0,M10+N10+R10+X10+AH10," ") | AJ10: Kinh doanh mua bán tạp hóa (ko giấy phép) | AK10: Hỗ trợ kinh doanh theo khoản 1, Điều 12, Quyết định số 12/2025/QĐ-UBND ngày 30/9/2025 của UBND tỉnh AG
A11: =IF(B10<>0,B10,A10) -> 1 | C11: Vợ: Trần Thị Kiều Oanh | K11: =IF(G11<>0,VLOOKUP(G11,'gia dat'!$A$1:$F$144,5,0)," ") | L11: =IF(G11<>0,VLOOKUP(G11,'gia dat'!$A$1:$F$144,6,0)," ") | M11: =IF(H11<>0,ROUND(H11*K11,-3)," ") | N11: =IF(H11<>0,ROUND(H11*L11,-3)," ") | Q11: =IF(O11<>0,VLOOKUP(O11,'Cây trong'!$A$2:$C$246,3,0)," ") | R11: =IF(O11<>0,ROUND(P11*Q11,-2)," ") | S11: Nền xi măng SN.01 (hỗ trợ 90%) | T11: m² | U11: 14.1 | W11: =IF(S11<>0,VLOOKUP(S11,VKT!$A$2:$G$415,7,0),"") -> 238288 | X11: =IF(S11<>0,ROUND(U11*W11,-3)," ") -> 3360000 | AG11: =IF(AE11<>0,VLOOKUP(AE11,ODDS!$A$2:$C$13,3,0),"") | AH11: =IF(AE11<>0,ROUND(AF11*AG11,-2)," ") | AI11: =IF(B11<>0,M11+N11+R11+X11+AH11," ") | AK11: Báo cáo số 06/BC-TTKĐ ngày 15 tháng 4 năm 2026 ngày 15 tháng 4 năm 2026 của Trung tâm kiểm định và Dịch vụ xây dựng - Sở Xây dựng tỉnh AG
A12: =IF(B11<>0,B11,A11) -> 1 | K12: =IF(G12<>0,VLOOKUP(G12,'gia dat'!$A$1:$F$144,5,0)," ") | L12: =IF(G12<>0,VLOOKUP(G12,'gia dat'!$A$1:$F$144,6,0)," ") | M12: =IF(H12<>0,ROUND(H12*K12,-3)," ") | N12: =IF(H12<>0,ROUND(H12*L12,-3)," ") | Q12: =IF(O12<>0,VLOOKUP(O12,'Cây trong'!$A$2:$C$246,3,0)," ") | R12: =IF(O12<>0,ROUND(P12*Q12,-2)," ") | S12: Trần Prima (hỗ trợ 90%) | T12: m² | U12: 15.3 | W12: =IF(S12<>0,VLOOKUP(S12,VKT!$A$2:$G$415,7,0),"") -> 250583 | X12: =IF(S12<>0,ROUND(U12*W12,-3)," ") -> 3834000 | AG12: =IF(AE12<>0,VLOOKUP(AE12,ODDS!$A$2:$C$13,3,0),"") | AH12: =IF(AE12<>0,ROUND(AF12*AG12,-2)," ") | AI12: =IF(B12<>0,M12+N12+R12+X12+AH12," ")
A13: =IF(B12<>0,B12,A12) -> 1 | K13: =IF(G13<>0,VLOOKUP(G13,'gia dat'!$A$1:$F$144,5,0)," ") | L13: =IF(G13<>0,VLOOKUP(G13,'gia dat'!$A$1:$F$144,6,0)," ") | M13: =IF(H13<>0,ROUND(H13*K13,-3)," ") | N13: =IF(H13<>0,ROUND(H13*L13,-3)," ") | W13: =IF(S13<>0,VLOOKUP(S13,VKT!$A$2:$G$415,7,0),"") | X13: =IF(S13<>0,ROUND(U13*W13,-3)," ") | AG13: =IF(AE13<>0,VLOOKUP(AE13,ODDS!$A$2:$C$13,3,0),"") | AI13: =IF(B13<>0,M13+N13+R13+X13+AH13," ")
A14: =IF(B13<>0,B13,A13) -> 1 | K14: =IF(G14<>0,VLOOKUP(G14,'gia dat'!$A$1:$F$144,5,0)," ") | L14: =IF(G14<>0,VLOOKUP(G14,'gia dat'!$A$1:$F$144,6,0)," ") | M14: =IF(H14<>0,ROUND(H14*K14,-3)," ") | N14: =IF(H14<>0,ROUND(H14*L14,-3)," ") | W14: =IF(S14<>0,VLOOKUP(S14,VKT!$A$2:$G$415,7,0),"") | X14: =IF(S14<>0,ROUND(U14*W14,-3)," ") | AG14: =IF(AE14<>0,VLOOKUP(AE14,ODDS!$A$2:$C$13,3,0),"") | AI14: =IF(B14<>0,M14+N14+R14+X14+AH14," ")
A15: 2 Total | B15: 2 | C15: Hộ Ông Quách Ngọc Nghé | H15: =SUBTOTAL(9,H16:H21) -> 25.9 | I15: =SUBTOTAL(9,I16:I21) -> 0 | M15: =SUBTOTAL(9,M16:M21) -> 14359000 | N15: =SUBTOTAL(9,N16:N21) -> 0 | P15: =SUBTOTAL(9,P16:P21) -> 0 | R15: =SUBTOTAL(9,R16:R21) -> 0 | U15: =SUBTOTAL(9,U16:U21) -> 0 | X15: =SUBTOTAL(9,X16:X21) -> 0 | AF15: =SUBTOTAL(9,AF16:AF21) -> 0 | AH15: =SUBTOTAL(9,AH16:AH21) -> 0 | AI15: =IF(B15<>0,M15+N15+R15+X15+AH15," ") -> 14359000
A16: =IF(B15<>0,B15,A14) -> 2 | C16: 1943 - 0910 4300 2669 | G16: Đất trồng cây lâu năm ngoài GCN (LG) - VT1 - giáp đường LQK (đoạn Đống Đa - Ngô Văn Sở) - trừ VKT | H16: 25.9 | I16: =IF(N16>0,H16,"") | K16: =IF(G16<>0,VLOOKUP(G16,'gia dat'!$A$1:$F$144,5,0)," ") -> 554400 | L16: =IF(G16<>0,VLOOKUP(G16,'gia dat'!$A$1:$F$144,6,0)," ") -> 0 | M16: =IF(H16<>0,ROUND(H16*K16,-3)," ") -> 14359000 | N16: =IF(H16<>0,ROUND(H16*L16,-3)," ") -> 0 | W16: =IF(S16<>0,VLOOKUP(S16,VKT!$A$2:$G$415,7,0),"") | X16: =IF(S16<>0,ROUND(U16*W16,-3)," ") | AG16: =IF(AE16<>0,VLOOKUP(AE16,ODDS!$A$2:$C$13,3,0),"") | AI16: =IF(B16<>0,M16+N16+R16+X16+AH16," ") | AJ16: Nguồn gốc đất Phần diện tích 10,5 m² nằm ngoài GCN thuộc đất HLATGT, có cùng nguồn gốc và thời điểm sử dụng theo GCN số BU 454890 do UBND Thành Phố Rạch Giá cấp ngày 22/10/2014 do Hộ Ông Quách Ngọc Nghé đứng tên. hiện trạng do cha Quách Ngọc Nghé cho con là Quách Ngọc Tuấn ngày 12/6/2006 (giấy tay). | AK16: Giá bồi thường về đất theo Nghị quyết số 16/2025/NQ-HĐND ngày 30/12/2025 của Hội đồng nhân dân tỉnh AG và Quyết định số 69/2026/QĐ-UBND ngày 18/7/2026 của UBND tỉnh AG
A17: =IF(B16<>0,B16,A16) -> 2 | C17: 1065 Lâm Quang Ky, Phường Rạch Giá, tỉnh An Giang | K17: =IF(G17<>0,VLOOKUP(G17,'gia dat'!$A$1:$F$144,5,0)," ") | L17: =IF(G17<>0,VLOOKUP(G17,'gia dat'!$A$1:$F$144,6,0)," ") | M17: =IF(H17<>0,ROUND(H17*K17,-3)," ") | N17: =IF(H17<>0,ROUND(H17*L17,-3)," ") | W17: =IF(S17<>0,VLOOKUP(S17,VKT!$A$2:$G$415,7,0),"") | X17: =IF(S17<>0,ROUND(U17*W17,-3)," ") | AG17: =IF(AE17<>0,VLOOKUP(AE17,ODDS!$A$2:$C$13,3,0),"") | AI17: =IF(B17<>0,M17+N17+R17+X17+AH17," ")
A18: =IF(B17<>0,B17,A17) -> 2 | C18: Vợ: Trang Thị Em | K18: =IF(G18<>0,VLOOKUP(G18,'gia dat'!$A$1:$F$144,5,0)," ") | L18: =IF(G18<>0,VLOOKUP(G18,'gia dat'!$A$1:$F$144,6,0)," ") | M18: =IF(H18<>0,ROUND(H18*K18,-3)," ") | N18: =IF(H18<>0,ROUND(H18*L18,-3)," ") | W18: =IF(S18<>0,VLOOKUP(S18,VKT!$A$2:$G$415,7,0),"") | X18: =IF(S18<>0,ROUND(U18*W18,-3)," ") | AG18: =IF(AE18<>0,VLOOKUP(AE18,ODDS!$A$2:$C$13,3,0),"") | AI18: =IF(B18<>0,M18+N18+R18+X18+AH18," ")
A19: =IF(B18<>0,B18,A18) -> 2 | K19: =IF(G19<>0,VLOOKUP(G19,'gia dat'!$A$1:$F$144,5,0)," ") | L19: =IF(G19<>0,VLOOKUP(G19,'gia dat'!$A$1:$F$144,6,0)," ") | M19: =IF(H19<>0,ROUND(H19*K19,-3)," ") | N19: =IF(H19<>0,ROUND(H19*L19,-3)," ") | W19: =IF(S19<>0,VLOOKUP(S19,VKT!$A$2:$G$415,7,0),"") | X19: =IF(S19<>0,ROUND(U19*W19,-3)," ") | AG19: =IF(AE19<>0,VLOOKUP(AE19,ODDS!$A$2:$C$13,3,0),"") | AI19: =IF(B19<>0,M19+N19+R19+X19+AH19," ")
A20: =IF(B19<>0,B19,A19) -> 2 | K20: =IF(G20<>0,VLOOKUP(G20,'gia dat'!$A$1:$F$144,5,0)," ") | L20: =IF(G20<>0,VLOOKUP(G20,'gia dat'!$A$1:$F$144,6,0)," ") | M20: =IF(H20<>0,ROUND(H20*K20,-3)," ") | N20: =IF(H20<>0,ROUND(H20*L20,-3)," ") | Q20: =IF(O20<>0,VLOOKUP(O20,'Cây trong'!$A$2:$C$246,3,0)," ") | R20: =IF(O20<>0,ROUND(P20*Q20,-2)," ") | W20: =IF(S20<>0,VLOOKUP(S20,VKT!$A$2:$G$415,7,0),"") | X20: =IF(S20<>0,ROUND(U20*W20,-3)," ") | AG20: =IF(AE20<>0,VLOOKUP(AE20,ODDS!$A$2:$C$13,3,0),"") | AH20: =IF(AE20<>0,ROUND(AF20*AG20,-2)," ") | AI20: =IF(B20<>0,M20+N20+R20+X20+AH20," ")
A21: =IF(B20<>0,B20,A20) -> 2 | K21: =IF(G21<>0,VLOOKUP(G21,'gia dat'!$A$1:$F$144,5,0)," ") | L21: =IF(G21<>0,VLOOKUP(G21,'gia dat'!$A$1:$F$144,6,0)," ") | M21: =IF(H21<>0,ROUND(H21*K21,-3)," ") | N21: =IF(H21<>0,ROUND(H21*L21,-3)," ") | Q21: =IF(O21<>0,VLOOKUP(O21,'Cây trong'!$A$2:$C$246,3,0)," ") | R21: =IF(O21<>0,ROUND(P21*Q21,-2)," ") | W21: =IF(S21<>0,VLOOKUP(S21,VKT!$A$2:$G$415,7,0),"") | X21: =IF(S21<>0,ROUND(U21*W21,-3)," ") | AG21: =IF(AE21<>0,VLOOKUP(AE21,ODDS!$A$2:$C$13,3,0),"") | AH21: =IF(AE21<>0,ROUND(AF21*AG21,-2)," ") | AI21: =IF(B21<>0,M21+N21+R21+X21+AH21," ")
A22: 3 Total | B22: 3 | C22: Hộ Ông Quách Ngọc Nghé | H22: =SUBTOTAL(9,H23:H48) -> 587.1 | I22: =SUBTOTAL(9,I23:I28) -> 405.4 | M22: =SUBTOTAL(9,M23:M48) -> 2987514000 | N22: =SUBTOTAL(9,N23:N48) -> 674261000 | P22: =SUBTOTAL(9,P23:P48) -> 605 | R22: =SUBTOTAL(9,R23:R48) -> 76300000 | U22: =SUBTOTAL(9,U23:U48) -> 670.2 | X22: =SUBTOTAL(9,X23:X48) -> 1667759000 | AF22: =SUBTOTAL(9,AF23:AF48) -> 0 | AH22: =SUBTOTAL(9,AH23:AH48) -> 0 | AI22: =IF(B22<>0,M22+N22+R22+X22+AH22," ") -> 5405834000
A23: =IF(B22<>0,B22,A21) -> 3 | C23: 1943 - 0910 4300 2669 | D23: 12 | E23: 85 | F23: 37 | G23: Đất ở đô thị (GCN) - VT1 - đường LQK (đoạn Đống Đa - Ngô Văn Sở) | H23: 124.2 | I23: =IF(N23>0,H23,"") | K23: =IF(G23<>0,VLOOKUP(G23,'gia dat'!$A$1:$F$144,5,0)," ") -> 16800000 | L23: =IF(G23<>0,VLOOKUP(G23,'gia dat'!$A$1:$F$144,6,0)," ") -> 0 | M23: =IF(H23<>0,ROUND(H23*K23,-3)," ") -> 2086560000 | N23: =IF(H23<>0,ROUND(H23*L23,-3)," ") -> 0 | O23: Dừa A | P23: 5 | Q23: =IF(O23<>0,VLOOKUP(O23,'Cây trong'!$A$2:$C$246,3,0)," ") -> 1708000 | R23: =IF(O23<>0,ROUND(P23*Q23,-2)," ") -> 8540000 | S23: Nhà C2.01 (hỗ trợ 90%) | T23: m² | U23: 104.4 | W23: =IF(S23<>0,VLOOKUP(S23,VKT!$A$2:$G$415,7,0),"") -> 5789151 | X23: =IF(S23<>0,ROUND(U23*W23,-3)," ") -> 604387000 | Y23: Btct | Z23: Btct | AA23: G.men | AB23: Tường | AC23: Btct | AG23: =IF(AE23<>0,VLOOKUP(AE23,ODDS!$A$2:$C$13,3,0),"") | AI23: =IF(B23<>0,M23+N23+R23+X23+AH23," ") | AJ23: Có GCN số BU 454890 do UBND Thành Phố Rạch Giá cấp ngày 22/10/2014. | AK23: Giá bồi thường về đất theo Nghị quyết số 16/2025/NQ-HĐND ngày 30/12/2025 của Hội đồng nhân dân tỉnh AG và Quyết định số 69/2026/QĐ-UBND ngày 18/7/2026 của UBND tỉnh AG
A24: =IF(B23<>0,B23,A23) -> 3 | C24: 1065 Lâm Quang Ky, Phường Rạch Giá, tỉnh An Giang | E24: 85 | F24: 37 | G24: Đất ở đô thị (GCN) - VT2 - đường LQK (đoạn Đống Đa - Ngô Văn Sở) | H24: =181.7-H23 -> 57.5 | I24: =IF(N24>0,H24,"") | K24: =IF(G24<>0,VLOOKUP(G24,'gia dat'!$A$1:$F$144,5,0)," ") -> 11760000 | L24: =IF(G24<>0,VLOOKUP(G24,'gia dat'!$A$1:$F$144,6,0)," ") -> 0 | M24: =IF(H24<>0,ROUND(H24*K24,-3)," ") -> 676200000 | N24: =IF(H24<>0,ROUND(H24*L24,-3)," ") -> 0 | O24: Dừa B | P24: 2 | Q24: =IF(O24<>0,VLOOKUP(O24,'Cây trong'!$A$2:$C$246,3,0)," ") -> 1122000 | R24: =IF(O24<>0,ROUND(P24*Q24,-2)," ") -> 2244000 | S24: NTC.02 (hỗ trợ 90%) | T24: m² | U24: 47.94 | W24: =IF(S24<>0,VLOOKUP(S24,VKT!$A$2:$G$415,7,0),"") -> 770070 | X24: =IF(S24<>0,ROUND(U24*W24,-3)," ") -> 36917000 | Z24: Tolv | AA24: G.men | AC24: Sắt | AG24: =IF(AE24<>0,VLOOKUP(AE24,ODDS!$A$2:$C$13,3,0),"") | AH24: =IF(AE24<>0,ROUND(AF24*AG24,-2)," ") | AI24: =IF(B24<>0,M24+N24+R24+X24+AH24," ") | AJ24: Tờ BĐ 85, thửa 37; diện tích đất trồng cây lâu năm 2.316,8 m² | AK24: Hỗ trợ CĐN và TKVL theo khoản 1, điều 13 Quyết định số 12/2025/QĐ-UBND ngày 30/9/2025 của UBND tỉnh AG
A25: =IF(B24<>0,B24,A24) -> 3 | C25: Vợ: Trang Thị Em | E25: 85 | F25: 37 | G25: Đất trồng cây lâu năm (GCN) - VT1 - Giáp đường LQK (đoạn Đống Đa - Ngô Văn Sở) - CĐN | H25: 354.5 | I25: =IF(N25>0,H25,"") -> 354.5 | K25: =IF(G25<>0,VLOOKUP(G25,'gia dat'!$A$1:$F$144,5,0)," ") -> 554400 | L25: =IF(G25<>0,VLOOKUP(G25,'gia dat'!$A$1:$F$144,6,0)," ") -> 1663200 | M25: =IF(H25<>0,ROUND(H25*K25,-3)," ") -> 196535000 | N25: =IF(H25<>0,ROUND(H25*L25,-3)," ") -> 589604000 | O25: Dừa C | P25: 5 | Q25: =IF(O25<>0,VLOOKUP(O25,'Cây trong'!$A$2:$C$246,3,0)," ") -> 494000 | R25: =IF(O25<>0,ROUND(P25*Q25,-2)," ") -> 2470000 | S25: Sân xi măng SN.01 (hỗ trợ 90%) | T25: m² | U25: 17.7 | V25: 12.7 | W25: =IF(S25<>0,VLOOKUP(S25,VKT!$A$2:$G$415,7,0),"") -> 238288 | X25: =IF(S25<>0,ROUND(U25*W25,-3)," ") -> 4218000 | AG25: =IF(AE25<>0,VLOOKUP(AE25,ODDS!$A$2:$C$13,3,0),"") | AH25: =IF(AE25<>0,ROUND(AF25*AG25,-2)," ") | AI25: =IF(B25<>0,M25+N25+R25+X25+AH25," ") | AJ25: Có GCN quyền sở hữu nhà ở và Quyền sử dụng đất ở, hồ sơ gốc số 484 do UBND tỉnh Kiên Giang cấp ngày 10/11/1998. | AK25: Giá hỗ trợ VKT theo Quyết định số 11/QĐ-UBND ngày 31/3/2025 và khoản c, điều 5 Quyết định số 07/2026/QĐ-UBND ngày 12/02/2026 của UBND tỉnh AG | AL25: nguồn góc kí 354,5 bản đồ sửa
A26: =IF(B25<>0,B25,A25) -> 3 | G26: Đất trồng cây lâu năm-Ngoài GCN (LG) - VT1 - Giáp đường LQK (đoạn Đống Đa - Ngô Văn Sở) - CĐN | H26: 50.9 | I26: =IF(N26>0,H26,"") -> 50.9 | K26: =IF(G26<>0,VLOOKUP(G26,'gia dat'!$A$1:$F$144,5,0)," ") -> 554400 | L26: =IF(G26<>0,VLOOKUP(G26,'gia dat'!$A$1:$F$144,6,0)," ") -> 1663200 | M26: =IF(H26<>0,ROUND(H26*K26,-3)," ") -> 28219000 | N26: =IF(H26<>0,ROUND(H26*L26,-3)," ") -> 84657000 | O26: Dừa D | P26: 6 | Q26: =IF(O26<>0,VLOOKUP(O26,'Cây trong'!$A$2:$C$246,3,0)," ") -> 211000 | R26: =IF(O26<>0,ROUND(P26*Q26,-2)," ") -> 1266000 | S26: Nền xi măng SN.01 (hỗ trợ 90%) | T26: m² | U26: 17.9 | V26: 9.1 | W26: =IF(S26<>0,VLOOKUP(S26,VKT!$A$2:$G$415,7,0),"") -> 238288 | X26: =IF(S26<>0,ROUND(U26*W26,-3)," ") -> 4265000 | AG26: =IF(AE26<>0,VLOOKUP(AE26,ODDS!$A$2:$C$13,3,0),"") | AH26: =IF(AE26<>0,ROUND(AF26*AG26,-2)," ") | AI26: =IF(B26<>0,M26+N26+R26+X26+AH26," ") | AJ26: Tờ BĐ 85, thửa 37, diện tích đất ở 300,0 m² | AK26: Giá bồi thường về cây trồng theo Quyết định số 18/QĐ-UBND ngày 02/12/2025 và Quyết định số 03/2026/QĐ-UBND ngày 22/01/2026 của UBND tỉnh AG
A27: =IF(B26<>0,B26,A26) -> 3 | K27: =IF(G27<>0,VLOOKUP(G27,'gia dat'!$A$1:$F$144,5,0)," ") | L27: =IF(G27<>0,VLOOKUP(G27,'gia dat'!$A$1:$F$144,6,0)," ") | M27: =IF(H27<>0,ROUND(H27*K27,-3)," ") | N27: =IF(H27<>0,ROUND(H27*L27,-3)," ") | O27: Mít B | P27: 4 | Q27: =IF(O27<>0,VLOOKUP(O27,'Cây trong'!$A$2:$C$246,3,0)," ") -> 1632000 | R27: =IF(O27<>0,ROUND(P27*Q27,-2)," ") -> 6528000 | S27: Nền gạch men (hỗ trợ 90%) | T27: m² | U27: 53.51 | W27: =IF(S27<>0,VLOOKUP(S27,VKT!$A$2:$G$415,7,0),"") -> 275180 | X27: =IF(S27<>0,ROUND(U27*W27,-3)," ") -> 14725000 | AG27: =IF(AE27<>0,VLOOKUP(AE27,ODDS!$A$2:$C$13,3,0),"") | AH27: =IF(AE27<>0,ROUND(AF27*AG27,-2)," ") | AI27: =IF(B27<>0,M27+N27+R27+X27+AH27," ") | AJ27: Có GCN quyền sở hữu nhà ở và quyền sử dụng đất ở, số hồ sơ gốc 0088/2009 do UBND thành phố Rạch Giá cấp ngày 22/1/2009. Diện tích sàn (nhà ở, căn hộ): 247,24 m². | AK27: Hỗ trợ di chuyển nhà theo khoản 1, Điều 8, Quyết định số 12/2025/QĐ-UBND ngày 30/9/2025 của UBND tỉnh AG
A28: =IF(B27<>0,B27,A27) -> 3 | K28: =IF(G28<>0,VLOOKUP(G28,'gia dat'!$A$1:$F$144,5,0)," ") | L28: =IF(G28<>0,VLOOKUP(G28,'gia dat'!$A$1:$F$144,6,0)," ") | M28: =IF(H28<>0,ROUND(H28*K28,-3)," ") | N28: =IF(H28<>0,ROUND(H28*L28,-3)," ") | O28: Chuối A | P28: 152 | Q28: =IF(O28<>0,VLOOKUP(O28,'Cây trong'!$A$2:$C$246,3,0)," ") -> 132000 | R28: =IF(O28<>0,ROUND(P28*Q28,-2)," ") -> 20064000 | S28: Nền xi măng SN.02 (hỗ trợ 90%) | T28: m² | U28: 73.68 | W28: =IF(S28<>0,VLOOKUP(S28,VKT!$A$2:$G$415,7,0),"") -> 265836 | X28: =IF(S28<>0,ROUND(U28*W28,-3)," ") -> 19587000 | AG28: =IF(AE28<>0,VLOOKUP(AE28,ODDS!$A$2:$C$13,3,0),"") | AH28: =IF(AE28<>0,ROUND(AF28*AG28,-2)," ") | AI28: =IF(B28<>0,M28+N28+R28+X28+AH28," ") | AJ28: Nhà xây dựng năm 2001 | AK28: Báo cáo số 06/BC-TTKĐ ngày 15 tháng 4 năm 2026 ngày 15 tháng 4 năm 2026 của Trung tâm kiểm định và Dịch vụ xây dựng - Sở Xây dựng tỉnh AG
A29: =IF(B28<>0,B28,A28) -> 3 | K29: =IF(G29<>0,VLOOKUP(G29,'gia dat'!$A$1:$F$144,5,0)," ") | L29: =IF(G29<>0,VLOOKUP(G29,'gia dat'!$A$1:$F$144,6,0)," ") | M29: =IF(H29<>0,ROUND(H29*K29,-3)," ") | N29: =IF(H29<>0,ROUND(H29*L29,-3)," ") | O29: Chuối B | P29: 101 | Q29: =IF(O29<>0,VLOOKUP(O29,'Cây trong'!$A$2:$C$246,3,0)," ") -> 76000 | R29: =IF(O29<>0,ROUND(P29*Q29,-2)," ") -> 7676000 | S29: WC+ Tắm (trong nhà) xí bệt, dán gạch men WC.01 (hỗ trợ 90%) | T29: m² | U29: 8.3 | W29: =IF(S29<>0,VLOOKUP(S29,VKT!$A$2:$G$415,7,0),"") -> 9347414 | X29: =IF(S29<>0,ROUND(U29*W29,-3)," ") -> 77584000 | Y29: Btct | Z29: Btct | AA29: G.men | AB29: Tường | AC29: Btct | AG29: =IF(AE29<>0,VLOOKUP(AE29,ODDS!$A$2:$C$13,3,0),"") | AH29: =IF(AE29<>0,ROUND(AF29*AG29,-2)," ") | AI29: =IF(B29<>0,M29+N29+R29+X29+AH29," ") | AJ29: Phần diện tích 30,8 m² (LG) nằm ngoài GCN, có cùng nguồn gốc và thời điểm sử dụng theo GCN số BU 454890 do UBND Thành Phố Rạch Giá cấp ngày 22/10/2014.
A30: =IF(B29<>0,B29,A29) -> 3 | K30: =IF(G30<>0,VLOOKUP(G30,'gia dat'!$A$1:$F$144,5,0)," ") | L30: =IF(G30<>0,VLOOKUP(G30,'gia dat'!$A$1:$F$144,6,0)," ") | M30: =IF(H30<>0,ROUND(H30*K30,-3)," ") | N30: =IF(H30<>0,ROUND(H30*L30,-3)," ") | O30: Chuối C | P30: 145 | Q30: =IF(O30<>0,VLOOKUP(O30,'Cây trong'!$A$2:$C$246,3,0)," ") -> 34000 | R30: =IF(O30<>0,ROUND(P30*Q30,-2)," ") -> 4930000 | S30: Mái che tol (hỗ trợ 90%) | T30: m² | U30: 8.05 | W30: =IF(S30<>0,VLOOKUP(S30,VKT!$A$2:$G$415,7,0),"") -> 0 | X30: =IF(S30<>0,ROUND(U30*W30,-3)," ") -> 0 | AG30: =IF(AE30<>0,VLOOKUP(AE30,ODDS!$A$2:$C$13,3,0),"") | AH30: =IF(AE30<>0,ROUND(AF30*AG30,-2)," ") | AI30: =IF(B30<>0,M30+N30+R30+X30+AH30," ") | AJ30: CĐN theo mẫu 07 giấy xác nhận trực tiếp SXNN của UBND phường Rạch Giá
A31: =IF(B30<>0,B30,A30) -> 3 | K31: =IF(G31<>0,VLOOKUP(G31,'gia dat'!$A$1:$F$144,5,0)," ") | L31: =IF(G31<>0,VLOOKUP(G31,'gia dat'!$A$1:$F$144,6,0)," ") | M31: =IF(H31<>0,ROUND(H31*K31,-3)," ") | N31: =IF(H31<>0,ROUND(H31*L31,-3)," ") | O31: Đu đủ C | P31: 1 | Q31: =IF(O31<>0,VLOOKUP(O31,'Cây trong'!$A$2:$C$246,3,0)," ") -> 45000 | R31: =IF(O31<>0,ROUND(P31*Q31,-2)," ") -> 45000 | S31: Nền gạch men (hỗ trợ 90%) | T31: m² | U31: 8.05 | W31: =IF(S31<>0,VLOOKUP(S31,VKT!$A$2:$G$415,7,0),"") -> 275180 | X31: =IF(S31<>0,ROUND(U31*W31,-3)," ") -> 2215000 | AG31: =IF(AE31<>0,VLOOKUP(AE31,ODDS!$A$2:$C$13,3,0),"") | AH31: =IF(AE31<>0,ROUND(AF31*AG31,-2)," ") | AI31: =IF(B31<>0,M31+N31+R31+X31+AH31," ")
A32: =IF(B31<>0,B31,A31) -> 3 | K32: =IF(G32<>0,VLOOKUP(G32,'gia dat'!$A$1:$F$144,5,0)," ") | L32: =IF(G32<>0,VLOOKUP(G32,'gia dat'!$A$1:$F$144,6,0)," ") | M32: =IF(H32<>0,ROUND(H32*K32,-3)," ") | N32: =IF(H32<>0,ROUND(H32*L32,-3)," ") | O32: Xoài B | P32: 2 | Q32: =IF(O32<>0,VLOOKUP(O32,'Cây trong'!$A$2:$C$246,3,0)," ") -> 3064000 | R32: =IF(O32<>0,ROUND(P32*Q32,-2)," ") -> 6128000 | S32: Bồn BTCT (có nắp) BNN.01 (hỗ trợ 90%) | T32: m³ | U32: 20.13 | W32: =IF(S32<>0,VLOOKUP(S32,VKT!$A$2:$G$415,7,0),"") -> 3878211 | X32: =IF(S32<>0,ROUND(U32*W32,-3)," ") -> 78068000 | AG32: =IF(AE32<>0,VLOOKUP(AE32,ODDS!$A$2:$C$13,3,0),"") | AH32: =IF(AE32<>0,ROUND(AF32*AG32,-2)," ") | AI32: =IF(B32<>0,M32+N32+R32+X32+AH32," ")
A33: =IF(B32<>0,B32,A32) -> 3 | K33: =IF(G33<>0,VLOOKUP(G33,'gia dat'!$A$1:$F$144,5,0)," ") | L33: =IF(G33<>0,VLOOKUP(G33,'gia dat'!$A$1:$F$144,6,0)," ") | M33: =IF(H33<>0,ROUND(H33*K33,-3)," ") | N33: =IF(H33<>0,ROUND(H33*L33,-3)," ") | O33: Xoài C | P33: 1 | Q33: =IF(O33<>0,VLOOKUP(O33,'Cây trong'!$A$2:$C$246,3,0)," ") -> 1035000 | R33: =IF(O33<>0,ROUND(P33*Q33,-2)," ") -> 1035000 | S33: Hàng rào xây 10, song sắt, móng BTCT, trụ BTCT HR.14 (hỗ trợ 90%) | T33: m² | U33: 23.45 | W33: =IF(S33<>0,VLOOKUP(S33,VKT!$A$2:$G$415,7,0),"") -> 890132 | X33: =IF(S33<>0,ROUND(U33*W33,-3)," ") -> 20874000 | AG33: =IF(AE33<>0,VLOOKUP(AE33,ODDS!$A$2:$C$13,3,0),"") | AH33: =IF(AE33<>0,ROUND(AF33*AG33,-2)," ") | AI33: =IF(B33<>0,M33+N33+R33+X33+AH33," ")
A34: =IF(B33<>0,B33,A33) -> 3 | K34: =IF(G34<>0,VLOOKUP(G34,'gia dat'!$A$1:$F$144,5,0)," ") | L34: =IF(G34<>0,VLOOKUP(G34,'gia dat'!$A$1:$F$144,6,0)," ") | M34: =IF(H34<>0,ROUND(H34*K34,-3)," ") | N34: =IF(H34<>0,ROUND(H34*L34,-3)," ") | O34: Xoài D | P34: 2 | Q34: =IF(O34<>0,VLOOKUP(O34,'Cây trong'!$A$2:$C$246,3,0)," ") -> 400000 | R34: =IF(O34<>0,ROUND(P34*Q34,-2)," ") -> 800000 | S34: Chuồng gà (hỗ trợ 90%) | T34: m² | U34: 4.6 | W34: =IF(S34<>0,VLOOKUP(S34,VKT!$A$2:$G$415,7,0),"") -> 0 | X34: =IF(S34<>0,ROUND(U34*W34,-3)," ") -> 0 | Z34: Tolv | AA34: đất | AB34: lưới B40 | AC34: Sắt | AG34: =IF(AE34<>0,VLOOKUP(AE34,ODDS!$A$2:$C$13,3,0),"") | AH34: =IF(AE34<>0,ROUND(AF34*AG34,-2)," ") | AI34: =IF(B34<>0,M34+N34+R34+X34+AH34," ")
A35: =IF(B34<>0,B34,A34) -> 3 | K35: =IF(G35<>0,VLOOKUP(G35,'gia dat'!$A$1:$F$144,5,0)," ") | L35: =IF(G35<>0,VLOOKUP(G35,'gia dat'!$A$1:$F$144,6,0)," ") | M35: =IF(H35<>0,ROUND(H35*K35,-3)," ") | N35: =IF(H35<>0,ROUND(H35*L35,-3)," ") | O35: Hạnh B | P35: 1 | Q35: =IF(O35<>0,VLOOKUP(O35,'Cây trong'!$A$2:$C$246,3,0)," ") -> 300000 | R35: =IF(O35<>0,ROUND(P35*Q35,-2)," ") -> 300000 | S35: Miếu xây C4.01 (hỗ trợ 90%) | T35: m² | U35: 1.2 | W35: =IF(S35<>0,VLOOKUP(S35,VKT!$A$2:$G$415,7,0),"") -> 3764632 | X35: =IF(S35<>0,ROUND(U35*W35,-3)," ") -> 4518000 | Z35: Ngói | AA35: G.men | AB35: Tường | AC35: Gạch | AG35: =IF(AE35<>0,VLOOKUP(AE35,ODDS!$A$2:$C$13,3,0),"") | AH35: =IF(AE35<>0,ROUND(AF35*AG35,-2)," ") | AI35: =IF(B35<>0,M35+N35+R35+X35+AH35," ")
A36: =IF(B35<>0,B35,A35) -> 3 | K36: =IF(G36<>0,VLOOKUP(G36,'gia dat'!$A$1:$F$144,5,0)," ") | L36: =IF(G36<>0,VLOOKUP(G36,'gia dat'!$A$1:$F$144,6,0)," ") | M36: =IF(H36<>0,ROUND(H36*K36,-3)," ") | N36: =IF(H36<>0,ROUND(H36*L36,-3)," ") | O36: Sao E | P36: 1 | Q36: =IF(O36<>0,VLOOKUP(O36,'Cây trong'!$A$2:$C$246,3,0)," ") -> 360000 | R36: =IF(O36<>0,ROUND(P36*Q36,-2)," ") -> 360000 | S36: Chuồng gà (hỗ trợ 90%) | T36: m² | U36: 4.56 | W36: =IF(S36<>0,VLOOKUP(S36,VKT!$A$2:$G$415,7,0),"") -> 0 | X36: =IF(S36<>0,ROUND(U36*W36,-3)," ") -> 0 | Z36: Lưới B40 | AA36: Đất | AB36: lưới B40 | AC36: Gỗ<10 | AG36: =IF(AE36<>0,VLOOKUP(AE36,ODDS!$A$2:$C$13,3,0),"") | AH36: =IF(AE36<>0,ROUND(AF36*AG36,-2)," ") | AI36: =IF(B36<>0,M36+N36+R36+X36+AH36," ")
A37: =IF(B36<>0,B36,A36) -> 3 | K37: =IF(G37<>0,VLOOKUP(G37,'gia dat'!$A$1:$F$144,5,0)," ") | L37: =IF(G37<>0,VLOOKUP(G37,'gia dat'!$A$1:$F$144,6,0)," ") | M37: =IF(H37<>0,ROUND(H37*K37,-3)," ") | N37: =IF(H37<>0,ROUND(H37*L37,-3)," ") | O37: Bồ đề E | P37: 1 | Q37: =IF(O37<>0,VLOOKUP(O37,'Cây trong'!$A$2:$C$246,3,0)," ") -> 60000 | R37: =IF(O37<>0,ROUND(P37*Q37,-2)," ") -> 60000 | S37: Hàng rào xây 10, khung lưới B40, móng BTCT, trụ BTCT HR.08 (hỗ trợ 90%) | T37: m² | U37: 74.16 | W37: =IF(S37<>0,VLOOKUP(S37,VKT!$A$2:$G$415,7,0),"") -> 830536 | X37: =IF(S37<>0,ROUND(U37*W37,-3)," ") -> 61593000 | AG37: =IF(AE37<>0,VLOOKUP(AE37,ODDS!$A$2:$C$13,3,0),"") | AH37: =IF(AE37<>0,ROUND(AF37*AG37,-2)," ") | AI37: =IF(B37<>0,M37+N37+R37+X37+AH37," ")
A38: =IF(B37<>0,B37,A37) -> 3 | K38: =IF(G38<>0,VLOOKUP(G38,'gia dat'!$A$1:$F$144,5,0)," ") | L38: =IF(G38<>0,VLOOKUP(G38,'gia dat'!$A$1:$F$144,6,0)," ") | M38: =IF(H38<>0,ROUND(H38*K38,-3)," ") | N38: =IF(H38<>0,ROUND(H38*L38,-3)," ") | O38: Sộp H | P38: 1 | Q38: =IF(O38<>0,VLOOKUP(O38,'Cây trong'!$A$2:$C$246,3,0)," ") -> 32000 | R38: =IF(O38<>0,ROUND(P38*Q38,-2)," ") -> 32000 | S38: Hàng ba nhà C2.01*80% (tầng 1) (hỗ trợ 90%) | T38: m² | U38: 15.08 | W38: =IF(S38<>0,VLOOKUP(S38,VKT!$A$2:$G$415,7,0),"") -> 4631321 | X38: =IF(S38<>0,ROUND(U38*W38,-3)," ") -> 69840000 | Z38: Btct | AA38: G.men | AC38: Btct | AG38: =IF(AE38<>0,VLOOKUP(AE38,ODDS!$A$2:$C$13,3,0),"") | AH38: =IF(AE38<>0,ROUND(AF38*AG38,-2)," ") | AI38: =IF(B38<>0,M38+N38+R38+X38+AH38," ")
A39: =IF(B38<>0,B38,A38) -> 3 | K39: =IF(G39<>0,VLOOKUP(G39,'gia dat'!$A$1:$F$144,5,0)," ") | L39: =IF(G39<>0,VLOOKUP(G39,'gia dat'!$A$1:$F$144,6,0)," ") | M39: =IF(H39<>0,ROUND(H39*K39,-3)," ") | N39: =IF(H39<>0,ROUND(H39*L39,-3)," ") | O39: Nhàu G | P39: 1 | Q39: =IF(O39<>0,VLOOKUP(O39,'Cây trong'!$A$2:$C$246,3,0)," ") -> 60000 | R39: =IF(O39<>0,ROUND(P39*Q39,-2)," ") -> 60000 | S39: Hàng ba C2.01*80% (tầng 1) (hỗ trợ 90%) | T39: m² | U39: 14.75 | W39: =IF(S39<>0,VLOOKUP(S39,VKT!$A$2:$G$415,7,0),"") -> 4631321 | X39: =IF(S39<>0,ROUND(U39*W39,-3)," ") -> 68312000 | Z39: Btct | AA39: G.men | AC39: Btct | AG39: =IF(AE39<>0,VLOOKUP(AE39,ODDS!$A$2:$C$13,3,0),"") | AH39: =IF(AE39<>0,ROUND(AF39*AG39,-2)," ") | AI39: =IF(B39<>0,M39+N39+R39+X39+AH39," ")
A40: =IF(B39<>0,B39,A39) -> 3 | K40: =IF(G40<>0,VLOOKUP(G40,'gia dat'!$A$1:$F$144,5,0)," ") | L40: =IF(G40<>0,VLOOKUP(G40,'gia dat'!$A$1:$F$144,6,0)," ") | M40: =IF(H40<>0,ROUND(H40*K40,-3)," ") | N40: =IF(H40<>0,ROUND(H40*L40,-3)," ") | O40: Chanh C | P40: 1 | Q40: =IF(O40<>0,VLOOKUP(O40,'Cây trong'!$A$2:$C$246,3,0)," ") -> 283000 | R40: =IF(O40<>0,ROUND(P40*Q40,-2)," ") -> 283000 | S40: Nhà C2.07 (tầng 1) (hỗ trợ 90%) | T40: m² | U40: 88 | W40: =IF(S40<>0,VLOOKUP(S40,VKT!$A$2:$G$415,7,0),"") -> 5469063 | X40: =IF(S40<>0,ROUND(U40*W40,-3)," ") -> 481278000 | Z40: Tol giả ngói | AA40: G.men | AB40: Tường | AC40: Btct | AG40: =IF(AE40<>0,VLOOKUP(AE40,ODDS!$A$2:$C$13,3,0),"") | AH40: =IF(AE40<>0,ROUND(AF40*AG40,-2)," ") | AI40: =IF(B40<>0,M40+N40+R40+X40+AH40," ")
A41: =IF(B40<>0,B40,A40) -> 3 | K41: =IF(G41<>0,VLOOKUP(G41,'gia dat'!$A$1:$F$144,5,0)," ") | L41: =IF(G41<>0,VLOOKUP(G41,'gia dat'!$A$1:$F$144,6,0)," ") | M41: =IF(H41<>0,ROUND(H41*K41,-3)," ") | N41: =IF(H41<>0,ROUND(H41*L41,-3)," ") | O41: Chanh D | P41: 1 | Q41: =IF(O41<>0,VLOOKUP(O41,'Cây trong'!$A$2:$C$246,3,0)," ") -> 93000 | R41: =IF(O41<>0,ROUND(P41*Q41,-2)," ") -> 93000 | S41: WC (Tầng 1) xí bệt, dán gạch men WC.01 (hỗ trợ 90%) | T41: m² | U41: 2.66 | W41: =IF(S41<>0,VLOOKUP(S41,VKT!$A$2:$G$415,7,0),"") -> 9347414 | X41: =IF(S41<>0,ROUND(U41*W41,-3)," ") -> 24864000 | Z41: Btct | AA41: G.men | AB41: Tường | AC41: Btct | AD41: Lima | AG41: =IF(AE41<>0,VLOOKUP(AE41,ODDS!$A$2:$C$13,3,0),"") | AH41: =IF(AE41<>0,ROUND(AF41*AG41,-2)," ") | AI41: =IF(B41<>0,M41+N41+R41+X41+AH41," ")
A42: =IF(B41<>0,B41,A41) -> 3 | K42: =IF(G42<>0,VLOOKUP(G42,'gia dat'!$A$1:$F$144,5,0)," ") | L42: =IF(G42<>0,VLOOKUP(G42,'gia dat'!$A$1:$F$144,6,0)," ") | M42: =IF(H42<>0,ROUND(H42*K42,-3)," ") | N42: =IF(H42<>0,ROUND(H42*L42,-3)," ") | O42: Chuối A | P42: 63 | Q42: =IF(O42<>0,VLOOKUP(O42,'Cây trong'!$A$2:$C$246,3,0)," ") -> 132000 | R42: =IF(O42<>0,ROUND(P42*Q42,-2)," ") -> 8316000 | S42: Tắm (tầng 1) dán gạch men WC.10 (hỗ trợ 90%) | T42: m² | U42: 4 | W42: =IF(S42<>0,VLOOKUP(S42,VKT!$A$2:$G$415,7,0),"") -> 3141561 | X42: =IF(S42<>0,ROUND(U42*W42,-3)," ") -> 12566000 | Z42: Btct | AA42: G.men | AB42: Tường | AC42: Btct | AG42: =IF(AE42<>0,VLOOKUP(AE42,ODDS!$A$2:$C$13,3,0),"") | AH42: =IF(AE42<>0,ROUND(AF42*AG42,-2)," ") | AI42: =IF(B42<>0,M42+N42+R42+X42+AH42," ")
A43: =IF(B42<>0,B42,A42) -> 3 | K43: =IF(G43<>0,VLOOKUP(G43,'gia dat'!$A$1:$F$144,5,0)," ") | L43: =IF(G43<>0,VLOOKUP(G43,'gia dat'!$A$1:$F$144,6,0)," ") | M43: =IF(H43<>0,ROUND(H43*K43,-3)," ") | N43: =IF(H43<>0,ROUND(H43*L43,-3)," ") | O43: Chuối B | P43: 44 | Q43: =IF(O43<>0,VLOOKUP(O43,'Cây trong'!$A$2:$C$246,3,0)," ") -> 76000 | R43: =IF(O43<>0,ROUND(P43*Q43,-2)," ") -> 3344000 | S43: Nền gạch men (hỗ trợ 90%) | T43: m² | U43: 47.94 | W43: =IF(S43<>0,VLOOKUP(S43,VKT!$A$2:$G$415,7,0),"") -> 275180 | X43: =IF(S43<>0,ROUND(U43*W43,-3)," ") -> 13192000 | AG43: =IF(AE43<>0,VLOOKUP(AE43,ODDS!$A$2:$C$13,3,0),"") | AH43: =IF(AE43<>0,ROUND(AF43*AG43,-2)," ") | AI43: =IF(B43<>0,M43+N43+R43+X43+AH43," ")
A44: =IF(B43<>0,B43,A43) -> 3 | K44: =IF(G44<>0,VLOOKUP(G44,'gia dat'!$A$1:$F$144,5,0)," ") | L44: =IF(G44<>0,VLOOKUP(G44,'gia dat'!$A$1:$F$144,6,0)," ") | M44: =IF(H44<>0,ROUND(H44*K44,-3)," ") | N44: =IF(H44<>0,ROUND(H44*L44,-3)," ") | O44: Chuối C | P44: 43 | Q44: =IF(O44<>0,VLOOKUP(O44,'Cây trong'!$A$2:$C$246,3,0)," ") -> 34000 | R44: =IF(O44<>0,ROUND(P44*Q44,-2)," ") -> 1462000 | S44: Hàng ba C2.22 x 80% (hỗ trợ 90%) | T44: m² | U44: 15.84 | W44: =IF(S44<>0,VLOOKUP(S44,VKT!$A$2:$G$415,7,0),"") -> 4092245 | X44: =IF(S44<>0,ROUND(U44*W44,-3)," ") -> 64821000 | AG44: =IF(AE44<>0,VLOOKUP(AE44,ODDS!$A$2:$C$13,3,0),"") | AH44: =IF(AE44<>0,ROUND(AF44*AG44,-2)," ") | AI44: =IF(B44<>0,M44+N44+R44+X44+AH44," ")
A45: =IF(B44<>0,B44,A44) -> 3 | K45: =IF(G45<>0,VLOOKUP(G45,'gia dat'!$A$1:$F$144,5,0)," ") | L45: =IF(G45<>0,VLOOKUP(G45,'gia dat'!$A$1:$F$144,6,0)," ") | M45: =IF(H45<>0,ROUND(H45*K45,-3)," ") | N45: =IF(H45<>0,ROUND(H45*L45,-3)," ") | O45: Rau màu các loại A (m²) | P45: 22 | Q45: =IF(O45<>0,VLOOKUP(O45,'Cây trong'!$A$2:$C$246,3,0)," ") -> 12000 | R45: =IF(O45<>0,ROUND(P45*Q45,-2)," ") -> 264000 | S45: Nền gạch men (hỗ trợ 90%) | T45: m² | U45: 14.3 | W45: =IF(S45<>0,VLOOKUP(S45,VKT!$A$2:$G$415,7,0),"") -> 275180 | X45: =IF(S45<>0,ROUND(U45*W45,-3)," ") -> 3935000 | AG45: =IF(AE45<>0,VLOOKUP(AE45,ODDS!$A$2:$C$13,3,0),"") | AH45: =IF(AE45<>0,ROUND(AF45*AG45,-2)," ") | AI45: =IF(B45<>0,M45+N45+R45+X45+AH45," ")
A46: =IF(B45<>0,B45,A45) -> 3 | K46: =IF(G46<>0,VLOOKUP(G46,'gia dat'!$A$1:$F$144,5,0)," ") | L46: =IF(G46<>0,VLOOKUP(G46,'gia dat'!$A$1:$F$144,6,0)," ") | M46: =IF(H46<>0,ROUND(H46*K46,-3)," ") | N46: =IF(H46<>0,ROUND(H46*L46,-3)," ") | Q46: =IF(O46<>0,VLOOKUP(O46,'Cây trong'!$A$2:$C$246,3,0)," ") | R46: =IF(O46<>0,ROUND(P46*Q46,-2)," ") | W46: =IF(S46<>0,VLOOKUP(S46,VKT!$A$2:$G$415,7,0),"") | X46: =IF(S46<>0,ROUND(U46*W46,-3)," ") | AG46: =IF(AE46<>0,VLOOKUP(AE46,ODDS!$A$2:$C$13,3,0),"") | AH46: =IF(AE46<>0,ROUND(AF46*AG46,-2)," ") | AI46: =IF(B46<>0,M46+N46+R46+X46+AH46," ")
A47: =IF(B46<>0,B46,A46) -> 3 | K47: =IF(G47<>0,VLOOKUP(G47,'gia dat'!$A$1:$F$144,5,0)," ") | L47: =IF(G47<>0,VLOOKUP(G47,'gia dat'!$A$1:$F$144,6,0)," ") | M47: =IF(H47<>0,ROUND(H47*K47,-3)," ") | N47: =IF(H47<>0,ROUND(H47*L47,-3)," ") | W47: =IF(S47<>0,VLOOKUP(S47,VKT!$A$2:$G$415,7,0),"") | X47: =IF(S47<>0,ROUND(U47*W47,-3)," ") | AG47: =IF(AE47<>0,VLOOKUP(AE47,ODDS!$A$2:$C$13,3,0),"") | AI47: =IF(B47<>0,M47+N47+R47+X47+AH47," ")
A48: =IF(B47<>0,B47,A47) -> 3 | K48: =IF(G48<>0,VLOOKUP(G48,'gia dat'!$A$1:$F$144,5,0)," ") | L48: =IF(G48<>0,VLOOKUP(G48,'gia dat'!$A$1:$F$144,6,0)," ") | M48: =IF(H48<>0,ROUND(H48*K48,-3)," ") | N48: =IF(H48<>0,ROUND(H48*L48,-3)," ") | W48: =IF(S48<>0,VLOOKUP(S48,VKT!$A$2:$G$415,7,0),"") | X48: =IF(S48<>0,ROUND(U48*W48,-3)," ") | AG48: =IF(AE48<>0,VLOOKUP(AE48,ODDS!$A$2:$C$13,3,0),"") | AI48: =IF(B48<>0,M48+N48+R48+X48+AH48," ")
A49: 4 Total | B49: 4 | C49: Hộ Ông Quách Ngọc Nghé | H49: =SUBTOTAL(9,H50:H57) -> 35.7 | I49: =SUBTOTAL(9,I50:I55) -> 0 | M49: =SUBTOTAL(9,M50:M57) -> 48927000 | N49: =SUBTOTAL(9,N50:N57) -> 0 | P49: =SUBTOTAL(9,P50:P57) -> 0 | R49: =SUBTOTAL(9,R50:R57) -> 0 | U49: =SUBTOTAL(9,U50:U57) -> 0 | X49: =SUBTOTAL(9,X50:X57) -> 0 | AF49: =SUBTOTAL(9,AF50:AF57) -> 0 | AH49: =SUBTOTAL(9,AH50:AH57) -> 0 | AI49: =IF(B49<>0,M49+N49+R49+X49+AH49," ") -> 48927000
A50: =IF(B49<>0,B49,A48) -> 4 | C50: 1943 - 0910 4300 2669 | E50: 85 | F50: 37 | G50: Đất ở đô thị (GCN) - VT2 - đường LQK (đoạn Đống Đa - Ngô Văn Sở) | H50: 2.6 | I50: =IF(N50>0,H50,"") | K50: =IF(G50<>0,VLOOKUP(G50,'gia dat'!$A$1:$F$144,5,0)," ") -> 11760000 | L50: =IF(G50<>0,VLOOKUP(G50,'gia dat'!$A$1:$F$144,6,0)," ") -> 0 | M50: =IF(H50<>0,ROUND(H50*K50,-3)," ") -> 30576000 | N50: =IF(H50<>0,ROUND(H50*L50,-3)," ") -> 0 | W50: =IF(S50<>0,VLOOKUP(S50,VKT!$A$2:$G$415,7,0),"") | X50: =IF(S50<>0,ROUND(U50*W50,-3)," ") | AG50: =IF(AE50<>0,VLOOKUP(AE50,ODDS!$A$2:$C$13,3,0),"") | AI50: =IF(B50<>0,M50+N50+R50+X50+AH50," ") | AJ50: Nguồn gốc đất có GCN số BU 454890 do UBND Thành phố Rạch giá cấp ngày 22/10/2014. Tờ BĐ 85, thửa 37; diện tích đất trồng cây lâu năm 2.316,8 m². GCN do Quách Ngọc Nghé đứng tên. hiện trạng cha Quách Ngọc Nghé cho con là Quách Thị Thủy ngày 12/6/2006 (giấy tay), một phần thửa đất | AK50: Giá bồi thường về đất theo Nghị quyết số 16/2025/NQ-HĐND ngày 30/12/2025 của Hội đồng nhân dân tỉnh AG và Quyết định số 69/2026/QĐ-UBND ngày 18/7/2026 của UBND tỉnh AG
A51: =IF(B50<>0,B50,A50) -> 4 | C51: 1065 Lâm Quang Ky, Phường Rạch Giá, tỉnh An Giang | E51: 85 | F51: 37 | G51: Đất trồng cây lâu năm (GCN) - VT1 - Giáp đường LQK (đoạn Đống Đa - Ngô Văn Sở) - trừ VKT | H51: 33.1 | I51: =IF(N51>0,H51,"") | K51: =IF(G51<>0,VLOOKUP(G51,'gia dat'!$A$1:$F$144,5,0)," ") -> 554400 | L51: =IF(G51<>0,VLOOKUP(G51,'gia dat'!$A$1:$F$144,6,0)," ") -> 0 | M51: =IF(H51<>0,ROUND(H51*K51,-3)," ") -> 18351000 | N51: =IF(H51<>0,ROUND(H51*L51,-3)," ") -> 0 | W51: =IF(S51<>0,VLOOKUP(S51,VKT!$A$2:$G$415,7,0),"") | X51: =IF(S51<>0,ROUND(U51*W51,-3)," ") | AG51: =IF(AE51<>0,VLOOKUP(AE51,ODDS!$A$2:$C$13,3,0),"") | AI51: =IF(B51<>0,M51+N51+R51+X51+AH51," ")
A52: =IF(B51<>0,B51,A51) -> 4 | C52: Vợ: Trang Thị Em | K52: =IF(G52<>0,VLOOKUP(G52,'gia dat'!$A$1:$F$144,5,0)," ") | L52: =IF(G52<>0,VLOOKUP(G52,'gia dat'!$A$1:$F$144,6,0)," ") | M52: =IF(H52<>0,ROUND(H52*K52,-3)," ") | N52: =IF(H52<>0,ROUND(H52*L52,-3)," ") | W52: =IF(S52<>0,VLOOKUP(S52,VKT!$A$2:$G$415,7,0),"") | X52: =IF(S52<>0,ROUND(U52*W52,-3)," ") | AG52: =IF(AE52<>0,VLOOKUP(AE52,ODDS!$A$2:$C$13,3,0),"") | AI52: =IF(B52<>0,M52+N52+R52+X52+AH52," ")
A53: =IF(B52<>0,B52,A52) -> 4 | K53: =IF(G53<>0,VLOOKUP(G53,'gia dat'!$A$1:$F$144,5,0)," ") | L53: =IF(G53<>0,VLOOKUP(G53,'gia dat'!$A$1:$F$144,6,0)," ") | M53: =IF(H53<>0,ROUND(H53*K53,-3)," ") | N53: =IF(H53<>0,ROUND(H53*L53,-3)," ") | W53: =IF(S53<>0,VLOOKUP(S53,VKT!$A$2:$G$415,7,0),"") | X53: =IF(S53<>0,ROUND(U53*W53,-3)," ") | AG53: =IF(AE53<>0,VLOOKUP(AE53,ODDS!$A$2:$C$13,3,0),"") | AI53: =IF(B53<>0,M53+N53+R53+X53+AH53," ")
A54: =IF(B53<>0,B53,A53) -> 4 | K54: =IF(G54<>0,VLOOKUP(G54,'gia dat'!$A$1:$F$144,5,0)," ") | L54: =IF(G54<>0,VLOOKUP(G54,'gia dat'!$A$1:$F$144,6,0)," ") | M54: =IF(H54<>0,ROUND(H54*K54,-3)," ") | N54: =IF(H54<>0,ROUND(H54*L54,-3)," ") | Q54: =IF(O54<>0,VLOOKUP(O54,'Cây trong'!$A$2:$C$246,3,0)," ") | R54: =IF(O54<>0,ROUND(P54*Q54,-2)," ") | W54: =IF(S54<>0,VLOOKUP(S54,VKT!$A$2:$G$415,7,0),"") | X54: =IF(S54<>0,ROUND(U54*W54,-3)," ") | AG54: =IF(AE54<>0,VLOOKUP(AE54,ODDS!$A$2:$C$13,3,0),"") | AH54: =IF(AE54<>0,ROUND(AF54*AG54,-2)," ") | AI54: =IF(B54<>0,M54+N54+R54+X54+AH54," ")
A55: =IF(B54<>0,B54,A54) -> 4 | K55: =IF(G55<>0,VLOOKUP(G55,'gia dat'!$A$1:$F$144,5,0)," ") | L55: =IF(G55<>0,VLOOKUP(G55,'gia dat'!$A$1:$F$144,6,0)," ") | M55: =IF(H55<>0,ROUND(H55*K55,-3)," ") | N55: =IF(H55<>0,ROUND(H55*L55,-3)," ") | Q55: =IF(O55<>0,VLOOKUP(O55,'Cây trong'!$A$2:$C$246,3,0)," ") | R55: =IF(O55<>0,ROUND(P55*Q55,-2)," ") | W55: =IF(S55<>0,VLOOKUP(S55,VKT!$A$2:$G$415,7,0),"") | X55: =IF(S55<>0,ROUND(U55*W55,-3)," ") | AG55: =IF(AE55<>0,VLOOKUP(AE55,ODDS!$A$2:$C$13,3,0),"") | AH55: =IF(AE55<>0,ROUND(AF55*AG55,-2)," ") | AI55: =IF(B55<>0,M55+N55+R55+X55+AH55," ")
A56: =IF(B55<>0,B55,A55) -> 4 | K56: =IF(G56<>0,VLOOKUP(G56,'gia dat'!$A$1:$F$144,5,0)," ") | L56: =IF(G56<>0,VLOOKUP(G56,'gia dat'!$A$1:$F$144,6,0)," ") | M56: =IF(H56<>0,ROUND(H56*K56,-3)," ") | N56: =IF(H56<>0,ROUND(H56*L56,-3)," ") | W56: =IF(S56<>0,VLOOKUP(S56,VKT!$A$2:$G$415,7,0),"") | X56: =IF(S56<>0,ROUND(U56*W56,-3)," ") | AG56: =IF(AE56<>0,VLOOKUP(AE56,ODDS!$A$2:$C$13,3,0),"") | AI56: =IF(B56<>0,M56+N56+R56+X56+AH56," ")
A57: =IF(B56<>0,B56,A56) -> 4 | K57: =IF(G57<>0,VLOOKUP(G57,'gia dat'!$A$1:$F$144,5,0)," ") | L57: =IF(G57<>0,VLOOKUP(G57,'gia dat'!$A$1:$F$144,6,0)," ") | M57: =IF(H57<>0,ROUND(H57*K57,-3)," ") | N57: =IF(H57<>0,ROUND(H57*L57,-3)," ") | W57: =IF(S57<>0,VLOOKUP(S57,VKT!$A$2:$G$415,7,0),"") | X57: =IF(S57<>0,ROUND(U57*W57,-3)," ") | AG57: =IF(AE57<>0,VLOOKUP(AE57,ODDS!$A$2:$C$13,3,0),"") | AI57: =IF(B57<>0,M57+N57+R57+X57+AH57," ")
A58: 5 Total | B58: 5 | C58: Hộ Ông Quách Ngọc Nghé | H58: =SUBTOTAL(9,H59:H66) -> 35.6 | I58: =SUBTOTAL(9,I59:I64) -> 0 | M58: =SUBTOTAL(9,M59:M66) -> 19737000 | N58: =SUBTOTAL(9,N59:N66) -> 0 | P58: =SUBTOTAL(9,P59:P66) -> 0 | R58: =SUBTOTAL(9,R59:R66) -> 0 | U58: =SUBTOTAL(9,U59:U66) -> 0 | X58: =SUBTOTAL(9,X59:X66) -> 0 | AF58: =SUBTOTAL(9,AF59:AF66) -> 0 | AH58: =SUBTOTAL(9,AH59:AH66) -> 0 | AI58: =IF(B58<>0,M58+N58+R58+X58+AH58," ") -> 19737000
A59: =IF(B58<>0,B58,A57) -> 5 | C59: 1943 - 0910 4300 2669 | E59: 85 | F59: 37 | G59: Đất trồng cây lâu năm (GCN) - VT1 - Giáp đường LQK (đoạn Đống Đa - Ngô Văn Sở) - trừ VKT | H59: 35.6 | I59: =IF(N59>0,H59,"") | K59: =IF(G59<>0,VLOOKUP(G59,'gia dat'!$A$1:$F$144,5,0)," ") -> 554400 | L59: =IF(G59<>0,VLOOKUP(G59,'gia dat'!$A$1:$F$144,6,0)," ") -> 0 | M59: =IF(H59<>0,ROUND(H59*K59,-3)," ") -> 19737000 | N59: =IF(H59<>0,ROUND(H59*L59,-3)," ") -> 0 | W59: =IF(S59<>0,VLOOKUP(S59,VKT!$A$2:$G$415,7,0),"") | X59: =IF(S59<>0,ROUND(U59*W59,-3)," ") | AG59: =IF(AE59<>0,VLOOKUP(AE59,ODDS!$A$2:$C$13,3,0),"") | AI59: =IF(B59<>0,M59+N59+R59+X59+AH59," ") | AJ59: Nguồn gốc đất có GCN số BU 454890 do UBND Thành phố Rạch giá cấp ngày 22/10/2014. Tờ BĐ 85, thửa 37; diện tích đất trồng cây lâu năm, diện tích 2.316,8 m². GCN do Quách Ngọc Nghé đứng tên. hiện trạng do cha Quách Ngọc Nghé cho con là Quách Ngọc Dũng ngày 12/6/2006 (giấy tay), một phần thửa đất | AK59: Giá bồi thường về đất theo Nghị quyết số 16/2025/NQ-HĐND ngày 30/12/2025 của Hội đồng nhân dân tỉnh AG và Quyết định số 69/2026/QĐ-UBND ngày 18/7/2026 của UBND tỉnh AG
A60: =IF(B59<>0,B59,A59) -> 5 | C60: 1065 Lâm Quang Ky, Phường Rạch Giá, tỉnh An Giang | K60: =IF(G60<>0,VLOOKUP(G60,'gia dat'!$A$1:$F$144,5,0)," ") | L60: =IF(G60<>0,VLOOKUP(G60,'gia dat'!$A$1:$F$144,6,0)," ") | M60: =IF(H60<>0,ROUND(H60*K60,-3)," ") | N60: =IF(H60<>0,ROUND(H60*L60,-3)," ") | W60: =IF(S60<>0,VLOOKUP(S60,VKT!$A$2:$G$415,7,0),"") | X60: =IF(S60<>0,ROUND(U60*W60,-3)," ") | AG60: =IF(AE60<>0,VLOOKUP(AE60,ODDS!$A$2:$C$13,3,0),"") | AI60: =IF(B60<>0,M60+N60+R60+X60+AH60," ")
A61: =IF(B60<>0,B60,A60) -> 5 | C61: Vợ: Trang Thị Em | K61: =IF(G61<>0,VLOOKUP(G61,'gia dat'!$A$1:$F$144,5,0)," ") | L61: =IF(G61<>0,VLOOKUP(G61,'gia dat'!$A$1:$F$144,6,0)," ") | M61: =IF(H61<>0,ROUND(H61*K61,-3)," ") | N61: =IF(H61<>0,ROUND(H61*L61,-3)," ") | W61: =IF(S61<>0,VLOOKUP(S61,VKT!$A$2:$G$415,7,0),"") | X61: =IF(S61<>0,ROUND(U61*W61,-3)," ") | AG61: =IF(AE61<>0,VLOOKUP(AE61,ODDS!$A$2:$C$13,3,0),"") | AI61: =IF(B61<>0,M61+N61+R61+X61+AH61," ")
A62: =IF(B61<>0,B61,A61) -> 5 | K62: =IF(G62<>0,VLOOKUP(G62,'gia dat'!$A$1:$F$144,5,0)," ") | L62: =IF(G62<>0,VLOOKUP(G62,'gia dat'!$A$1:$F$144,6,0)," ") | M62: =IF(H62<>0,ROUND(H62*K62,-3)," ") | N62: =IF(H62<>0,ROUND(H62*L62,-3)," ") | W62: =IF(S62<>0,VLOOKUP(S62,VKT!$A$2:$G$415,7,0),"") | X62: =IF(S62<>0,ROUND(U62*W62,-3)," ") | AG62: =IF(AE62<>0,VLOOKUP(AE62,ODDS!$A$2:$C$13,3,0),"") | AI62: =IF(B62<>0,M62+N62+R62+X62+AH62," ")
A63: =IF(B62<>0,B62,A62) -> 5 | K63: =IF(G63<>0,VLOOKUP(G63,'gia dat'!$A$1:$F$144,5,0)," ") | L63: =IF(G63<>0,VLOOKUP(G63,'gia dat'!$A$1:$F$144,6,0)," ") | M63: =IF(H63<>0,ROUND(H63*K63,-3)," ") | N63: =IF(H63<>0,ROUND(H63*L63,-3)," ") | W63: =IF(S63<>0,VLOOKUP(S63,VKT!$A$2:$G$415,7,0),"") | X63: =IF(S63<>0,ROUND(U63*W63,-3)," ") | AG63: =IF(AE63<>0,VLOOKUP(AE63,ODDS!$A$2:$C$13,3,0),"") | AI63: =IF(B63<>0,M63+N63+R63+X63+AH63," ")
A64: =IF(B63<>0,B63,A63) -> 5 | K64: =IF(G64<>0,VLOOKUP(G64,'gia dat'!$A$1:$F$144,5,0)," ") | L64: =IF(G64<>0,VLOOKUP(G64,'gia dat'!$A$1:$F$144,6,0)," ") | M64: =IF(H64<>0,ROUND(H64*K64,-3)," ") | N64: =IF(H64<>0,ROUND(H64*L64,-3)," ") | W64: =IF(S64<>0,VLOOKUP(S64,VKT!$A$2:$G$415,7,0),"") | X64: =IF(S64<>0,ROUND(U64*W64,-3)," ") | AG64: =IF(AE64<>0,VLOOKUP(AE64,ODDS!$A$2:$C$13,3,0),"") | AI64: =IF(B64<>0,M64+N64+R64+X64+AH64," ")
A65: =IF(B64<>0,B64,A64) -> 5 | K65: =IF(G65<>0,VLOOKUP(G65,'gia dat'!$A$1:$F$144,5,0)," ") | L65: =IF(G65<>0,VLOOKUP(G65,'gia dat'!$A$1:$F$144,6,0)," ") | M65: =IF(H65<>0,ROUND(H65*K65,-3)," ") | N65: =IF(H65<>0,ROUND(H65*L65,-3)," ") | W65: =IF(S65<>0,VLOOKUP(S65,VKT!$A$2:$G$415,7,0),"") | X65: =IF(S65<>0,ROUND(U65*W65,-3)," ") | AG65: =IF(AE65<>0,VLOOKUP(AE65,ODDS!$A$2:$C$13,3,0),"") | AI65: =IF(B65<>0,M65+N65+R65+X65+AH65," ")
A66: =IF(B65<>0,B65,A65) -> 5 | K66: =IF(G66<>0,VLOOKUP(G66,'gia dat'!$A$1:$F$144,5,0)," ") | L66: =IF(G66<>0,VLOOKUP(G66,'gia dat'!$A$1:$F$144,6,0)," ") | M66: =IF(H66<>0,ROUND(H66*K66,-3)," ") | N66: =IF(H66<>0,ROUND(H66*L66,-3)," ") | W66: =IF(S66<>0,VLOOKUP(S66,VKT!$A$2:$G$415,7,0),"") | X66: =IF(S66<>0,ROUND(U66*W66,-3)," ") | AG66: =IF(AE66<>0,VLOOKUP(AE66,ODDS!$A$2:$C$13,3,0),"") | AI66: =IF(B66<>0,M66+N66+R66+X66+AH66," ")
A67: 6 Total | B67: 6 | C67: Quách Thị Thủy | H67: =SUBTOTAL(9,H68:H76) -> 0 | I67: =SUBTOTAL(9,I68:I73) -> 0 | M67: =SUBTOTAL(9,M68:M76) -> 0 | N67: =SUBTOTAL(9,N68:N76) -> 0 | P67: =SUBTOTAL(9,P68:P76) -> 0 | R67: =SUBTOTAL(9,R68:R76) -> 0 | U67: =SUBTOTAL(9,U68:U76) -> 56.05 | X67: =SUBTOTAL(9,X68:X76) -> 180951000 | AF67: =SUBTOTAL(9,AF68:AF76) -> 0 | AH67: =SUBTOTAL(9,AH68:AH76) -> 0 | AI67: =IF(B67<>0,M67+N67+R67+X67+AH67," ") -> 180951000
A68: =IF(B67<>0,B67,A66) -> 6 | C68: 1968 - 0911 6800 5041 | D68: 2 | K68: =IF(G68<>0,VLOOKUP(G68,'gia dat'!$A$1:$F$144,5,0)," ") | L68: =IF(G68<>0,VLOOKUP(G68,'gia dat'!$A$1:$F$144,6,0)," ") | M68: =IF(H68<>0,ROUND(H68*K68,-3)," ") | N68: =IF(H68<>0,ROUND(H68*L68,-3)," ") | Q68: =IF(O68<>0,VLOOKUP(O68,'Cây trong'!$A$2:$C$246,3,0)," ") | R68: =IF(O68<>0,ROUND(P68*Q68,-2)," ") | S68: Nhà C2.07 (hỗ trợ 90%) | T68: m² | U68: 31.5 | W68: =IF(S68<>0,VLOOKUP(S68,VKT!$A$2:$G$415,7,0),"") -> 5469063 | X68: =IF(S68<>0,ROUND(U68*W68,-3)," ") -> 172275000 | Y68: Btct | Z68: Tolv | AA68: G.men | AB68: Tường | AC68: Btct | AD68: Trần nhựa | AG68: =IF(AE68<>0,VLOOKUP(AE68,ODDS!$A$2:$C$13,3,0),"") | AH68: =IF(AE68<>0,ROUND(AF68*AG68,-2)," ") | AI68: =IF(B68<>0,M68+N68+R68+X68+AH68," ") | AJ68: Nhà xây dựng năm 2006, sửa lại năm 2021 | AK68: Giá hỗ trợ VKT theo Quyết định số 11/QĐ-UBND ngày 31/3/2025 và khoản c, điều 5 Quyết định số 07/2026/QĐ-UBND ngày 12/02/2026 của UBND tỉnh AG
A69: =IF(B68<>0,B68,A68) -> 6 | C69: 1065/1 Lâm Quang Ky, Phường Rạch Giá, tỉnh An Giang | K69: =IF(G69<>0,VLOOKUP(G69,'gia dat'!$A$1:$F$144,5,0)," ") | L69: =IF(G69<>0,VLOOKUP(G69,'gia dat'!$A$1:$F$144,6,0)," ") | M69: =IF(H69<>0,ROUND(H69*K69,-3)," ") | N69: =IF(H69<>0,ROUND(H69*L69,-3)," ") | Q69: =IF(O69<>0,VLOOKUP(O69,'Cây trong'!$A$2:$C$246,3,0)," ") | R69: =IF(O69<>0,ROUND(P69*Q69,-2)," ") | S69: Nền xi măng SN.01 (hỗ trợ 90%) | T69: m² | U69: 5.4 | W69: =IF(S69<>0,VLOOKUP(S69,VKT!$A$2:$G$415,7,0),"") -> 238288 | X69: =IF(S69<>0,ROUND(U69*W69,-3)," ") -> 1287000 | AG69: =IF(AE69<>0,VLOOKUP(AE69,ODDS!$A$2:$C$13,3,0),"") | AH69: =IF(AE69<>0,ROUND(AF69*AG69,-2)," ") | AI69: =IF(B69<>0,M69+N69+R69+X69+AH69," ") | AK69: Báo cáo số 06/BC-TTKĐ ngày 15 tháng 4 năm 2026 ngày 15 tháng 4 năm 2026 của Trung tâm kiểm định và Dịch vụ xây dựng - Sở Xây dựng tỉnh AG
A70: =IF(B69<>0,B69,A69) -> 6 | K70: =IF(G70<>0,VLOOKUP(G70,'gia dat'!$A$1:$F$144,5,0)," ") | L70: =IF(G70<>0,VLOOKUP(G70,'gia dat'!$A$1:$F$144,6,0)," ") | M70: =IF(H70<>0,ROUND(H70*K70,-3)," ") | N70: =IF(H70<>0,ROUND(H70*L70,-3)," ") | Q70: =IF(O70<>0,VLOOKUP(O70,'Cây trong'!$A$2:$C$246,3,0)," ") | R70: =IF(O70<>0,ROUND(P70*Q70,-2)," ") | S70: Nền gạch men (hỗ trợ 90%) | T70: m² | U70: 9.84 | W70: =IF(S70<>0,VLOOKUP(S70,VKT!$A$2:$G$415,7,0),"") -> 275180 | X70: =IF(S70<>0,ROUND(U70*W70,-3)," ") -> 2708000 | AG70: =IF(AE70<>0,VLOOKUP(AE70,ODDS!$A$2:$C$13,3,0),"") | AH70: =IF(AE70<>0,ROUND(AF70*AG70,-2)," ") | AI70: =IF(B70<>0,M70+N70+R70+X70+AH70," ")
A71: =IF(B70<>0,B70,A70) -> 6 | K71: =IF(G71<>0,VLOOKUP(G71,'gia dat'!$A$1:$F$144,5,0)," ") | L71: =IF(G71<>0,VLOOKUP(G71,'gia dat'!$A$1:$F$144,6,0)," ") | M71: =IF(H71<>0,ROUND(H71*K71,-3)," ") | N71: =IF(H71<>0,ROUND(H71*L71,-3)," ") | Q71: =IF(O71<>0,VLOOKUP(O71,'Cây trong'!$A$2:$C$246,3,0)," ") | R71: =IF(O71<>0,ROUND(P71*Q71,-2)," ") | S71: Hàng rào khung lưới B40, trụ sắt HR.18 (hỗ trợ 90%) | T71: m² | U71: 9.28 | W71: =IF(S71<>0,VLOOKUP(S71,VKT!$A$2:$G$415,7,0),"") -> 496651 | X71: =IF(S71<>0,ROUND(U71*W71,-3)," ") -> 4609000 | AG71: =IF(AE71<>0,VLOOKUP(AE71,ODDS!$A$2:$C$13,3,0),"") | AH71: =IF(AE71<>0,ROUND(AF71*AG71,-2)," ") | AI71: =IF(B71<>0,M71+N71+R71+X71+AH71," ")
A72: =IF(B71<>0,B71,A71) -> 6 | K72: =IF(G72<>0,VLOOKUP(G72,'gia dat'!$A$1:$F$144,5,0)," ") | L72: =IF(G72<>0,VLOOKUP(G72,'gia dat'!$A$1:$F$144,6,0)," ") | M72: =IF(H72<>0,ROUND(H72*K72,-3)," ") | N72: =IF(H72<>0,ROUND(H72*L72,-3)," ") | Q72: =IF(O72<>0,VLOOKUP(O72,'Cây trong'!$A$2:$C$246,3,0)," ") | R72: =IF(O72<>0,ROUND(P72*Q72,-2)," ") | S72: Đal BT ông thiên (hỗ trợ 90%) | T72: m³ | U72: 0.01 | W72: =IF(S72<>0,VLOOKUP(S72,VKT!$A$2:$G$415,7,0),"") -> 0 | X72: =IF(S72<>0,ROUND(U72*W72,-3)," ") -> 0 | AG72: =IF(AE72<>0,VLOOKUP(AE72,ODDS!$A$2:$C$13,3,0),"") | AH72: =IF(AE72<>0,ROUND(AF72*AG72,-2)," ") | AI72: =IF(B72<>0,M72+N72+R72+X72+AH72," ")
A73: =IF(B72<>0,B72,A72) -> 6 | K73: =IF(G73<>0,VLOOKUP(G73,'gia dat'!$A$1:$F$144,5,0)," ") | L73: =IF(G73<>0,VLOOKUP(G73,'gia dat'!$A$1:$F$144,6,0)," ") | M73: =IF(H73<>0,ROUND(H73*K73,-3)," ") | N73: =IF(H73<>0,ROUND(H73*L73,-3)," ") | Q73: =IF(O73<>0,VLOOKUP(O73,'Cây trong'!$A$2:$C$246,3,0)," ") | R73: =IF(O73<>0,ROUND(P73*Q73,-2)," ") | S73: Trụ xây gạch (hỗ trợ 90%) | T73: m³ | U73: 0.02 | W73: =IF(S73<>0,VLOOKUP(S73,VKT!$A$2:$G$415,7,0),"") -> 3591896 | X73: =IF(S73<>0,ROUND(U73*W73,-3)," ") -> 72000 | AG73: =IF(AE73<>0,VLOOKUP(AE73,ODDS!$A$2:$C$13,3,0),"") | AH73: =IF(AE73<>0,ROUND(AF73*AG73,-2)," ") | AI73: =IF(B73<>0,M73+N73+R73+X73+AH73," ")
A74: =IF(B73<>0,B73,A73) -> 6 | K74: =IF(G74<>0,VLOOKUP(G74,'gia dat'!$A$1:$F$144,5,0)," ") | L74: =IF(G74<>0,VLOOKUP(G74,'gia dat'!$A$1:$F$144,6,0)," ") | M74: =IF(H74<>0,ROUND(H74*K74,-3)," ") | N74: =IF(H74<>0,ROUND(H74*L74,-3)," ") | Q74: =IF(O74<>0,VLOOKUP(O74,'Cây trong'!$A$2:$C$246,3,0)," ") | R74: =IF(O74<>0,ROUND(P74*Q74,-2)," ") | W74: =IF(S74<>0,VLOOKUP(S74,VKT!$A$2:$G$415,7,0),"") | X74: =IF(S74<>0,ROUND(U74*W74,-3)," ") | AG74: =IF(AE74<>0,VLOOKUP(AE74,ODDS!$A$2:$C$13,3,0),"") | AH74: =IF(AE74<>0,ROUND(AF74*AG74,-2)," ") | AI74: =IF(B74<>0,M74+N74+R74+X74+AH74," ")
A75: =IF(B74<>0,B74,A74) -> 6 | K75: =IF(G75<>0,VLOOKUP(G75,'gia dat'!$A$1:$F$144,5,0)," ") | L75: =IF(G75<>0,VLOOKUP(G75,'gia dat'!$A$1:$F$144,6,0)," ") | M75: =IF(H75<>0,ROUND(H75*K75,-3)," ") | N75: =IF(H75<>0,ROUND(H75*L75,-3)," ") | Q75: =IF(O75<>0,VLOOKUP(O75,'Cây trong'!$A$2:$C$246,3,0)," ") | R75: =IF(O75<>0,ROUND(P75*Q75,-2)," ") | W75: =IF(S75<>0,VLOOKUP(S75,VKT!$A$2:$G$415,7,0),"") | X75: =IF(S75<>0,ROUND(U75*W75,-3)," ") | AG75: =IF(AE75<>0,VLOOKUP(AE75,ODDS!$A$2:$C$13,3,0),"") | AH75: =IF(AE75<>0,ROUND(AF75*AG75,-2)," ") | AI75: =IF(B75<>0,M75+N75+R75+X75+AH75," ")
A76: =IF(B75<>0,B75,A75) -> 6 | K76: =IF(G76<>0,VLOOKUP(G76,'gia dat'!$A$1:$F$144,5,0)," ") | L76: =IF(G76<>0,VLOOKUP(G76,'gia dat'!$A$1:$F$144,6,0)," ") | M76: =IF(H76<>0,ROUND(H76*K76,-3)," ") | N76: =IF(H76<>0,ROUND(H76*L76,-3)," ") | Q76: =IF(O76<>0,VLOOKUP(O76,'Cây trong'!$A$2:$C$246,3,0)," ") | R76: =IF(O76<>0,ROUND(P76*Q76,-2)," ") | W76: =IF(S76<>0,VLOOKUP(S76,VKT!$A$2:$G$415,7,0),"") | X76: =IF(S76<>0,ROUND(U76*W76,-3)," ") | AG76: =IF(AE76<>0,VLOOKUP(AE76,ODDS!$A$2:$C$13,3,0),"") | AH76: =IF(AE76<>0,ROUND(AF76*AG76,-2)," ") | AI76: =IF(B76<>0,M76+N76+R76+X76+AH76," ")
A77: 7 Total | B77: 7 | C77: Quách Ngọc Dũng | H77: =SUBTOTAL(9,H78:H84) -> 0 | I77: =SUBTOTAL(9,I78:I83) -> 0 | M77: =SUBTOTAL(9,M78:M84) -> 0 | N77: =SUBTOTAL(9,N78:N84) -> 0 | P77: =SUBTOTAL(9,P78:P84) -> 0 | R77: =SUBTOTAL(9,R78:R84) -> 0 | U77: =SUBTOTAL(9,U78:U84) -> 59.47 | X77: =SUBTOTAL(9,X78:X84) -> 173830000 | AF77: =SUBTOTAL(9,AF78:AF84) -> 0 | AH77: =SUBTOTAL(9,AH78:AH84) -> 0 | AI77: =IF(B77<>0,M77+N77+R77+X77+AH77," ") -> 173830000
A78: =IF(B77<>0,B77,A76) -> 7 | C78: 1970 - 0910 7000 8356 | D78: 2 | K78: =IF(G78<>0,VLOOKUP(G78,'gia dat'!$A$1:$F$144,5,0)," ") | L78: =IF(G78<>0,VLOOKUP(G78,'gia dat'!$A$1:$F$144,6,0)," ") | M78: =IF(H78<>0,ROUND(H78*K78,-3)," ") | N78: =IF(H78<>0,ROUND(H78*L78,-3)," ") | Q78: =IF(O78<>0,VLOOKUP(O78,'Cây trong'!$A$2:$C$246,3,0)," ") | R78: =IF(O78<>0,ROUND(P78*Q78,-2)," ") | S78: Nhà C3.05 (hỗ trợ 90%) | T78: m² | U78: 31.95 | W78: =IF(S78<>0,VLOOKUP(S78,VKT!$A$2:$G$415,7,0),"") -> 5307665 | X78: =IF(S78<>0,ROUND(U78*W78,-3)," ") -> 169580000 | Y78: Btct | Z78: Tolv | AA78: G.men | AB78: Tường | AC78: Btct | AD78: Trần nhựa | AG78: =IF(AE78<>0,VLOOKUP(AE78,ODDS!$A$2:$C$13,3,0),"") | AH78: =IF(AE78<>0,ROUND(AF78*AG78,-2)," ") | AI78: =IF(B78<>0,M78+N78+R78+X78+AH78," ") | AJ78: Nhà xây dựng năm 2006 | AK78: Giá hỗ trợ VKT theo Quyết định số 11/QĐ-UBND ngày 31/3/2025 và khoản c, điều 5 Quyết định số 07/2026/QĐ-UBND ngày 12/02/2026 của UBND tỉnh AG
A79: =IF(B78<>0,B78,A78) -> 7 | C79: 1065/1B Lâm Quang Ky, Phường Rạch Giá, tỉnh An Giang | K79: =IF(G79<>0,VLOOKUP(G79,'gia dat'!$A$1:$F$144,5,0)," ") | L79: =IF(G79<>0,VLOOKUP(G79,'gia dat'!$A$1:$F$144,6,0)," ") | M79: =IF(H79<>0,ROUND(H79*K79,-3)," ") | N79: =IF(H79<>0,ROUND(H79*L79,-3)," ") | Q79: =IF(O79<>0,VLOOKUP(O79,'Cây trong'!$A$2:$C$246,3,0)," ") | R79: =IF(O79<>0,ROUND(P79*Q79,-2)," ") | S79: Nền xi măng SN.01 (hỗ trợ 90%) | T79: m² | U79: 7.2 | W79: =IF(S79<>0,VLOOKUP(S79,VKT!$A$2:$G$415,7,0),"") -> 238288 | X79: =IF(S79<>0,ROUND(U79*W79,-3)," ") -> 1716000 | AG79: =IF(AE79<>0,VLOOKUP(AE79,ODDS!$A$2:$C$13,3,0),"") | AH79: =IF(AE79<>0,ROUND(AF79*AG79,-2)," ") | AI79: =IF(B79<>0,M79+N79+R79+X79+AH79," ") | AK79: Báo cáo số 06/BC-TTKĐ ngày 15 tháng 4 năm 2026 ngày 15 tháng 4 năm 2026 của Trung tâm kiểm định và Dịch vụ xây dựng - Sở Xây dựng tỉnh AG
A80: =IF(B79<>0,B79,A79) -> 7 | K80: =IF(G80<>0,VLOOKUP(G80,'gia dat'!$A$1:$F$144,5,0)," ") | L80: =IF(G80<>0,VLOOKUP(G80,'gia dat'!$A$1:$F$144,6,0)," ") | M80: =IF(H80<>0,ROUND(H80*K80,-3)," ") | N80: =IF(H80<>0,ROUND(H80*L80,-3)," ") | Q80: =IF(O80<>0,VLOOKUP(O80,'Cây trong'!$A$2:$C$246,3,0)," ") | R80: =IF(O80<>0,ROUND(P80*Q80,-2)," ") | S80: Nền xi măng SN.01 (hỗ trợ 90%) | T80: m² | U80: 10.44 | W80: =IF(S80<>0,VLOOKUP(S80,VKT!$A$2:$G$415,7,0),"") -> 238288 | X80: =IF(S80<>0,ROUND(U80*W80,-3)," ") -> 2488000 | Z80: Btct | AA80: G.men | AB80: Tường | AC80: Btct | AG80: =IF(AE80<>0,VLOOKUP(AE80,ODDS!$A$2:$C$13,3,0),"") | AH80: =IF(AE80<>0,ROUND(AF80*AG80,-2)," ") | AI80: =IF(B80<>0,M80+N80+R80+X80+AH80," ")
A81: =IF(B80<>0,B80,A80) -> 7 | K81: =IF(G81<>0,VLOOKUP(G81,'gia dat'!$A$1:$F$144,5,0)," ") | L81: =IF(G81<>0,VLOOKUP(G81,'gia dat'!$A$1:$F$144,6,0)," ") | M81: =IF(H81<>0,ROUND(H81*K81,-3)," ") | N81: =IF(H81<>0,ROUND(H81*L81,-3)," ") | Q81: =IF(O81<>0,VLOOKUP(O81,'Cây trong'!$A$2:$C$246,3,0)," ") | R81: =IF(O81<>0,ROUND(P81*Q81,-2)," ") | S81: Mái che tol (hỗ trợ 90%) | T81: m² | U81: 8.1 | W81: =IF(S81<>0,VLOOKUP(S81,VKT!$A$2:$G$415,7,0),"") -> 0 | X81: =IF(S81<>0,ROUND(U81*W81,-3)," ") -> 0 | AG81: =IF(AE81<>0,VLOOKUP(AE81,ODDS!$A$2:$C$13,3,0),"") | AH81: =IF(AE81<>0,ROUND(AF81*AG81,-2)," ") | AI81: =IF(B81<>0,M81+N81+R81+X81+AH81," ")
A82: =IF(B81<>0,B81,A81) -> 7 | K82: =IF(G82<>0,VLOOKUP(G82,'gia dat'!$A$1:$F$144,5,0)," ") | L82: =IF(G82<>0,VLOOKUP(G82,'gia dat'!$A$1:$F$144,6,0)," ") | M82: =IF(H82<>0,ROUND(H82*K82,-3)," ") | N82: =IF(H82<>0,ROUND(H82*L82,-3)," ") | Q82: =IF(O82<>0,VLOOKUP(O82,'Cây trong'!$A$2:$C$246,3,0)," ") | R82: =IF(O82<>0,ROUND(P82*Q82,-2)," ") | S82: Đal bt (hỗ trợ 90%) | T82: m³ | U82: 1.62 | W82: =IF(S82<>0,VLOOKUP(S82,VKT!$A$2:$G$415,7,0),"") -> 0 | X82: =IF(S82<>0,ROUND(U82*W82,-3)," ") -> 0 | AG82: =IF(AE82<>0,VLOOKUP(AE82,ODDS!$A$2:$C$13,3,0),"") | AH82: =IF(AE82<>0,ROUND(AF82*AG82,-2)," ") | AI82: =IF(B82<>0,M82+N82+R82+X82+AH82," ")
A83: =IF(B82<>0,B82,A82) -> 7 | K83: =IF(G83<>0,VLOOKUP(G83,'gia dat'!$A$1:$F$144,5,0)," ") | L83: =IF(G83<>0,VLOOKUP(G83,'gia dat'!$A$1:$F$144,6,0)," ") | M83: =IF(H83<>0,ROUND(H83*K83,-3)," ") | N83: =IF(H83<>0,ROUND(H83*L83,-3)," ") | Q83: =IF(O83<>0,VLOOKUP(O83,'Cây trong'!$A$2:$C$246,3,0)," ") | R83: =IF(O83<>0,ROUND(P83*Q83,-2)," ") | S83: Gạch men ốp (hỗ trợ 90%) | T83: m² | U83: 0.16 | W83: =IF(S83<>0,VLOOKUP(S83,VKT!$A$2:$G$415,7,0),"") -> 286855 | X83: =IF(S83<>0,ROUND(U83*W83,-3)," ") -> 46000 | AG83: =IF(AE83<>0,VLOOKUP(AE83,ODDS!$A$2:$C$13,3,0),"") | AH83: =IF(AE83<>0,ROUND(AF83*AG83,-2)," ") | AI83: =IF(B83<>0,M83+N83+R83+X83+AH83," ")
A84: =IF(B83<>0,B83,A83) -> 7 | K84: =IF(G84<>0,VLOOKUP(G84,'gia dat'!$A$1:$F$144,5,0)," ") | L84: =IF(G84<>0,VLOOKUP(G84,'gia dat'!$A$1:$F$144,6,0)," ") | M84: =IF(H84<>0,ROUND(H84*K84,-3)," ") | N84: =IF(H84<>0,ROUND(H84*L84,-3)," ") | Q84: =IF(O84<>0,VLOOKUP(O84,'Cây trong'!$A$2:$C$246,3,0)," ") | R84: =IF(O84<>0,ROUND(P84*Q84,-2)," ") | W84: =IF(S84<>0,VLOOKUP(S84,VKT!$A$2:$G$415,7,0),"") | X84: =IF(S84<>0,ROUND(U84*W84,-3)," ") | AG84: =IF(AE84<>0,VLOOKUP(AE84,ODDS!$A$2:$C$13,3,0),"") | AH84: =IF(AE84<>0,ROUND(AF84*AG84,-2)," ") | AI84: =IF(B84<>0,M84+N84+R84+X84+AH84," ")
A85: 8 Total | B85: 8 | C85: Quách Thị Tuyết Mai; Nguyễn Ngọc Trường | H85: =SUBTOTAL(9,H86:H91) -> 24.6 | I85: =SUBTOTAL(9,I86:I91) -> 0 | M85: =SUBTOTAL(9,M86:M91) -> 13638000 | N85: =SUBTOTAL(9,N86:N91) -> 0 | P85: =SUBTOTAL(9,P86:P91) -> 0 | R85: =SUBTOTAL(9,R86:R91) -> 0 | U85: =SUBTOTAL(9,U86:U91) -> 0 | X85: =SUBTOTAL(9,X86:X91) -> 0 | AF85: =SUBTOTAL(9,AF86:AF91) -> 0 | AH85: =SUBTOTAL(9,AH86:AH91) -> 0 | AI85: =IF(B85<>0,M85+N85+R85+X85+AH85," ") -> 13638000
A86: =IF(B85<>0,B85,A84) -> 8 | C86: 1949 - 0911 4900 5395 1949 - 0830 4900 4059 | E86: 86 | F86: 1582 | G86: Đất trồng cây lâu năm (GCN) - VT1 giáp hẻm 1065 (ngăn cách mương) | H86: 24.6 | I86: =IF(N86>0,H86,"") | K86: =IF(G86<>0,VLOOKUP(G86,'gia dat'!$A$1:$F$144,5,0)," ") -> 554400 | L86: =IF(G86<>0,VLOOKUP(G86,'gia dat'!$A$1:$F$144,6,0)," ") -> 0 | M86: =IF(H86<>0,ROUND(H86*K86,-3)," ") -> 13638000 | N86: =IF(H86<>0,ROUND(H86*L86,-3)," ") -> 0 | W86: =IF(S86<>0,VLOOKUP(S86,VKT!$A$2:$G$415,7,0),"") | X86: =IF(S86<>0,ROUND(U86*W86,-3)," ") | AG86: =IF(AE86<>0,VLOOKUP(AE86,ODDS!$A$2:$C$13,3,0),"") | AH86: =IF(AE86<>0,ROUND(AF86*AG86,-2)," ") | AI86: =IF(B86<>0,M86+N86+R86+X86+AH86," ") | AJ86: Nguồn gốc đất có GCN số DN 948275 do Chi nhánh văn phòng ĐKĐĐ Thành Phố Rạch Giá cấp ngày 23/04/2024. Tờ BĐ 86, thửa 1582; diện tích 929,6 m² đất trồng cây lâu năm. GCN do Quách Thị Tuyết Mai; Nguyễn Ngọc Trường đứng tên. hiện trạng do cha mẹ cho con là Nguyễn Ngọc Trung năm 1990 (không có giấy tay), một phần thửa đất | AK86: Giá bồi thường về đất theo Nghị quyết số 16/2025/NQ-HĐND ngày 30/12/2025 của Hội đồng nhân dân tỉnh AG và Quyết định số 69/2026/QĐ-UBND ngày 18/7/2026 của UBND tỉnh AG | AL86: chưa thông tin CĐN
A87: =IF(B86<>0,B86,A86) -> 8 | C87: 818 Ngô Quyền, phường Rạch Giá, tỉnh An Giang | K87: =IF(G87<>0,VLOOKUP(G87,'gia dat'!$A$1:$F$144,5,0)," ") | L87: =IF(G87<>0,VLOOKUP(G87,'gia dat'!$A$1:$F$144,6,0)," ") | M87: =IF(H87<>0,ROUND(H87*K87,-3)," ") | N87: =IF(H87<>0,ROUND(H87*L87,-3)," ") | W87: =IF(S87<>0,VLOOKUP(S87,VKT!$A$2:$G$415,7,0),"") | X87: =IF(S87<>0,ROUND(U87*W87,-3)," ") | AG87: =IF(AE87<>0,VLOOKUP(AE87,ODDS!$A$2:$C$13,3,0),"") | AI87: =IF(B87<>0,M87+N87+R87+X87+AH87," ") | AJ87: Chưa lập hồ sơ chính chủ
A88: =IF(B87<>0,B87,A87) -> 8 | K88: =IF(G88<>0,VLOOKUP(G88,'gia dat'!$A$1:$F$144,5,0)," ") | L88: =IF(G88<>0,VLOOKUP(G88,'gia dat'!$A$1:$F$144,6,0)," ") | M88: =IF(H88<>0,ROUND(H88*K88,-3)," ") | N88: =IF(H88<>0,ROUND(H88*L88,-3)," ") | W88: =IF(S88<>0,VLOOKUP(S88,VKT!$A$2:$G$415,7,0),"") | X88: =IF(S88<>0,ROUND(U88*W88,-3)," ") | AG88: =IF(AE88<>0,VLOOKUP(AE88,ODDS!$A$2:$C$13,3,0),"") | AI88: =IF(B88<>0,M88+N88+R88+X88+AH88," ")
A89: =IF(B88<>0,B88,A88) -> 8 | K89: =IF(G89<>0,VLOOKUP(G89,'gia dat'!$A$1:$F$144,5,0)," ") | L89: =IF(G89<>0,VLOOKUP(G89,'gia dat'!$A$1:$F$144,6,0)," ") | M89: =IF(H89<>0,ROUND(H89*K89,-3)," ") | N89: =IF(H89<>0,ROUND(H89*L89,-3)," ") | W89: =IF(S89<>0,VLOOKUP(S89,VKT!$A$2:$G$415,7,0),"") | X89: =IF(S89<>0,ROUND(U89*W89,-3)," ") | AG89: =IF(AE89<>0,VLOOKUP(AE89,ODDS!$A$2:$C$13,3,0),"") | AI89: =IF(B89<>0,M89+N89+R89+X89+AH89," ")
A90: =IF(B89<>0,B89,A89) -> 8 | K90: =IF(G90<>0,VLOOKUP(G90,'gia dat'!$A$1:$F$144,5,0)," ") | L90: =IF(G90<>0,VLOOKUP(G90,'gia dat'!$A$1:$F$144,6,0)," ") | M90: =IF(H90<>0,ROUND(H90*K90,-3)," ") | N90: =IF(H90<>0,ROUND(H90*L90,-3)," ") | W90: =IF(S90<>0,VLOOKUP(S90,VKT!$A$2:$G$415,7,0),"") | X90: =IF(S90<>0,ROUND(U90*W90,-3)," ") | AG90: =IF(AE90<>0,VLOOKUP(AE90,ODDS!$A$2:$C$13,3,0),"") | AI90: =IF(B90<>0,M90+N90+R90+X90+AH90," ")
A91: =IF(B90<>0,B90,A90) -> 8 | K91: =IF(G91<>0,VLOOKUP(G91,'gia dat'!$A$1:$F$144,5,0)," ") | L91: =IF(G91<>0,VLOOKUP(G91,'gia dat'!$A$1:$F$144,6,0)," ") | M91: =IF(H91<>0,ROUND(H91*K91,-3)," ") | N91: =IF(H91<>0,ROUND(H91*L91,-3)," ") | W91: =IF(S91<>0,VLOOKUP(S91,VKT!$A$2:$G$415,7,0),"") | X91: =IF(S91<>0,ROUND(U91*W91,-3)," ") | AG91: =IF(AE91<>0,VLOOKUP(AE91,ODDS!$A$2:$C$13,3,0),"") | AI91: =IF(B91<>0,M91+N91+R91+X91+AH91," ")
A92: 9 Total | B92: 9 | C92: Quách Thị Tuyết Mai; Nguyễn Ngọc Trường | H92: =SUBTOTAL(9,H93:H97) -> 23.9 | I92: =SUBTOTAL(9,I93:I98) -> 0 | M92: =SUBTOTAL(9,M93:M97) -> 13250000 | N92: =SUBTOTAL(9,N93:N97) -> 0 | P92: =SUBTOTAL(9,P93:P97) -> 0 | R92: =SUBTOTAL(9,R93:R97) -> 0 | U92: =SUBTOTAL(9,U93:U97) -> 0 | X92: =SUBTOTAL(9,X93:X97) -> 0 | AF92: =SUBTOTAL(9,AF93:AF97) -> 0 | AH92: =SUBTOTAL(9,AH93:AH97) -> 0 | AI92: =IF(B92<>0,M92+N92+R92+X92+AH92," ") -> 13250000
A93: =IF(B92<>0,B92,A91) -> 9 | C93: 1949 - 0911 4900 5395 1949 - 0830 4900 4059 | E93: 86 | F93: 1582 | G93: Đất trồng cây lâu năm (GCN) - VT1 giáp hẻm 1065 (ngăn cách mương) | H93: 23.9 | I93: =IF(N93>0,H93,"") | K93: =IF(G93<>0,VLOOKUP(G93,'gia dat'!$A$1:$F$144,5,0)," ") -> 554400 | L93: =IF(G93<>0,VLOOKUP(G93,'gia dat'!$A$1:$F$144,6,0)," ") -> 0 | M93: =IF(H93<>0,ROUND(H93*K93,-3)," ") -> 13250000 | N93: =IF(H93<>0,ROUND(H93*L93,-3)," ") -> 0 | W93: =IF(S93<>0,VLOOKUP(S93,VKT!$A$2:$G$415,7,0),"") | X93: =IF(S93<>0,ROUND(U93*W93,-3)," ") | AG93: =IF(AE93<>0,VLOOKUP(AE93,ODDS!$A$2:$C$13,3,0),"") | AI93: =IF(B93<>0,M93+N93+R93+X93+AH93," ") | AJ93: Nguồn gốc đất có GCN số DN 948275 do Chi nhánh văn phòng ĐKĐĐ Thành Phố Rạch Giá cấp ngày 23/04/2024.Tờ BĐ 86, thửa 1582; diện tích 929,6 m² đất trồng cây lâu năm. GCN do Quách Thị Tuyết Mai; Nguyễn Ngọc Trường đứng tên. hiện trạng do cha mẹ cho con là Nguyễn Thị Tuyết Loan ngày 18/6/2015 (giấy tay), một phần thửa đất | AK93: Giá bồi thường về đất theo Nghị quyết số 16/2025/NQ-HĐND ngày 30/12/2025 của Hội đồng nhân dân tỉnh AG và Quyết định số 69/2026/QĐ-UBND ngày 18/7/2026 của UBND tỉnh AG | AL93: chưa thông tin CĐN
A94: =IF(B93<>0,B93,A93) -> 9 | C94: 818 Ngô Quyền, phường Rạch Giá, tỉnh An Giang | K94: =IF(G94<>0,VLOOKUP(G94,'gia dat'!$A$1:$F$144,5,0)," ") | L94: =IF(G94<>0,VLOOKUP(G94,'gia dat'!$A$1:$F$144,6,0)," ") | M94: =IF(H94<>0,ROUND(H94*K94,-3)," ") | N94: =IF(H94<>0,ROUND(H94*L94,-3)," ") | W94: =IF(S94<>0,VLOOKUP(S94,VKT!$A$2:$G$415,7,0),"") | X94: =IF(S94<>0,ROUND(U94*W94,-3)," ") | AG94: =IF(AE94<>0,VLOOKUP(AE94,ODDS!$A$2:$C$13,3,0),"") | AI94: =IF(B94<>0,M94+N94+R94+X94+AH94," ") | AJ94: Chưa lập hồ sơ chính chủ
A95: =IF(B94<>0,B94,A94) -> 9 | K95: =IF(G95<>0,VLOOKUP(G95,'gia dat'!$A$1:$F$144,5,0)," ") | L95: =IF(G95<>0,VLOOKUP(G95,'gia dat'!$A$1:$F$144,6,0)," ") | M95: =IF(H95<>0,ROUND(H95*K95,-3)," ") | N95: =IF(H95<>0,ROUND(H95*L95,-3)," ") | W95: =IF(S95<>0,VLOOKUP(S95,VKT!$A$2:$G$415,7,0),"") | X95: =IF(S95<>0,ROUND(U95*W95,-3)," ") | AG95: =IF(AE95<>0,VLOOKUP(AE95,ODDS!$A$2:$C$13,3,0),"") | AI95: =IF(B95<>0,M95+N95+R95+X95+AH95," ")
A96: =IF(B95<>0,B95,A95) -> 9 | K96: =IF(G96<>0,VLOOKUP(G96,'gia dat'!$A$1:$F$144,5,0)," ") | L96: =IF(G96<>0,VLOOKUP(G96,'gia dat'!$A$1:$F$144,6,0)," ") | M96: =IF(H96<>0,ROUND(H96*K96,-3)," ") | N96: =IF(H96<>0,ROUND(H96*L96,-3)," ") | W96: =IF(S96<>0,VLOOKUP(S96,VKT!$A$2:$G$415,7,0),"") | X96: =IF(S96<>0,ROUND(U96*W96,-3)," ") | AG96: =IF(AE96<>0,VLOOKUP(AE96,ODDS!$A$2:$C$13,3,0),"") | AI96: =IF(B96<>0,M96+N96+R96+X96+AH96," ")
A97: =IF(B96<>0,B96,A96) -> 9 | K97: =IF(G97<>0,VLOOKUP(G97,'gia dat'!$A$1:$F$144,5,0)," ") | L97: =IF(G97<>0,VLOOKUP(G97,'gia dat'!$A$1:$F$144,6,0)," ") | M97: =IF(H97<>0,ROUND(H97*K97,-3)," ") | N97: =IF(H97<>0,ROUND(H97*L97,-3)," ") | W97: =IF(S97<>0,VLOOKUP(S97,VKT!$A$2:$G$415,7,0),"") | X97: =IF(S97<>0,ROUND(U97*W97,-3)," ") | AG97: =IF(AE97<>0,VLOOKUP(AE97,ODDS!$A$2:$C$13,3,0),"") | AI97: =IF(B97<>0,M97+N97+R97+X97+AH97," ")
A98: 10 Total | B98: 10 | C98: Quách Thị Tuyết Mai; Nguyễn Ngọc Trường | H98: =SUBTOTAL(9,H99:H102) -> 16.6 | I98: =SUBTOTAL(9,I99:I104) -> 0 | M98: =SUBTOTAL(9,M99:M102) -> 9203000 | N98: =SUBTOTAL(9,N99:N102) -> 0 | P98: =SUBTOTAL(9,P99:P102) -> 0 | R98: =SUBTOTAL(9,R99:R102) -> 0 | U98: =SUBTOTAL(9,U99:U102) -> 0 | X98: =SUBTOTAL(9,X99:X102) -> 0 | AF98: =SUBTOTAL(9,AF99:AF102) -> 0 | AH98: =SUBTOTAL(9,AH99:AH102) -> 0 | AI98: =IF(B98<>0,M98+N98+R98+X98+AH98," ") -> 9203000
A99: =IF(B98<>0,B98,A97) -> 10 | C99: 1949 - 0911 4900 5395 1949 - 0830 4900 4059 | E99: 86 | F99: 1582 | G99: Đất trồng cây lâu năm (GCN) - VT1 giáp hẻm 1065 (ngăn cách mương) | H99: 16.6 | I99: =IF(N99>0,H99,"") | K99: =IF(G99<>0,VLOOKUP(G99,'gia dat'!$A$1:$F$144,5,0)," ") -> 554400 | L99: =IF(G99<>0,VLOOKUP(G99,'gia dat'!$A$1:$F$144,6,0)," ") -> 0 | M99: =IF(H99<>0,ROUND(H99*K99,-3)," ") -> 9203000 | N99: =IF(H99<>0,ROUND(H99*L99,-3)," ") -> 0 | W99: =IF(S99<>0,VLOOKUP(S99,VKT!$A$2:$G$415,7,0),"") | X99: =IF(S99<>0,ROUND(U99*W99,-3)," ") | AG99: =IF(AE99<>0,VLOOKUP(AE99,ODDS!$A$2:$C$13,3,0),"") | AI99: =IF(B99<>0,M99+N99+R99+X99+AH99," ") | AJ99: Nguồn gốc đất ó GCN số DN 948275 do Chi nhánh văn phòng ĐKĐĐ Thành Phố Rạch Giá cấp ngày 23/04/2024.Tờ BĐ 86, thửa 1582; diện tích 929,6 m² đất trồng cây lâu năm. GCN do Quách Thị Tuyết Mai; Nguyễn Ngọc Trường đứng tên. hiện trạng do cha mẹ cho con là Nguyễn Ngọc Hiếu ngày 18/6/2015 (giấy tay), một phần thửa đất | AK99: Giá bồi thường về đất theo Nghị quyết số 16/2025/NQ-HĐND ngày 30/12/2025 của Hội đồng nhân dân tỉnh AG và Quyết định số 69/2026/QĐ-UBND ngày 18/7/2026 của UBND tỉnh AG | AL99: chưa thông tin CĐN
A100: =IF(B99<>0,B99,A99) -> 10 | C100: 818 Ngô Quyền, phường Rạch Giá, tỉnh An Giang | K100: =IF(G100<>0,VLOOKUP(G100,'gia dat'!$A$1:$F$144,5,0)," ") | L100: =IF(G100<>0,VLOOKUP(G100,'gia dat'!$A$1:$F$144,6,0)," ") | M100: =IF(H100<>0,ROUND(H100*K100,-3)," ") | N100: =IF(H100<>0,ROUND(H100*L100,-3)," ") | W100: =IF(S100<>0,VLOOKUP(S100,VKT!$A$2:$G$415,7,0),"") | X100: =IF(S100<>0,ROUND(U100*W100,-3)," ") | AG100: =IF(AE100<>0,VLOOKUP(AE100,ODDS!$A$2:$C$13,3,0),"") | AI100: =IF(B100<>0,M100+N100+R100+X100+AH100," ") | AJ100: Chưa lập hồ sơ chính chủ
...

Sheet TEN
A1: 1 | B1: Quách Ngọc Tuấn | C1: 1974 - 0910 7400 2275 | D1: 1065/1C Lâm Quang Ky, Phường Rạch Giá, tỉnh An Giang
A2: 2 | B2: Hộ Ông Quách Ngọc Nghé | C2: 1943 - 0910 4300 2669 | D2: 1065 Lâm Quang Ky, Phường Rạch Giá, tỉnh An Giang
A3: 3 | B3: Hộ Ông Quách Ngọc Nghé | C3: 1943 - 0910 4300 2669 | D3: 1065 Lâm Quang Ky, Phường Rạch Giá, tỉnh An Giang
A4: 4 | B4: Hộ Ông Quách Ngọc Nghé | C4: 1943 - 0910 4300 2669 | D4: 1065 Lâm Quang Ky, Phường Rạch Giá, tỉnh An Giang
A5: 5 | B5: Hộ Ông Quách Ngọc Nghé | C5: 1943 - 0910 4300 2669 | D5: 1065 Lâm Quang Ky, Phường Rạch Giá, tỉnh An Giang
A6: 6 | B6: Quách Thị Thủy | C6: 1968 - 0911 6800 5041 | D6: 1065/1 Lâm Quang Ky, Phường Rạch Giá, tỉnh An Giang
A7: 7 | B7: Quách Ngọc Dũng | C7: 1970 - 0910 7000 8356 | D7: 1065/1B Lâm Quang Ky, Phường Rạch Giá, tỉnh An Giang
A8: 8 | B8: Quách Thị Tuyết Mai; Nguyễn Ngọc Trường | C8: 0 | D8: 0
A9: 9 | B9: Quách Thị Tuyết Mai; Nguyễn Ngọc Trường | C9: 0 | D9: 0
A10: 10 | B10: Quách Thị Tuyết Mai; Nguyễn Ngọc Trường | C10: 0 | D10: 0
A11: 11 | B11: Quách Thị Tuyết Mai; Nguyễn Ngọc Trường | C11: 0 | D11: 0
A12: 12 | B12: Nguyễn Ngọc Trung | C12: 1972 - 0910 7202 1433 | D12: 1065/1 Lâm Quang Ky, Phường Rạch Giá, tỉnh An Giang
A13: 13 | B13: Nguyễn Thị Tuyết Loan | C13: 1981 - 0911 8101 6007 | D13: 1065/7 Lâm Quang Ky, Phường Rạch Giá, tỉnh An Giang
A14: 14 | B14: Nguyễn Ngọc Hiếu | C14: 1975 - 0910 7501 4086 | D14: 1065/3 Lâm Quang Ky, Phường Rạch Giá, tỉnh An Giang
A15: 15 | B15: Nguyễn Ngọc Thảo | C15: 1982 - 0910 8201 0257 | D15: 1065/5 Lâm Quang Ky, Phường Rạch Giá, tỉnh An Giang
A16: 16 | B16: Nguyễn Văn Phương;Lê Chúc Xuân | C16: 1981 - 0910 8101 7829; 1977 - 0911 7701 5749 | D16: L3 - 34 Phan Thị Ràng, Phường Rạch Giá, tỉnh An Giang
A17: 17 | B17: Thái Viết Tùng | C17: 1989 - 0910 8900 4439 | D17: 986/30 Nguyễn Trung Trực, phường Rạch Giá, tỉnh An Giang
A18: 18 | B18: Trần Thị Minh Châu | C18: 1984 - 0911 8401 9983 | D18: Khu phố Phi Kinh, phường Rạch Giá, tỉnh An Giang
A19: 19 | B19: Nguyễn Thị Hương | C19: 1958 - 0401 5802 0851 | D19: 334/5/24 Nguyễn Trung Trực, phường Rạch Giá, tỉnh An Giang
A20: 20 | B20: Phạm Thị Lâm;Trần Quang Vinh | C20: 1959 - 0911 5900 5030;1955 - 0910 5500 2734 | D20: Khu phố 7, xã Giồng Riềng, tỉnh An Giang
A21: 21 | B21: Phạm Thị Lâm | C21: 1959 - 0911 5900 5030 | D21: Khu phố 7, xã Giồng Riềng, tỉnh An Giang
A22: 22 | B22: Nguyễn Quang Dũng;Nguyễn Thị Thẩm | C22: 1958 - 0340 5801 7875;1963 - 0911 6300 8982 | D22: L1-14 (109) Trần Quang Khải, phường Rạch Giá, tỉnh An Giang
A23: 23 | B23: Huỳnh Thanh Tùng | C23: 1980 - 0910 8000 2538 | D23: A6-23 Cống Quỳnh, phường Rạch Giá, tỉnh An Giang
... A36: 36 | B36: Lê Minh Tăng | C36: 1995 - 0930 9500 8357 | D36: Ấp 5, xã Xà Phiên, Thành Phố Cần Thơ
A37: 37 | B37: Sa Khắc Lễ | C37: 0 | D37: 0
A38: 38 | B38: Sa Khắc Lễ | C38: 0 | D38: 0
A39: 39 | B39: Sa Chấn Tảo | C39: 1987 - 0910 8702 0737 | D39: 1065/28 Lâm Quang Ky, Phường Rạch Giá, tỉnh An Giang
A40: 40 | B40: Sa Tuyết Hoa | C40: 1983 - 0911 8301 8814 | D40: 1065/26 Lâm Quang Ky, Phường Rạch Giá, tỉnh An Giang
A41: 41 | B41: Nguyễn Thị Thu | C41: 1965 - 0911 6500 8186 | D41: 1065/24 Lâm Quang Ky, Phường Rạch Giá, tỉnh An Giang
A42: 42 | B42: Nguyễn Thị Thu | C42: 1965 - 0911 6500 8186 | D42: 1065/24 Lâm Quang Ky, Phường Rạch Giá, tỉnh An Giang
A43: 43 | B43: Nguyễn Thị Thu | C43: 1965 - 0911 6500 8186 | D43: 1065/24 Lâm Quang Ky, Phường Rạch Giá, tỉnh An Giang
A44: 44 | B44: Võ Ngọc Diễm | C44: 1987 - 0911 8701 9734 | D44: Ấp Đông Bình, xã An Minh, tỉnh An Giang
A45: 45 | B45: Võ Ngọc Vi | C45: 1989 - 0911 8901 5730 | D45: 1065/24 Lâm Quang Ky, Phường Rạch Giá, tỉnh An Giang
A46: 46 | B46: Nguyễn Thanh Thi;Đỗ Thị Thu | C46: 1975 - 0910 7501 4982;1976 - 0911 7601 5617 | D46: 421/5B Nguyễn Trung Trực, phường Rạch Giá, tỉnh An Giang;152 Trần Khánh Dư, phường Rạch Giá, tỉnh An Giang
A47: 47 | B47: Quách Ngọc Chính; Hồng Tú Loan | C47: 1966 - 0910 6600 3392;1966 - 0911 6601 2633 | D47: 828 Ngô Quyền, phường Rạch Giá, tỉnh An Giang; 68 U Minh 10, phường Rạch Giá, tỉnh An Giang
A48: 48 | B48: Đỗ Minh Tuấn | C48: 1991 - 0910 9100 9505 | D48: 1065/16 Lâm Quang Ky, Phường Rạch Giá, tỉnh An Giang
A49: 49 | B49: Đỗ Minh Tuấn | C49: 1991 - 0910 9100 9505 | D49: 1065/16 Lâm Quang Ky, Phường Rạch Giá, tỉnh An Giang
A50: 50 | B50: Phạm Thị Tơ | C50: 1966 - 0911 6600 0229 | D50: Tổ 9A, Khu phố Hòa Lập, xã Kiên Lương, tỉnh An Giang
... A65: 65 | B65: Nguyễn Văn Sinh;Đỗ Thị Hoa | C65: 1960 - 0300 6001 6823; 1961 - 0341 6100 8352 | D65: 36 Lâm Quang Ky, phường Rạch Giá, tỉnh An Giang
A66: 66 | B66: Trường Tiểu Học Trần Khánh Dư | C66: 1067B Lâm Quang Ky, phường Rạch Giá, tỉnh An Giang | D66: 0
A67: 67 | B67: Nguyễn Kinh Kiều | C67: 1944 - 0300 4400 2964 | D67: 1067C/3 hẻm Lâm Quang Ky, phường Rạch Giá, tỉnh An Giang
A68: 68 | B68: Vũ Đình Thiệp | C68: 1958 - 0340 5801 2176 | D68: 1067C/4 Lâm Quang Ky, Phường Rạch Giá, tỉnh An Giang
A69: 69 | B69: Nguyễn Phi Đằng; La Thị Cẩm Nhung | C69: 1957 - 0960 5700 2087; 1965 - 0911 6501 1469 | D69: 1067C Lâm Quang Ky, phường Rạch Giá, tỉnh An Giang; 96/9 Nguyễn Chí Thanh, phường Rạch Giá, tỉnh An Giang
A70: 70 | B70: Nguyễn La Sơn | C70: 1989 - 0910 8901 0987 | D70: 1067D Lâm Quang Ky, Phường Rạch Giá, tỉnh An Giang
A71: 71 | B71: Nhà Dưỡng Lão (Hội Chữ Thập Đỏ) | C71: 1067C Lâm Quang Ky, phường Rạch Giá, tỉnh An Giang | D71: 0
A72: 72 | B72: Cái Việt Bình | C72: 1972 - 0911 7200 3355 | D72: 1067/2 Lâm Quang Ky, phường Rạch Giá, tỉnh An Giang
A73: 73 | B73: Nguyễn Văn Điểm | C73: 1977 - 0910 7702 0083 | D73: Ấp Ngọc Hòa, xã Đông Hưng, tỉnh An Giang
A74: 74 | B74: Nguyễn Văn Điểm | C74: 1977 - 0910 7702 0083 | D74: Ấp Ngọc Hòa, xã Đông Hưng, tỉnh An Giang
A75: 75 | B75: Nguyễn Văn Điểm | C75: 1977 - 0910 7702 0083 | D75: Ấp Ngọc Hòa, xã Đông Hưng, tỉnh An Giang
A76: 76 | B76: Nguyễn Văn Điểm | C76: 1977 - 0910 7702 0083 | D76: Ấp Ngọc Hòa, xã Đông Hưng, tỉnh An Giang
A77: 77 | B77: Nguyễn Văn Điểm | C77: 1977 - 0910 7702 0083 | D77: Ấp Ngọc Hòa, xã Đông Hưng, tỉnh An Giang
A78: 78 | B78: Nguyễn Văn Điểm | C78: 1977 - 0910 7702 0083 | D78: Ấp Ngọc Hòa, xã Đông Hưng, tỉnh An Giang
A79: 79 | B79: Huỳnh Mỹ Hạnh | C79: 1960 - 0911 6000 2143 | D79: 986/33 Nguyễn Trung Trực, phường Rạch Giá, tỉnh An Giang
A80: 80 | B80: Đỗ Huỳnh Ngọc Bích | C80: 1999 - 0911 9900 3724 | D80: 986/31 Nguyễn Trung Trực, phường Rạch Giá, tỉnh An Giang
A81: 81 | B81: Thái Viết Tùng | C81: 1989 - 0910 8900 4439 | D81: 986/30 Nguyễn Trung Trực, phường Rạch Giá, tỉnh An Giang
A82: 82 | B82: Thái Viết Tùng | C82: 1989 - 0910 8900 4439 | D82: 986/30 Nguyễn Trung Trực, phường Rạch Giá, tỉnh An Giang
A83: 83 | B83: Thái Viết Tùng | C83: 1989 - 0910 8900 4439 | D83: 986/30 Nguyễn Trung Trực, phường Rạch Giá, tỉnh An Giang
... A105: 105 | B105: Thái Thị Kim Lanh | C105: 1963 - 0911 6300 5325 | D105: 236 Mạc Cửu, phường Rạch Giá, tỉnh An Giang
A106: 106 | B106: Trường cao đẳng nghề Kiên Giang | C106: 1022 đường Nguyễn Trung Trực, phường Rạch Giá, tỉnh An Giang | D106: 0
A107: 107 | B107: Nguyễn Thanh Giang | C107: 1978 - 0910 7800 0329 | D107: Nay 246A đường Huỳnh tấn Phát, phường Rạch Giá, tỉnh An Giang
A108: 108 | B108: Đào Thị Nhi | C108: 1970- 0911 7001 1454 | D108: Nay 256/88 đường Quang Trung , phường Rạch Giá, tỉnh An Giang
A109: 109 | B109: Trần Thị Thủy | C109: 1970 - 0911 7000 1120 | D109: Nay Khu phố Vĩnh Đông, xã Vĩnh Phong, tỉnh An Giang
A110: 110 | B110: Trần Vũ Toàn | C110: 1979 - 0910 7900 0532 | D110: Nay Ấp Cây Bàng, xã Vĩnh Hòa, tỉnh An Giang
A111: 111 | B111: Thái Viết Tùng | C111: 1989 - 0910 8900 4439 | D111: 986/30 đường Nguyễn Trung Trực, phường Rạch Giá, tỉnh An Giang
A112: 112 | B112: Thái Thị Xuân | C112: 1965 - 0491 6501 3455 | D112: 44 đường Nguyễn Tuân, phường Rạch Giá, tỉnh An Giang
A113: 113 | B113: Phạm Quốc Bảo | C113: 1995 - 0910 9500 4145 | D113: Ấp Bình Thuận, xã Bình Sơn, tỉnh An Giang
A114: 114 | B114: Danh Sơn | C114: 1980 - 0910 8000 6001 | D114: Khu phố 2, phường Rạch Giá, tỉnh An Giang
A115: 115 | B115: Hồ Thanh Sơn | C115: 1985 - 0910 8501 7636 | D115: 1075 H đường Lâm Quang Ky, Khu phố 2, phường Rạch Giá, tỉnh An Giang
A116: 116 | B116: Nguyễn Thị Duyên | C116: 1960- 0911 6000 3555 | D116: C2-70 đường Phạm Hùng, phường Rạch Giá, tỉnh An Giang
A117: 117 | B117: Hồ Thị Thúy Vân | C117: 1979 - 0401 7902 7593 | D117: 986/28/1A đường Nguyễn Trung Trực, phường Rạch Giá, tỉnh An Giang
A118: 118 | B118: Phạm Thị Loan | C118: 1978 - 0361 7801 8305 | D118: 1079D/18B đường Lâm Quang Ky, phường Rạch Giá, tỉnh An Giang
... A121: 121 | B121: Nguyễn Thị Thanh Hoa | C121: 1967 - 0911 6700 7935 | D121: L24-23 Khu dân cư An Bình, phường Rạch Giá, tỉnh An Giang
A122: 122 | B122: Vắng chủ (Đồng Thanh Quý) | C122: 0 | D122: 0
A123: 123 | B123: Đinh Trần Thanh Hải | C123: 1979 - 0910 7901 0904 | D123: Số 680 đường Nguyễn Thị Định, phường Rạch Giá, tỉnh An Giang
A124: 124 | B124: Danh Thị Ngà | C124: 1987 - 0911 8702 1022 | D124: B4 - 30 - 31 đường Lương Thế Vinh, phường Rạch Giá, tỉnh An Giang
A125: 125 | B125: Đỗ Đức Duẩn | C125: 1976 - 0910 7601 3870 | D125: ấp Kinh 9, xã Tân Hiệp, tỉnh An Giang
A126: 126 | B126: Lưu Tú Duyên | C126: 1971 - 0911 7100 8697 | D126: Số 291/1 Chi Lăng, phường Rạch Giá, tỉnh An Giang
A127: 127 | B127: Lê Quốc Phúc | C127: 1982 - 0250 8200 6226 | D127: Số 26 Phạm Ngọc Thạch, Vĩnh Thanh, thành phố Rạch Giá, tỉnh Kiên Giang
A128: 128 | B128: Nguyễn Thị Nguyên | C128: 1964 - 0371 6400 7936 | D128: 06 Nguyễn Văn Cừ, khu phố 3, phường Rạch Giá, tỉnh An Giang
A129: 129 | B129: Nguyễn Thị Cúc | C129: 1988 - 0911 8800 6617 | D129: 15/9 Sư Thiện Ân, phường Rạch Giá, tỉnh An Giang
A130: 130 | B130: Nguyễn Văn Hiền | C130: 1991 - 0910 9101 7775 | D130: 940/2 Nguyễn Trung Trực, phường Rạch Giá, tỉnh An Giang
A131: 131 | B131: Dương Thị Thảo; Lê Văn Minh | C131: 1978 - 0911 7800 9886; 1979 - 0870 7901 4286 | D131: Tổ 12, khóm 3, phường Cao Lãnh, tỉnh Đồng Tháp
A132: 132 | B132: Hộ Trần Doãn Tứ | C132: 1971 - 0910 7101 5238 | D132: 986/20A Nguyễn Trung Trực, phường Rạch Giá, tỉnh An Giang
A133: 133 | B133: Nguyễn Thị Hảo | C133: 1977 - 0911 7700 3099 | D133: 986/20A Nguyễn Trung Trực, phường Rạch Giá, tỉnh An Giang
A134: 134 | B134: Huỳnh Văn Út | C134: 1981 - 0910 8101 1028 | D134: 986/20B Nguyễn Trung Trực, phường Rạch Giá, tỉnh An Giang
... A187: 187 | B187: Nguyễn Tuyết Sương | C187: 1969 - 0911 6901 5096 | D187: 704 Nguyễn Trung Trực, phường Rạch Giá, tỉnh An Giang
A188: 188 | B188: Nguyễn Văn Dũng và Nguyễn Thị Chiến | C188: 0 | D188: 0
A189: 189 | B189: Lê Hải | C189: 1991 - 0910 9101 5756 | D189: 7A-20 Sư Minh Không, Vĩnh Bảo, Rạch Giá, Kiên Giang
A190: 190 | B190: Lê Ngọc Hoàng | C190: 1987 - 0910 8701 7218 | D190: A7-20 Sư Minh Không, phường Rạch Giá, tỉnh An Giang
A191: 191 | B191: Trần Văn Trường | C191: 1982 - 0910 8201 2688 | D191: 12B Chu Văn An, phường Rạch Giá, tỉnh An Giang
A192: 192 | B192: Nguyễn Thị Yến; Trương Tấn Đạt | C192: 1975 - 0911 7500 5936; 1972 - 0920 7200 4438 | D192: 986/28A Nguyễn Trung Trực, phường Rạch Giá, tỉnh An Giang; 81/7, KP1, phường An Phú Đông, thành phố Hồ Chí Minh)
A193: 193 | B193: Đinh Việt Thắng (GCN Đinh Tuấn Tú) | C193: 2003 - 0912 0300 5396 | D193: 1352/11 Thái Phiên, phường Rạch Giá, tỉnh An Giang
A194: 194 | B194: Thái Viết Tùng | C194: 1989 - 0910 8900 4439 | D194: 59 Nguyễn Bỉnh Khiêm, phường Rạch Giá, tỉnh An Giang
A195: 195 | B195: Huỳnh Phương Dung | C195: 1963- 0911 6300 5243 | D195: 986/32 Nguyễn Trung Trực, phường Rạch Giá, tỉnh An Giang
A196: 196 | B196: Huỳnh Phương Dung | C196: 1963- 0911 6300 5243 | D196: 986/32 Nguyễn Trung Trực, phường Rạch Giá, tỉnh An Giang
A197: 197 | B197: Nguyễn Văn Vốn | C197: 1977 - 0910 7700 3130 | D197: 191/14 Nguyễn Trung Trực, phường Rạch Giá, tỉnh An Giang
A198: 198 | B198: Lê Võ Việt Minh Tuân; Nguyễn Thị Tiền | C198: 1981- 0910 8101 0220; 1980 - 0911 8000 5680 | D198: E6-20 Đống Đa, phường Rạch Giá, tỉnh An Giang; 8/203 Kp Thông Chữ, phường Rạch Giá, tỉnh An Giang
A199: 199 | B199: Nguyễn Văn Vốn | C199: 1977 - 0910 7700 3130 | D199: 191/14 Nguyễn Trung Trực, phường Rạch Giá, tỉnh An Giang
A200: 200 | B200: Vũ Thị Tiêm | C200: 1974 - 0911 7400 2841 | D200: 1028/30 Nguyễn Trung Trực, phường Rạch Giá, tỉnh An Giang
... A202: 202 | B202: Nguyễn Thị Mai | C202: 1972 - 0911 7201 5060 | D202: 42/1 Võ Thị Sáu, phường Rạch Giá, tỉnh An Giang
...

Sheet TRUNG TEN
A1: STT | B1: Họ và tên | C1: Năm sinh - Căn cước công dân | D1: Địa chỉ thường trú
A2: 1 | B2: Quách Ngọc Tuấn | C2: 1974 - 0910 7400 2275 | D2: 1065/1C Lâm Quang Ky, Phường Rạch Giá, tỉnh An Giang
A3: 2 | B3: Hộ Ông Quách Ngọc Nghé | C3: 1943 - 0910 4300 2669 | D3: 1065 Lâm Quang Ky, Phường Rạch Giá, tỉnh An Giang
A4: 3 | B4: Quách Thị Thủy | C4: 1968 - 0911 6800 5041 | D4: 1065/1 Lâm Quang Ky, Phường Rạch Giá, tỉnh An Giang
A5: 4 | B5: Quách Ngọc Dũng | C5: 1970 - 0910 7000 8356 | D5: 1065/1B Lâm Quang Ky, Phường Rạch Giá, tỉnh An Giang
A6: 5 | B6: Quách Thị Tuyết Mai; Nguyễn Ngọc Trường | C6: 0 | D6: 0
A7: 6 | B7: Nguyễn Ngọc Trung | C7: 1972 - 0910 7202 1433 | D7: 1065/1 Lâm Quang Ky, Phường Rạch Giá, tỉnh An Giang
A8: 7 | B8: Nguyễn Thị Tuyết Loan | C8: 1981 - 0911 8101 6007 | D8: 1065/7 Lâm Quang Ky, Phường Rạch Giá, tỉnh An Giang
A9: 8 | B9: Nguyễn Ngọc Hiếu | C9: 1975 - 0910 7501 4086 | D9: 1065/3 Lâm Quang Ky, Phường Rạch Giá, tỉnh An Giang
A10: 9 | B10: Nguyễn Ngọc Thảo | C10: 1982 - 0910 8201 0257 | D10: 1065/5 Lâm Quang Ky, Phường Rạch Giá, tỉnh An Giang
A11: 10 | B11: Nguyễn Văn Phương;Lê Chúc Xuân | C11: 1981 - 0910 8101 7829; 1977 - 0911 7701 5749 | D11: L3 - 34 Phan Thị Ràng, Phường Rạch Giá, tỉnh An Giang
A12: 11 | B12: Thái Viết Tùng | C12: 1989 - 0910 8900 4439 | D12: 986/30 Nguyễn Trung Trực, phường Rạch Giá, tỉnh An Giang
A13: 12 | B13: Trần Thị Minh Châu | C13: 1984 - 0911 8401 9983 | D13: Khu phố Phi Kinh, phường Rạch Giá, tỉnh An Giang
A14: 13 | B14: Nguyễn Thị Hương | C14: 1958 - 0401 5802 0851 | D14: 334/5/24 Nguyễn Trung Trực, phường Rạch Giá, tỉnh An Giang
A15: 14 | B15: Phạm Thị Lâm;Trần Quang Vinh | C15: 1959 - 0911 5900 5030;1955 - 0910 5500 2734 | D15: Khu phố 7, xã Giồng Riềng, tỉnh An Giang
A16: 15 | B16: Phạm Thị Lâm | C16: 1959 - 0911 5900 5030 | D16: Khu phố 7, xã Giồng Riềng, tỉnh An Giang
A17: 16 | B17: Nguyễn Quang Dũng;Nguyễn Thị Thẩm | C17: 1958 - 0340 5801 7875;1963 - 0911 6300 8982 | D17: L1-14 (109) Trần Quang Khải, phường Rạch Giá, tỉnh An Giang
A18: 17 | B18: Huỳnh Thanh Tùng | C18: 1980 - 0910 8000 2538 | D18: A6-23 Cống Quỳnh, phường Rạch Giá, tỉnh An Giang
... A52: 51 | B52: Nguyễn Văn Sinh;Đỗ Thị Hoa | C52: 1960 - 0300 6001 6823; 1961 - 0341 6100 8352 | D52: 36 Lâm Quang Ky, phường Rạch Giá, tỉnh An Giang
A53: 52 | B53: Trường Tiểu Học Trần Khánh Dư | C53: 1067B Lâm Quang Ky, phường Rạch Giá, tỉnh An Giang | D53: 0
A54: 53 | B54: Nguyễn Kinh Kiều | C54: 1944 - 0300 4400 2964 | D54: 1067C/3 hẻm Lâm Quang Ky, phường Rạch Giá, tỉnh An Giang
A55: 54 | B55: Vũ Đình Thiệp | C55: 1958 - 0340 5801 2176 | D55: 1067C/4 Lâm Quang Ky, Phường Rạch Giá, tỉnh An Giang
A56: 55 | B56: Nguyễn Phi Đằng; La Thị Cẩm Nhung | C56: 1957 - 0960 5700 2087; 1965 - 0911 6501 1469 | D56: 1067C Lâm Quang Ky, phường Rạch Giá, tỉnh An Giang; 96/9 Nguyễn Chí Thanh, phường Rạch Giá, tỉnh An Giang
A57: 56 | B57: Nguyễn La Sơn | C57: 1989 - 0910 8901 0987 | D57: 1067D Lâm Quang Ky, Phường Rạch Giá, tỉnh An Giang
A58: 57 | B58: Nhà Dưỡng Lão (Hội Chữ Thập Đỏ) | C58: 1067C Lâm Quang Ky, phường Rạch Giá, tỉnh An Giang | D58: 0
A59: 58 | B59: Cái Việt Bình | C59: 1972 - 0911 7200 3355 | D59: 1067/2 Lâm Quang Ky, phường Rạch Giá, tỉnh An Giang
A60: 59 | B60: Nguyễn Văn Điểm | C60: 1977 - 0910 7702 0083 | D60: Ấp Ngọc Hòa, xã Đông Hưng, tỉnh An Giang
A61: 60 | B61: Huỳnh Mỹ Hạnh | C61: 1960 - 0911 6000 2143 | D61: 986/33 Nguyễn Trung Trực, phường Rạch Giá, tỉnh An Giang
A62: 61 | B62: Đỗ Huỳnh Ngọc Bích | C62: 1999 - 0911 9900 3724 | D62: 986/31 Nguyễn Trung Trực, phường Rạch Giá, tỉnh An Giang
A63: 62 | B63: Ngô Quang Bình | C63: 1965 - 0910 6500 1820 | D63: Số 956/31 đường Nguyễn Trung Trực, phường Rạch Giá, tỉnh An Giang
A64: 63 | B64: Nguyễn Thị Mỳ | C64: 1951 - 0701 5100 4288 | D64: Số 956/31 đường Nguyễn Trung Trực, phường Rạch Giá, tỉnh An Giang
A65: 64 | B65: Đinh Văn To | C65: 1956 - 0910 5600 4838 | D65: Số 663 đường Nguyễn Trung Trực, phường Rạch Giá, tỉnh An Giang
A66: 65 | B66: Lư Phương Chi | C66: 1994 - 0911 9400 8898 | D66: Số 178/12 đường Chi Lăng, phường Rạch Giá, tỉnh An Giang
A67: 66 | B67: Nguyễn Nhật Nghiêm | C67: 1951 - 0400 5100 4222 | D67: Nay Số 771 đường Nguyễn Trung Trực, phường Rạch Giá, tỉnh An Giang
A68: 67 | B68: Hồ Đức Cường | C68: 1982 - 0460 8201 1007 | D68: Số 694A đường Lâm Quang Ky, phường Rạch Giá, tỉnh An Giang
A69: 68 | B69: Hoàng Khánh Vân | C69: 1954 - 0400 5401 8571 | D69: Nay Ấp Minh Phong, xã Bình An, tỉnh An Giang
A70: 69 | B70: Hà Quang Minh | C70: 1998 - 0910 9800 2201 | D70: Số 501A đường Nguyễn Trung Trực, phường Rạch Giá, tỉnh An Giang
... A81: 80 | B81: Trần Thanh Lâm | C81: 1979 - 0910 7900 7719 | D81: 986/32B đường Nguyễn Trung Trực, phường Rạch Giá, tỉnh An Giang
A82: 81 | B82: Trường cao đẳng nghề Kiên Giang | C82: 1022 đường Nguyễn Trung Trực, phường Rạch Giá, tỉnh An Giang | D82: 0
A83: 82 | B83: Nguyễn Thanh Giang | C83: 1978 - 0910 7800 0329 | D83: Nay 246A đường Huỳnh tấn Phát, phường Rạch Giá, tỉnh An Giang
A84: 83 | B84: Đào Thị Nhi | C84: 1970- 0911 7001 1454 | D84: Nay 256/88 đường Quang Trung , phường Rạch Giá, tỉnh An Giang
A85: 84 | B85: Trần Thị Thủy | C85: 1970 - 0911 7000 1120 | D85: Nay Khu phố Vĩnh Đông, xã Vĩnh Phong, tỉnh An Giang
A86: 85 | B86: Trần Vũ Toàn | C86: 1979 - 0910 7900 0532 | D86: Nay Ấp Cây Bàng, xã Vĩnh Hòa, tỉnh An Giang
A87: 86 | B87: Thái Thị Xuân | C87: 1965 - 0491 6501 3455 | D87: 44 đường Nguyễn Tuân, phường Rạch Giá, tỉnh An Giang
A88: 87 | B88: Phạm Quốc Bảo | C88: 1995 - 0910 9500 4145 | D88: Ấp Bình Thuận, xã Bình Sơn, tỉnh An Giang
A89: 88 | B89: Danh Sơn | C89: 1980 - 0910 8000 6001 | D89: Khu phố 2, phường Rạch Giá, tỉnh An Giang
A90: 89 | B90: Hồ Thanh Sơn | C90: 1985 - 0910 8501 7636 | D90: 1075 H đường Lâm Quang Ky, Khu phố 2, phường Rạch Giá, tỉnh An Giang
A91: 90 | B91: Nguyễn Thị Duyên | C91: 1960- 0911 6000 3555 | D91: C2-70 đường Phạm Hùng, phường Rạch Giá, tỉnh An Giang
A92: 91 | B92: Hồ Thị Thúy Vân | C92: 1979 - 0401 7902 7593 | D92: 986/28/1A đường Nguyễn Trung Trực, phường Rạch Giá, tỉnh An Giang
A93: 92 | B93: Phạm Thị Loan | C93: 1978 - 0361 7801 8305 | D93: 1079D/18B đường Lâm Quang Ky, phường Rạch Giá, tỉnh An Giang
A94: 93 | B94: Âu Xiếu Nhỏ | C94: 1966 - 0911 6600 8584 | D94: 27/23 đường Ngô Quyền, phường Rạch Giá, tỉnh An Giang
... A162: 161 | B162: Hộ: Nguyễn Thị Hồng | C162: 1964 - 0011 6403 0274 | D162: 986/24A Nguyễn Trung Trực, phường Rạch Giá, tỉnh An Giang

Sheet gia dat
A1: Loại đất | B1: DT (m2) | C1: Giá HT NQ (HT) | D1: Tỷ lệ | E1: Đơn giá BT | F1: Đơn giá HT | G1: T.tiền BT | H1: T.tiền HT | I1: 3 | J1: 1.2
A2: Đất giáo dục | B2: 21.4
A3: Đất ở đô thị - VT4 - đường LQK (đoạn Đống Đa - Ngô Văn Sở) | B3: 49.2 | C3: =14000000*70%*70%*70%*1.2 -> 5762400 | E3: =C3 -> 5762400 | G3: =ROUND(B3*E3,-3) -> 283510000 | H3: =ROUND(B3*F3,-3) -> 0
A4: Đất ở đô thị (GCN) - VT1 - đường LQK (đoạn Đống Đa - Ngô Văn Sở) | B4: 126.1 | C4: =14000000*1.2 -> 16800000 | E4: =C4 -> 16800000 | G4: =ROUND(B4*E4,-3) -> 2118480000 | H4: =ROUND(B4*F4,-3) -> 0
A5: Đất ở đô thị (GCN) - VT2 - đường LQK (đoạn Đống Đa - Ngô Văn Sở) | B5: 69.1 | C5: =14000000*1.2*70% -> 11760000 | E5: =C5 -> 11760000 | G5: =ROUND(B5*E5,-3) -> 812616000 | H5: =ROUND(B5*F5,-3) -> 0
A6: Đất ở đô thị (GCN) - VT3 - đường N.T.Trực (đoạn Đ.Đa-cầu An Hoà)*70% | B6: 45.6 | C6: =25200000*70%*70%*1.2 -> 14817600 | D6: 0.7 | E6: =C6*D6 -> 10372320 | G6: =ROUND(B6*E6,-3) -> 472978000 | H6: =ROUND(B6*F6,-3) -> 0
A7: Đất ở đô thị (GCN) - VT3 - nền đường bằng 3 trải bê tông | B7: 0 | C7: =2128000*70%*70%*1.03 -> 1074001.6 | E7: =C7 -> 1074001.6 | G7: =ROUND(B7*E7,-3) -> 0 | H7: =ROUND(B7*F7,-3) -> 0
A8: Đất ở đô thị (GCN) - VT3 - nền đường bằng 3m trải bê tông | B8: 0 | C8: =2128000*70%*70%*1.03 -> 1074001.6 | E8: =C8 -> 1074001.6 | G8: =ROUND(B8*E8,-3) -> 0 | H8: =ROUND(B8*F8,-3) -> 0
A9: Đất ở đô thị (GCN) - VT1 - (hiện trạng đường số 7) - theo giá dự án | B9: 186.8 | C9: =7900000*1.2 -> 9480000 | E9: =C9 -> 9480000 | G9: =ROUND(B9*E9,-3) -> 1770864000
A10: Đất ở đô thị (GCN) - VT2 - (hiện trạng đường số 7) - theo giá dự án | B10: 220.9 | C10: =7900000*1.2*70% -> 6636000 | E10: =C10 -> 6636000 | G10: =ROUND(B10*E10,-3) -> 1465892000
A11: Đất ở đô thị (GCN) - VT3 - (hiện trạng đường số 7) - theo giá dự án | B11: 42.3 | C11: =7900000*1.2*70%*70% -> 4645200 | E11: =C11 -> 4645200 | G11: =ROUND(B11*E11,-3) -> 196492000 | H11: =ROUND(B11*F11,-3) -> 0
A12: Đất ở đô thị (GCN) - VT4 - (hiện trạng đường số 7) - theo giá dự án | B12: 0 | C12: =7900000*1.2*70%*70%*70% -> 3251640 | E12: =C12 -> 3251640 | G12: =ROUND(B12*E12,-3) -> 0 | H12: =ROUND(B12*F12,-3) -> 0
A13: Đất ở đô thị (GCN) - VT4 - đường N.T.Trực (đoạn Đ.Đa-cầu An Hoà) | B13: 352 | C13: =25200000*70%*70%*70%*1.2 -> 10372320 | E13: =C13 -> 10372320 | G13: =ROUND(B13*E13,-3) -> 3651057000 | H13: =ROUND(B13*F13,-3) -> 0
A14: Đất ở đô thị (GCN) - VT4 - đường LQK (đoạn Đống Đa - Ngô Văn Sở) | B14: 2571.1 | C14: =14000000*70%*70%*70%*1.2 -> 5762400 | E14: =C14 -> 5762400 | G14: =ROUND(B14*E14,-3) -> 14815707000 | H14: =ROUND(B14*F14,-3) -> 0
A15: Đất ở đô thị (GCN) - VT4 - đường LQK (đoạn Đống Đa - Ngô Văn Sở) *70% (mương) | B15: 39.7 | C15: =14000000*70%*70%*70%*1.2 -> 5762400 | D15: 0.7 | E15: =C15*D15 -> 4033680 | G15: =ROUND(B15*E15,-3) -> 160137000 | H15: =ROUND(B15*F15,-3) -> 0
A16: Đất ở đô thị (GCN) - VT4 - đường N.T.Trực (đoạn Đ.Đa-cầu An Hoà)*70% | B16: 1085.7 | C16: =25200000*70%*70%*70%*1.2 -> 10372320 | D16: 0.7 | E16: =C16*D16 -> 7260624 | G16: =ROUND(B16*E16,-3) -> 7882859000 | H16: =ROUND(B16*F16,-3) -> 0
A17: Đất ở tại đô thị (GCN) - VT4 - đường LQK (đoạn Đống Đa - Ngô Văn Sở) *70% (mương) | B17: 79.4 | C17: =14000000*70%*70%*70%*1.2 -> 5762400 | D17: 0.7 | E17: =C17*D17 -> 4033680 | G17: =ROUND(B17*E17,-3) -> 320274000 | H17: =ROUND(B17*F17,-3) -> 0
A18: Đất ở tại đô thị (GCN) - VT3 - hiện trạng đường số 7 - theo giá dự án | B18: 36.1 | C18: =7900000*1.2*70%*70% -> 4645200 | E18: =C18 -> 4645200 | G18: =ROUND(B18*E18,-3) -> 167692000 | H18: =ROUND(B18*F18,-3) -> 0
A19: Đất ở tại đô thị (GCN) - VT4 - hiện trạng đường số 7 - theo giá dự án | B19: 0 | C19: =7900000*1.2*70%*70%*70% -> 3251640 | E19: =C19 -> 3251640 | G19: =ROUND(B19*E19,-3) -> 0 | H19: =ROUND(B19*F19,-3) -> 0
A20: Đất ở tại đô thị (GCN) VT4 - đường LQK (đoạn Đống Đa - Ngô Văn Sở) *70% (mương) | B20: 21 | C20: =14000000*70%*70%*70%*1.2 -> 5762400 | D20: 0.7 | E20: =C20*D20 -> 4033680 | G20: =ROUND(B20*E20,-3) -> 84707000 | H20: =ROUND(B20*F20,-3) -> 0
A21: Đất tại ở đô thị (GCN) - VT4 - đường LQK (đoạn Đống Đa - Ngô Văn Sở) | B21: 209.6 | C21: =14000000*70%*70%*70%*1.2 -> 5762400 | E21: =C21 -> 5762400 | G21: =ROUND(B21*E21,-3) -> 1207799000 | H21: =ROUND(B21*F21,-3) -> 0
A22: Đất trồng cây hàng năm - Đất nhà nước quản lý | B22: 15.4 | G22: =ROUND(B22*E22,-3) -> 0 | H22: =ROUND(B22*F22,-3) -> 0
A23: Đất trồng cây hàng năm - VT1 (hẻm nội bộ) | B23: 285 | C23: 388000 | E23: =C23*$J$1 -> 465600 | G23: =ROUND(B23*E23,-3) -> 132696000 | H23: =ROUND(B23*F23,-3) -> 0
A24: Đất trồng cây hàng năm (GCN) - VT1 (hẻm nội bộ) - CĐN | B24: 0 | C24: 388000 | E24: =C24*$J$1 -> 465600 | F24: =C24*$I$1*$J$1 -> 1396800 | G24: =ROUND(B24*E24,-3) -> 0 | H24: =ROUND(B24*F24,-3) -> 0
A25: Đất trồng cây hàng năm (GCN) - VT1 - (hẻm nội bộ 2m) - CĐN | B25: 0 | C25: 388000 | E25: =C25*$J$1 -> 465600 | F25: =C25*$I$1*$J$1 -> 1396800 | G25: =ROUND(B25*E25,-3) -> 0 | H25: =ROUND(B25*F25,-3) -> 0
A26: Đất trồng cây hàng năm (GCN) - VT1 - CĐN | B26: 2457.2 | C26: 388000 | E26: =C26*$J$1 -> 465600 | F26: =C26*$I$1*$J$1 -> 1396800 | G26: =ROUND(B26*E26,-3) -> 1144072000 | H26: =ROUND(B26*F26,-3) -> 3432217000
A27: Đất trồng cây hàng năm (GCN) - VT1 - CĐN (hẻm nội bộ 2m) | B27: 0 | C27: 388000 | E27: =C27*$J$1 -> 465600 | F27: =C27*$I$1*$J$1 -> 1396800 | G27: =ROUND(B27*E27,-3) -> 0 | H27: =ROUND(B27*F27,-3) -> 0
A28: Đất trồng cây hàng năm (GCN) - VT1 - giáp đường LQK (đoạn Đống Đa - Ngô Văn Sở) - trừ VKT | B28: 304.3 | C28: 388000 | E28: =C28*$J$1 -> 465600 | G28: =ROUND(B28*E28,-3) -> 141682000 | H28: =ROUND(B28*F28,-3) -> 0
A29: Đất trồng cây hàng năm (GCN) - VT1 - giáp hẻm 1065 | B29: 120 | C29: 388000 | E29: =C29*$J$1 -> 465600 | G29: =ROUND(B29*E29,-3) -> 55872000 | H29: =ROUND(B29*F29,-3) -> 0
A30: Đất trồng cây hàng năm (GCN) - VT1 - giáp hẻm 1067 | B30: 543.1 | C30: 388000 | E30: =C30*$J$1 -> 465600 | G30: =ROUND(B30*E30,-3) -> 252867000 | H30: =ROUND(B30*F30,-3) -> 0
A31: Đất trồng cây hàng năm (GCN) - VT1 - giáp hẻm 1067 - CĐN | B31: 2050.8 | C31: 388000 | E31: =C31*$J$1 -> 465600 | F31: =C31*$I$1*$J$1 -> 1396800 | G31: =ROUND(B31*E31,-3) -> 954852000 | H31: =ROUND(B31*F31,-3) -> 2864557000
A32: Đất trồng cây hàng năm (GCN) - VT1 - hiện trạng tiếp giáp đường số 15 | B32: 253.9 | C32: 388000 | E32: =C32*$J$1 -> 465600 | G32: =ROUND(B32*E32,-3) -> 118216000 | H32: =ROUND(B32*F32,-3) -> 0
A33: Đất trồng cây hàng năm (GCN) - VT1 - hiện trạng tiếp giáp đường số 7 - CĐN | B33: 164 | C33: 388000 | E33: =C33*$J$1 -> 465600 | F33: =C33*$I$1*$J$1 -> 1396800 | G33: =ROUND(B33*E33,-3) -> 76358000 | H33: =ROUND(B33*F33,-3) -> 229075000
A34: Đất trồng cây hàng năm (GCN) - VT1 - hiện trạng tiếp giáp đường số 7 - trừ VKT | B34: 432 | C34: 388000 | E34: =C34*$J$1 -> 465600 | G34: =ROUND(B34*E34,-3) -> 201139000 | H34: =ROUND(B34*F34,-3) -> 0
A35: Đất trồng cây hàng năm (GCN) - VT1 (giáp hẻm nội bộ 3,0m) - CĐN | B35: 71.7 | C35: 388000 | E35: =C35*$J$1 -> 465600 | F35: =C35*$I$1*$J$1 -> 1396800 | G35: =ROUND(B35*E35,-3) -> 33384000 | H35: =ROUND(B35*F35,-3) -> 100151000
A36: Đất trồng cây hàng năm (GCN) - VT1 (giáp hẻm nội bộ 3,0m) - trừ VKT | B36: 45.1 | C36: 388000 | E36: =C36*$J$1 -> 465600 | G36: =ROUND(B36*E36,-3) -> 20999000 | H36: =ROUND(B36*F36,-3) -> 0
A37: Đất trồng cây hàng năm (GCN) - VT1 (giáp hẻm nội bộ 6 m) | B37: 499 | C37: 388000 | E37: =C37*$J$1 -> 465600 | G37: =ROUND(B37*E37,-3) -> 232334000 | H37: =ROUND(B37*F37,-3) -> 0
A38: Đất trồng cây hàng năm (GCN) - VT1 (giáp kênh bề rộng 3 mét) | B38: 1253.1 | C38: 388000 | E38: =C38*$J$1 -> 465600 | G38: =ROUND(B38*E38,-3) -> 583443000 | H38: =ROUND(B38*F38,-3) -> 0
A39: Đất trồng cây hàng năm (GCN) - VT1 (giáp kênh bề rộng 3 mét) - CĐN | B39: 3109.9 | C39: 388000 | E39: =C39*$J$1 -> 465600 | F39: =C39*$I$1*$J$1 -> 1396800 | G39: =ROUND(B39*E39,-3) -> 1447969000 | H39: =ROUND(B39*F39,-3) -> 4343908000
A40: Đất trồng cây hàng năm (GCN) - VT1 (giáp kênh bề rộng 3 mét) - CĐN | B40: 6628.6 | C40: 388000 | E40: =C40*$J$1 -> 465600 | F40: =C40*$I$1*$J$1 -> 1396800 | G40: =ROUND(B40*E40,-3) -> 3086276000 | H40: =ROUND(B40*F40,-3) -> 9258828000
A41: Đất trồng cây hàng năm (GCN) - VT1 -(giáp kênh bề rộng 3 mét) - trừ VKT | B41: 101 | C41: 388000 | E41: =C41*$J$1 -> 465600 | G41: =ROUND(B41*E41,-3) -> 47026000 | H41: =ROUND(B41*F41,-3) -> 0
A42: Đất trồng cây hàng năm (GCN) - VT1 (hẻm nội bộ 2m) - CĐN | B42: 0 | C42: 388000 | E42: =C42*$J$1 -> 465600 | F42: =C42*$I$1*$J$1 -> 1396800 | G42: =ROUND(B42*E42,-3) -> 0 | H42: =ROUND(B42*F42,-3) -> 0
A43: Đất trồng cây hàng năm (GCN) - VT1 (hẻm nội bộ 2m) | B43: 0 | C43: 388000 | E43: =C43*$J$1 -> 465600 | G43: =ROUND(B43*E43,-3) -> 0 | H43: =ROUND(B43*F43,-3) -> 0
A44: Đất trồng cây hàng năm (GCN) - VT1 (hẻm bê tông) - CĐN | B44: 249 | C44: 388000 | E44: =C44*$J$1 -> 465600 | F44: =C44*$I$1*$J$1 -> 1396800 | G44: =ROUND(B44*E44,-3) -> 115934000 | H44: =ROUND(B44*F44,-3) -> 347803000
A45: Đất trồng cây hàng năm (GCN) - VT1 (hẻm nội bộ) - trừ VKT | B45: 95 | C45: 388000 | E45: =C45*$J$1 -> 465600 | G45: =ROUND(B45*E45,-3) -> 44232000 | H45: =ROUND(B45*F45,-3) -> 0
A46: Đất trồng cây hàng năm (GCN) - VT1 (hiện trạng đường số 7) - CĐN | B46: 953 | C46: 388000 | E46: =C46*$J$1 -> 465600 | F46: =C46*$I$1*$J$1 -> 1396800 | G46: =ROUND(B46*E46,-3) -> 443717000 | H46: =ROUND(B46*F46,-3) -> 1331150000
A47: Đất trồng cây hàng năm (GCN) - VT1 (hiện trạng đường số 7) - trừ VKT | B47: 192.4 | C47: 388000 | E47: =C47*$J$1 -> 465600 | G47: =ROUND(B47*E47,-3) -> 89581000 | H47: =ROUND(B47*F47,-3) -> 0
A48: Đất trồng cây hàng năm (GCN) - VT1 giáp hẻm 986 (ngăn cách mương) | B48: 2045.5 | C48: 388000 | E48: =C48*$J$1 -> 465600 | G48: =ROUND(B48*E48,-3) -> 952385000 | H48: =ROUND(B48*F48,-3) -> 0
A49: Đất trồng cây hàng năm (GCN) - VT1 giáp hẻm 986 (ngăn cách mương) - CĐN | B49: 1623 | C49: 388000 | E49: =C49*$J$1 -> 465600 | F49: =C49*$I$1*$J$1 -> 1396800 | G49: =ROUND(B49*E49,-3) -> 755669000 | H49: =ROUND(B49*F49,-3) -> 2267006000
A50: Đất trồng cây hàng năm (GCN) - VT1 giáp hẻm 986 (ngăn cách mương) - CĐN 02 nhân khẩu | B50: 601.5 | C50: 388000 | E50: =C50*$J$1 -> 465600 | F50: =C50*$I$1*$J$1 -> 1396800 | G50: =ROUND(B50*E50,-3) -> 280058000 | H50: =ROUND(B50*F50,-3) -> 840175000
A51: Đất trồng cây hàng năm (GCN) - VT1 giáp hẻm 986 (ngăn cách mương) - CĐN 03 nhân khẩu | B51: 12.4 | C51: 388000 | E51: =C51*$J$1 -> 465600 | F51: =C51*$I$1*$J$1 -> 1396800 | G51: =ROUND(B51*E51,-3) -> 5773000 | H51: =ROUND(B51*F51,-3) -> 17320000
A52: Đất trồng cây hàng năm (GCN) - VT1 giáp hẻm 986 (ngăn cách mương) - trừ VKT | B52: 625.8 | C52: 388000 | E52: =C52*$J$1 -> 465600 | G52: =ROUND(B52*E52,-3) -> 291372000 | H52: =ROUND(B52*F52,-3) -> 0
A53: Đất trồng cây hàng năm (GCN) - VT3 | B53: 2706.9 | C53: 314000 | E53: =C53*$J$1 -> 376800 | G53: =ROUND(B53*E53,-3) -> 1019960000 | H53: =ROUND(B53*F53,-3) -> 0
A54: Đất trồng cây hàng năm (GCN) - VT3 - CĐN | B54: 5302.4 | C54: 314000 | E54: =C54*$J$1 -> 376800 | F54: =C54*$I$1*$J$1 -> 1130400 | G54: =ROUND(B54*E54,-3) -> 1997944000 | H54: =ROUND(B54*F54,-3) -> 5993833000
A55: Đất trồng cây hàng năm (GCN) - VT3 - trừ VKT | B55: 134.7 | C55: 314000 | E55: =C55*$J$1 -> 376800 | G55: =ROUND(B55*E55,-3) -> 50755000 | H55: =ROUND(B55*F55,-3) -> 0
A56: Đất trồng cây hàng năm (GCN) - VT3 (hiện trạng đường số 7) - CĐN | B56: 139.2 | C56: 314000 | E56: =C56*$J$1 -> 376800 | F56: =C56*$I$1*$J$1 -> 1130400 | G56: =ROUND(B56*E56,-3) -> 52451000 | H56: =ROUND(B56*F56,-3) -> 157352000
A57: Đất trồng cây hàng năm (GCN) -VT1 - (giáp kênh bề rộng 3 mét) | B57: 1358.6 | C57: 388000 | E57: =C57*$J$1 -> 465600 | G57: =ROUND(B57*E57,-3) -> 632564000 | H57: =ROUND(B57*F57,-3) -> 0
A58: Đất trồng cây hàng năm (GCN) -VT3 | B58: 14.2 | C58: 314000 | E58: =C58*$J$1 -> 376800 | G58: =ROUND(B58*E58,-3) -> 5351000 | H58: =ROUND(B58*F58,-3) -> 0
A59: Đất trồng cây hàng năm (GCN) -VT3 - CĐN | B59: 92.9 | C59: 314000 | E59: =C59*$J$1 -> 376800 | F59: =C59*$I$1*$J$1 -> 1130400 | G59: =ROUND(B59*E59,-3) -> 35005000 | H59: =ROUND(B59*F59,-3) -> 105014000
A60: Đất trồng cây hàng năm (GCN) -VT3 - trừ VKT | B60: 571.6 | C60: 314000 | E60: =C60*$J$1 -> 376800 | G60: =ROUND(B60*E60,-3) -> 215379000 | H60: =ROUND(B60*F60,-3) -> 0
A61: Đất trồng cây hàng năm (Ngoài GCN) - VT1 - giáp đường LQK (đoạn Đống Đa - Ngô Văn Sở) - trừ VKT | B61: 13.9 | C61: 388000 | E61: =C61*$J$1 -> 465600 | G61: =ROUND(B61*E61,-3) -> 6472000 | H61: =ROUND(B61*F61,-3) -> 0
A62: Đất trồng cây hàng năm (Ngoài GCN) - VT1 - giáp hẻm 1065 | B62: 6 | C62: 388000 | E62: =C62*$J$1 -> 465600 | G62: =ROUND(B62*E62,-3) -> 2794000 | H62: =ROUND(B62*F62,-3) -> 0
A63: Đất trồng cây hàng năm (ngoài GCN) - VT1 - hiện trạng tiếp giáp đường số 15 | B63: 18.3 | C63: 388000 | E63: =C63*$J$1 -> 465600 | G63: =ROUND(B63*E63,-3) -> 8520000 | H63: =ROUND(B63*F63,-3) -> 0
A64: Đất trồng cây hàng năm (ngoài GCN) - VT1 (giáp hẻm nội bộ 6 m) | B64: 58.9 | C64: 388000 | E64: =C64*$J$1 -> 465600 | G64: =ROUND(B64*E64,-3) -> 27424000 | H64: =ROUND(B64*F64,-3) -> 0
A65: Đất trồng cây hàng năm (ngoài GCN) - VT1 (hiện trạng đường số 7) - CĐN | B65: 38.5 | C65: 388000 | E65: =C65*$J$1 -> 465600 | F65: =C65*$I$1*$J$1 -> 1396800 | G65: =ROUND(B65*E65,-3) -> 17926000 | H65: =ROUND(B65*F65,-3) -> 53777000
A66: Đất trồng cây hàng năm (ngoài GCN) - VT1 giáp hẻm 986 (ngăn cách mương) | B66: 2.3 | C66: 388000 | E66: =C66*$J$1 -> 465600 | G66: =ROUND(B66*E66,-3) -> 1071000 | H66: =ROUND(B66*F66,-3) -> 0
A67: Đất trồng cây hàng năm (ngoài GCN) - VT1 giáp hẻm 986 (ngăn cách mương) - trừ VKT | B67: 0.5 | C67: 388000 | E67: =C67*$J$1 -> 465600 | G67: =ROUND(B67*E67,-3) -> 233000 | H67: =ROUND(B67*F67,-3) -> 0
A68: Đất trồng cây hàng năm (ngoài GCN) - VT3 | B68: 21.7 | C68: 314000 | E68: =C68*$J$1 -> 376800 | G68: =ROUND(B68*E68,-3) -> 8177000 | H68: =ROUND(B68*F68,-3) -> 0
A69: Đất trồng cây hàng năm (ngoài GCN) - VT3 - CĐN | B69: 19.8 | C69: 314000 | E69: =C69*$J$1 -> 376800 | F69: =C69*$I$1*$J$1 -> 1130400 | G69: =ROUND(B69*E69,-3) -> 7461000 | H69: =ROUND(B69*F69,-3) -> 22382000
A70: Đất trồng cây hàng năm (QH - DGT) (ngoài GCN) - VT1 (hiện trạng đường số 7) - CĐN | B70: 252.3 | C70: 388000 | E70: =C70*$J$1 -> 465600 | F70: =C70*$I$1*$J$1 -> 1396800 | G70: =ROUND(B70*E70,-3) -> 117471000 | H70: =ROUND(B70*F70,-3) -> 352413000
A71: Đất trồng cây hàng năm (QH - DGT) (ngoài GCN) - VT3 - CĐN | B71: 170.4 | C71: 314000 | E71: =C71*$J$1 -> 376800 | F71: =C71*$I$1*$J$1 -> 1130400 | G71: =ROUND(B71*E71,-3) -> 64207000 | H71: =ROUND(B71*F71,-3) -> 192620000
A72: Đất trồng cây hàng năm -HLATGT (GCN) - VT1 - giáp hẻm 1065 | B72: 1.2 | C72: 388000 | E72: =C72*$J$1 -> 465600 | G72: =ROUND(B72*E72,-3) -> 559000 | H72: =ROUND(B72*F72,-3) -> 0
A73: Đất trồng cây hàng năm-Ngoài GCN - VT1 - giáp hẻm 1067 | B73: 27.5 | C73: 388000 | E73: =C73*$J$1 -> 465600 | G73: =ROUND(B73*E73,-3) -> 12804000 | H73: =ROUND(B73*F73,-3) -> 0
A74: Đất trồng cây hàng năm-Ngoài GCN (BĐĐC) - VT1 (giáp kênh bề rộng 3 mét) - CĐN | B74: 87.2 | C74: 388000 | E74: =C74*$J$1 -> 465600 | F74: =C74*$I$1*$J$1 -> 1396800 | G74: =ROUND(B74*E74,-3) -> 40600000 | H74: =ROUND(B74*F74,-3) -> 121801000
A75: Đất trồng cây hàng năm-Ngoài GCN (bờ kênh) - VT1 (giáp kênh bề rộng 3 mét) - CĐN | B75: 29.1 | C75: 388000 | E75: =C75*$J$1 -> 465600 | F75: =C75*$I$1*$J$1 -> 1396800 | G75: =ROUND(B75*E75,-3) -> 13549000 | H75: =ROUND(B75*F75,-3) -> 40647000
A76: Đất trồng cây hàng năm-Ngoài GCN (LG) - VT1 - giáp đường LQK (đoạn Đống Đa - Ngô Văn Sở) - trừ VKT | B76: 74.2 | C76: 388000 | E76: =C76*$J$1 -> 465600 | G76: =ROUND(B76*E76,-3) -> 34548000 | H76: =ROUND(B76*F76,-3) -> 0
A77: Đất trồng cây lâu năm - VT1 | B77: 58.3 | C77: 462000 | E77: =C77*$J$1 -> 554400 | G77: =ROUND(B77*E77,-3) -> 32322000 | H77: =ROUND(B77*F77,-3) -> 0
A78: Đất trồng cây lâu năm - VT1 giáp hẻm 986 (ngăn cách mương) - trừ VKT | B78: 213.6 | C78: 462000 | E78: =C78*$J$1 -> 554400 | G78: =ROUND(B78*E78,-3) -> 118420000 | H78: =ROUND(B78*F78,-3) -> 0
A79: Đất trồng cây lâu năm (BĐĐC) - VT1 - hiện trạng tiếp giáp đường số 7 - trừ VKT | B79: 79.9 | C79: 462000 | E79: =C79*$J$1 -> 554400 | G79: =ROUND(B79*E79,-3) -> 44297000 | H79: =ROUND(B79*F79,-3) -> 0
A80: Đất trồng cây lâu năm (BK ngoài GCN) - VT1 (giáp kênh bề rộng 3 mét) - CĐN | B80: 4.8 | C80: 462000 | E80: =C80*$J$1 -> 554400 | F80: =C80*$I$1*$J$1 -> 1663200 | G80: =ROUND(B80*E80,-3) -> 2661000 | H80: =ROUND(B80*F80,-3) -> 7983000
A81: Đất trồng cây lâu năm (GCN) - VT1 (hẻm nội bộ) (hẻm nội bộ) - CĐN | B81: 0 | C81: 462000 | E81: =C81*$J$1 -> 554400 | F81: =C81*$I$1*$J$1 -> 1663200 | G81: =ROUND(B81*E81,-3) -> 0 | H81: =ROUND(B81*F81,-3) -> 0
A82: Đất trồng cây lâu năm (GCN) - VT1 (hẻm nội bộ) - trừ VKT | B82: 0 | C82: 462000 | E82: =C82*$J$1 -> 554400 | G82: =ROUND(B82*E82,-3) -> 0 | H82: =ROUND(B82*F82,-3) -> 0
A83: Đất trồng cây lâu năm (GCN) - VT3 - CĐN | B83: 2474.5 | C83: 388000 | E83: =C83*$J$1 -> 465600 | F83: =C83*$I$1*$J$1 -> 1396800 | G83: =ROUND(B83*E83,-3) -> 1152127000 | H83: =ROUND(B83*F83,-3) -> 3456382000
A84: Đất trồng cây lâu năm (GCN) - VT3 - trừ VKT | B84: 1162.9 | C84: 388000 | E84: =C84*$J$1 -> 465600 | G84: =ROUND(B84*E84,-3) -> 541446000 | H84: =ROUND(B84*F84,-3) -> 0
A85: Đất trồng cây lâu năm (GCN) - VT1 | B85: 26.4 | C85: 462000 | E85: =C85*$J$1 -> 554400 | G85: =ROUND(B85*E85,-3) -> 14636000 | H85: =ROUND(B85*F85,-3) -> 0
A86: Đất trồng cây lâu năm (GCN) - VT1 - CĐN | B86: 238.7 | C86: 462000 | E86: =C86*$J$1 -> 554400 | F86: =C86*$I$1*$J$1 -> 1663200 | G86: =ROUND(B86*E86,-3) -> 132335000 | H86: =ROUND(B86*F86,-3) -> 397006000
