Workbook
Name ___LCB1: #REF!
Name ___LCB1: #REF!
Name ___LCB1: #REF!
Name ___LCB1: #REF!
Name ___PQD1: #REF!
Name ___PQD1: #REF!
Name ___PQD1: #REF!
Name ___PQD1: #REF!
Name __LCB1: #REF!
Name __LCB1: #REF!
Name __LCB1: #REF!
Name __LCB1: #REF!
Name __PQD1: #REF!
Name __PQD1: #REF!
Name __PQD1: #REF!
Name __PQD1: #REF!
Name _LCB1: #REF!
Name _LCB1: #REF!
Name _LCB1: #REF!
Name _LCB1: #REF!
Name _PQD1: #REF!
Name _PQD1: #REF!
Name _PQD1: #REF!
Name _PQD1: #REF!
Name a: #REF!
Name a: #REF!
Name a: #REF!
Name a: #REF!
Name abc: '[1]Cong 6T'!#REF!
Name abc: '[1]Cong 6T'!#REF!
Name abc: '[1]Cong 6T'!#REF!
Name abc: '[1]Cong 6T'!#REF!
Name BarData: #REF!
Name BarData: #REF!
Name BarData: #REF!
Name BarData: #REF!
Name BDHT: #REF!
Name BDHT: #REF!
Name BDHT: #REF!
Name BDHT: #REF!
Name bgf: '[2]PX-SX'!$B$23:$H$171
Name counxlkcs: #REF!
Name counxlkcs: #REF!
Name counxlkcs: #REF!
Name counxlkcs: #REF!
Name couxlkcs: #REF!
Name couxlkcs: #REF!
Name couxlkcs: #REF!
Name couxlkcs: #REF!
Name couxlkd: #REF!
Name couxlkd: #REF!
Name couxlkd: #REF!
Name couxlkd: #REF!
Name couxlkh: #REF!
Name couxlkh: #REF!
Name couxlkh: #REF!
Name couxlkh: #REF!
Name couxlktnl: #REF!
Name couxlktnl: #REF!
Name couxlktnl: #REF!

Sheet NHAp DIEN TICH CHUAN
A2: BẢNG TỔNG HỢP CÔNG TRÌNH: KHU TÁI ĐỊNH CƯ NAM AN HÒA (GIAI ĐOẠN 3)
A3: ĐỊA ĐIỂM: KHU PHỐ 2 VÀ KHU PHỐ 5, PHƯỜNG RẠCH GIÁ, TỈNH AN GIANG
B5: Số | C5: Họ và Tên | D5: Số | E5: Số | F5: Số | G5: Đất đai | N5: Cây trồng | R5: Vật kiến trúc | X5: Kết cấu | AD5: Tổng | AE5: Các thông tin do | AF5: Cơ sở pháp lý | AG5: Ý kiến hội đồng
A6: a | B6: TT | D6: kh | E6: tờ | F6: th | G6: Loại đất | H6: DT (m2) | I6: AH | J6: Đ.giá BT | K6: Đ.giá HT | L6: T.tiền BT | M6: T.tiền HT | N6: Loại cây | O6: SL | P6: Đ.giá | Q6: T.tiền | R6: Hạng mục | S6: DV | T6: DT | U6: AH | V6: Đ.giá | W6: T.tiền | X6: Móng | Y6: Mái | Z6: Nền | AA6: Vách | AB6: Cột | AC6: Trần | AD6: T.tiền | AE6: cán bộ đo đạc thu thập | AF6: được áp dụng
A7: =IF(B7<>0,B7,A6) -> 1 | B7: 1 | C7: Quách Ngọc Tuấn | D7: 4 | G7: Đất trồng cây lâu năm ngoài GCN (LG) - VT1 - giáp đường LQK (đoạn Đống Đa - Ngô Văn Sở) | H7: 10.5 | R7: Nhà C4.05 (hỗ trợ 90%) | S7: m² | T7: 15.3 | X7: Gạch | Y7: Tolv | Z7: G.men | AA7: Tường | AB7: Gạch | AC7: Prima | AE7: Nguồn gốc đất do cha cho con là Quách Ngọc Tuấn ngày 12/6/2006 (giấy tay). Phần diện tích 10,5 m² nằm ngoài GCN thuộc đất HLATGT, có cùng nguồn gốc và thời điểm sử dụng theo GCN số BU 454890 do UBND Thành Phố Rạch Giá cấp ngày 22/10/2014.
A8: =IF(B8<>0,B8,A7) -> 1 | C8: 1974 - 0910 7400 2275 | R8: Mái che tol (hỗ trợ 90%) | S8: m² | T8: 5.85 | AE8: Nhà xây dựng năm 2006, sửa lại năm 2015
A9: =IF(B9<>0,B9,A8) -> 1 | C9: 1065/1C Lâm Quang Ky, Phường Rạch Giá, tỉnh An Giang | R9: Nền xi măng SN.01 (hỗ trợ 90%) | S9: m² | T9: 14.1 | AE9: Tỷ lệ mất đất: 100%
A10: =IF(B10<>0,B10,A9) -> 1 | C10: Vợ: Trần Thị Kiều Oanh | R10: Trần Prima (hỗ trợ 90%) | S10: m² | T10: 15.3 | AE10: Kinh doanh mua bán tạp hóa (ko giấy phép)
A11: =IF(B11<>0,B11,A10) -> 1
A12: =IF(B12<>0,B12,A11) -> 1
A13: =IF(B13<>0,B13,A12) -> 1
A14: =IF(B14<>0,B14,A13) -> 1
A15: =IF(B15<>0,B15,A14) -> 2 | B15: 2 | C15: Hộ Ông Quách Ngọc Nghé | D15: 12 | E15: 85 | F15: 37 | G15: Đất ở đô thị (GCN) - VT1 - đường LQK (đoạn Đống Đa - Ngô Văn Sở) | H15: 181.7 | N15: Dừa A | O15: 5 | R15: Nhà C2.01 | S15: m² | T15: 104.4 | X15: Btct | Y15: Btct | Z15: G.men | AA15: Tường | AB15: Btct | AE15: Có GCN số BU 454890 do UBND Thành Phố Rạch Giá cấp ngày 22/10/2014.
A16: =IF(B16<>0,B16,A15) -> 2 | C16: 1943 - 0910 4300 2669 | E16: 85 | F16: 37 | N16: Dừa B | O16: 2 | R16: NTC.02 | S16: m² | T16: 47.94 | Y16: Tolv | Z16: G.men | AB16: Sắt | AE16: Tờ BĐ 85, thửa 37; diện tích đất trồng cây lâu năm 2.316,8 m²
A17: =IF(B17<>0,B17,A16) -> 2 | C17: 1065 Lâm Quang Ky, Phường Rạch Giá, tỉnh An Giang | N17: Dừa C | O17: 5 | R17: Sân xi măng SN.01 | S17: m² | T17: 17.7 | U17: 12.7 | AE17: Có GCN quyền sở hữu nhà ở và Quyền sử dụng đất ở, hồ sơ gốc số 484 do UBND tỉnh Kiên Giang cấp ngày 10/11/1998.
A18: =IF(B18<>0,B18,A17) -> 2 | C18: Vợ: Trang Thị Em | G18: Đất trồng cây lâu năm (GCN) | H18: 354.5 | N18: Dừa D | O18: 6 | R18: Nền xi măng SN.01 | S18: m² | T18: 17.9 | U18: 9.1 | AE18: Tờ BĐ 85, thửa 37, diện tích đất ở 300,0 m²
A19: =IF(B19<>0,B19,A18) -> 2 | G19: Đất trồng cây lâu năm-Ngoài GCN (LG) - VT1 - Giáp đường LQK (đoạn Đống Đa - Ngô Văn Sở) | H19: 30.8 | N19: Mít B | O19: 4 | R19: Nền gạch men | S19: m² | T19: 53.51 | AE19: Có GCN quyền sở hữu nhà ở và quyền sử dụng đất ở, số hồ sơ gốc 0088/2009 do UBND thành phố Rạch Giá cấp ngày 22/1/2009. Diện tích sàn (nhà ở, căn hộ): 247,24 m².
A20: =IF(B20<>0,B20,A19) -> 2 | N20: Chuối A | O20: 152 | R20: Nền xi măng SN.02 | S20: m² | T20: 73.68 | AE20: Nhà xây dựng năm 2001
A21: =IF(B21<>0,B21,A20) -> 2 | N21: Chuối B | O21: 101 | R21: WC+ Tắm (trong nhà) xí bệt, dán gạch men WC.01 | S21: m² | T21: 8.3 | X21: Btct | Y21: Btct | Z21: G.men | AA21: Tường | AB21: Btct | AE21: Tỷ lệ mất đất: 15,3%
A22: =IF(B22<>0,B22,A21) -> 2 | N22: Chuối C | O22: 145 | R22: Mái che tol | S22: m² | T22: 8.05 | AE22: Phần diện tích 30,8 m² (LG) nằm ngoài GCN, có cùng nguồn gốc và thời điểm sử dụng theo GCN số BU 454890 do UBND Thành Phố Rạch Giá cấp ngày 22/10/2014.
A23: =IF(B23<>0,B23,A22) -> 2 | N23: Đu đủ C | O23: 1 | R23: Nền gạch men | S23: m² | T23: 8.05
A24: =IF(B24<>0,B24,A23) -> 2 | N24: Xoài B | O24: 2 | R24: Bồn BTCT (có nắp) BNN.01 | S24: m³ | T24: 20.13
A25: =IF(B25<>0,B25,A24) -> 2 | N25: Xoài C | O25: 1 | R25: Hàng rào xây 10, song sắt, móng BTCT, trụ BTCT HR.14 | S25: m² | T25: 23.45
A26: =IF(B26<>0,B26,A25) -> 2 | N26: Xoài D | O26: 2 | R26: Chuồng gà | S26: m² | T26: 4.6 | Y26: Tolv | Z26: đất | AA26: lưới B40 | AB26: Sắt
A27: =IF(B27<>0,B27,A26) -> 2 | N27: Hạnh B | O27: 1 | R27: Miếu xây C4.01 | S27: m² | T27: 1.2 | Y27: Ngói | Z27: G.men | AA27: Tường | AB27: Gạch
A28: =IF(B28<>0,B28,A27) -> 2 | N28: Sao E | O28: 1 | R28: Chuồng gà | S28: m² | T28: 4.56 | Y28: Lưới B40 | Z28: Đất | AA28: lưới B40 | AB28: Gỗ<10
A29: =IF(B29<>0,B29,A28) -> 2 | N29: Bồ đề E | O29: 1 | R29: Hàng rào xây 10, khung lưới B40, móng BTCT, trụ BTCT HR.08 | S29: m² | T29: 74.16
A30: =IF(B30<>0,B30,A29) -> 2 | N30: Sộp H | O30: 1 | R30: Hàng ba nhà C2.01*80% (tầng 1) | S30: m² | T30: 15.08 | Y30: Btct | Z30: G.men | AB30: Btct
A31: =IF(B31<>0,B31,A30) -> 2 | N31: Nhàu G | O31: 1 | R31: Hàng ba C2.01*80% (tầng 1) | S31: m² | T31: 14.75 | Y31: Btct | Z31: G.men | AB31: Btct
A32: =IF(B32<>0,B32,A31) -> 2 | N32: Chanh C | O32: 1 | R32: Nhà C2.07 (tầng 1) | S32: m² | T32: 88 | Y32: Tol giả ngói | Z32: G.men | AA32: Tường | AB32: Btct
A33: =IF(B33<>0,B33,A32) -> 2 | N33: Chanh D | O33: 1 | R33: WC (Tầng 1) xí bệt, dán gạch men WC.01 | S33: m² | T33: 2.66 | Y33: Btct | Z33: G.men | AA33: Tường | AB33: Btct | AC33: Lima
A34: =IF(B34<>0,B34,A33) -> 2 | N34: Chuối A | O34: 63 | R34: Tắm (tầng 1) dán gạch men WC.10 | S34: m² | T34: 4 | Y34: Btct | Z34: G.men | AA34: Tường | AB34: Btct
A35: =IF(B35<>0,B35,A34) -> 2 | N35: Chuối B | O35: 44 | R35: Nền gạch men | S35: m² | T35: 47.94
A36: =IF(B36<>0,B36,A35) -> 2 | N36: Chuối C | O36: 43 | R36: Hàng ba C2.22 x 80% | S36: m² | T36: 15.84
A37: =IF(B37<>0,B37,A36) -> 2 | N37: Rau màu các loại A (m²) | O37: 22 | R37: Nền gạch men | S37: m² | T37: 14.3
A38: =IF(B38<>0,B38,A37) -> 2
A39: =IF(B39<>0,B39,A38) -> 2
A40: =IF(B40<>0,B40,A39) -> 2
A41: =IF(B41<>0,B41,A40) -> 3 | B41: 3 | C41: Quách Thị Thủy (GCN Hộ Ông Quách Ngọc Nghé) | D41: 2 | E41: 85 | F41: 37 | G41: Đất ở đô thị (GCN) | H41: 2.6 | R41: Nhà C2.07 (hỗ trợ 90%) | S41: m² | T41: 31.5 | X41: Btct | Y41: Tolv | Z41: G.men | AA41: Tường | AB41: Btct | AC41: Trần nhựa | AE41: Nguồn gốc đất do cha cho con là Quách Thị Thủy ngày 12/6/2006 (giấy tay), một phần thửa đất có GCN số BU 454890 do UBND Thành phố Rạch giá cấp ngày 22/10/2014. Tờ BĐ 85, thửa 37; diện tích đất trồng cây lâu năm 2.316,8 m². GCN do cha Quách Ngọc Nghé đứng tên.
A42: =IF(B42<>0,B42,A41) -> 3 | C42: 1968 - 0911 6800 5041 | E42: 85 | F42: 37 | G42: Đất trồng cây lâu năm (GCN) | H42: 33.1 | R42: Nền xi măng SN.01 (hỗ trợ 90%) | S42: m² | T42: 5.4 | AE42: Tỷ lệ mất đất: 26,8%
...

Sheet Kangatang

Sheet Kangatang_2

Sheet Kangatang_3

Sheet Kangatang_4

Sheet Kangatang_5

Sheet Kangatang_6

Sheet Kangatang_7

Sheet Kangatang_8

Sheet Kangatang_9

Sheet Kangatang_10

Sheet Kangatang_11

Sheet Kangatang_12

Sheet Kangatang_13

Sheet Kangatang_14

Sheet Kangatang_15

Sheet Kangatang_16

Sheet Kangatang_17

Sheet Kangatang_18

Sheet Kangatang_19

Sheet Kangatang_20

Sheet Kangatang_21

Sheet Kangatang_22

Sheet Kangatang_23

Sheet Kangatang_24

Sheet Kangatang_25

Sheet Kangatang_26

Sheet Kangatang_27

Sheet Kangatang_28

Sheet Kangatang_29

Sheet Kangatang_30

Sheet Kangatang_31

Sheet Kangatang_32

Sheet Kangatang_33

Sheet Kangatang_34

Sheet Kangatang_35

Sheet Kangatang_36

Sheet Kangatang_37

Sheet Kangatang_38

Sheet Kangatang_39

Sheet Kangatang_40

Sheet Kangatang_41

Sheet Kangatang_42

Sheet Kangatang_43

Sheet Kangatang_44

Sheet Kangatang_45

Sheet Kangatang_46

Sheet Kangatang_47

Sheet Kangatang_48

Sheet Kangatang_49

Sheet Kangatang_50

Sheet Kangatang_51

Sheet NHAP
B1: =0.4+5.9-0.5 -> 5.8 | AL1: năm xây dựng nhà cung cấp sau
A2: BẢNG TỔNG HỢP BỒI THƯỜNG, HỖ TRỢ, TÁI ĐỊNH CƯ KHI NHÀ NƯỚC THU HỒI ĐẤT ĐỂ THỰC HIỆN DỰ ÁN: KHU TÁI ĐỊNH CƯ NAM AN HÒA (GIAI ĐOẠN 3)
A3: ĐỊA ĐIỂM: KHU PHỐ 2 AN HÒA VÀ KHU PHỐ 5 AN HÒA, PHƯỜNG RẠCH GIÁ, TỈNH AN GIANG
B4: 82997
B5: Họ và Tên | D5: Số | E5: Số | F5: Đất đai | M5: Cây trồng | R5: Vật kiến trúc | X5: Kết cấu | AD5: Chính sách bồi thường, hỗ trợ khác | AH5: Tổng | AI5: Các cơ sở pháp lý
A6: a | B6: Họ và Tên | C6: Địa chỉ thửa đất | D6: tờ | E6: th | F6: Loại đất | G6: DT (m2) | H6: Diện tích CĐN | I6: Đ.giá BT | J6: Đ.giá HT | K6: T.tiền BT | L6: T.tiền HT | M6: Loại cây | N6: DVT | O6: SL | P6: Đ.giá | Q6: T.tiền | R6: Hạng mục | S6: DV | T6: DT | U6: AH | V6: Đ.giá | W6: T.tiền | X6: Móng | Y6: Mái | Z6: Nền | AA6: Vách | AB6: Cột | AC6: Trần | AD6: Loại BT,HT | AE6: S.lượng | AF6: Đ.giá | AG6: T.tiền | AH6: T.tiền | AI6: Các thông tin được địa phương xác nhận về nguồn gốc đất, nhà vật kiến trúc trên đất | AJ6: Căn cứ cơ sở pháp lý
A7: Grand | B7: Tổng | G7: 82991.2 | H7: 43626.2 | K7: 66035954000 | L7: 62265448000 | O7: 16033.5 | Q7: 2065249500 | T7: 23019.546 | W7: 25201681000 | AE7: =SUBTOTAL(9,AE36:AE2426) -> 31 | AG7: 309000000 | AH7: 155877332500
A8: 3 | B8: Hộ Ông Quách Ngọc Nghé | C8: khu phố An Hoà 5, phường Rạch Giá, tỉnh An Giang | D8: 85 | E8: 37 | G8: 587.1 | H8: 405.4 | K8: 2987514000 | L8: 674261000 | O8: 605 | Q8: 76300000 | T8: 670.2 | W8: 1667759000 | AE8: =SUBTOTAL(9,AE9:AE34) -> 0 | AG8: 0 | AH8: 5405834000
A9: 3 | B9: 1943 - 0910 4300 2669 | D9: 85 | E9: 37 | F9: Đất ở đô thị (GCN) - VT1 - đường LQK (đoạn Đống Đa - Ngô Văn Sở) | G9: 124.2 | I9: 16800000 | J9: 0 | K9: 2086560000 | L9: 0 | M9: Dừa A | O9: 5 | P9: 1708000 | Q9: 8540000 | R9: Nhà C2.01 (hỗ trợ 90%) | S9: m² | T9: 104.4 | V9: 5789151 | W9: 604387000 | X9: Btct | Y9: Btct | Z9: G.men | AA9: Tường | AB9: Btct | AI9: Có GCN số BU 454890 do UBND Thành Phố Rạch Giá cấp ngày 22/10/2014. | AJ9: Giá bồi thường về đất theo Nghị quyết số 16/2025/NQ-HĐND ngày 30/12/2025 của Hội đồng nhân dân tỉnh AG và Quyết định số 69/2026/QĐ-UBND ngày 18/7/2026 của UBND tỉnh AG
A10: 3 | B10: 1065 Lâm Quang Ky, Phường Rạch Giá, tỉnh An Giang | D10: 85 | E10: 37 | F10: Đất ở đô thị (GCN) - VT2 - đường LQK (đoạn Đống Đa - Ngô Văn Sở) | G10: 57.5 | I10: 11760000 | J10: 0 | K10: 676200000 | L10: 0 | M10: Dừa B | O10: 2 | P10: 1122000 | Q10: 2244000 | R10: NTC.02 (hỗ trợ 90%) | S10: m² | T10: 47.94 | V10: 770070 | W10: 36917000 | Y10: Tolv | Z10: G.men | AB10: Sắt | AI10: Tờ BĐ 85, thửa 37; diện tích đất trồng cây lâu năm 2.316,8 m² | AJ10: Hỗ trợ CĐN và TKVL theo khoản 1, điều 13 Quyết định số 12/2025/QĐ-UBND ngày 30/9/2025 của UBND tỉnh AG
A11: 3 | B11: Vợ: Trang Thị Em | F11: Đất trồng cây lâu năm (GCN) - VT1 - Giáp đường LQK (đoạn Đống Đa - Ngô Văn Sở) - CĐN | G11: 354.5 | H11: 354.5 | I11: 554400 | J11: 1663200 | K11: 196535000 | L11: 589604000 | M11: Dừa C | O11: 5 | P11: 494000 | Q11: 2470000 | R11: Sân xi măng SN.01 (hỗ trợ 90%) | S11: m² | T11: 17.7 | U11: 12.7 | V11: 238288 | W11: 4218000 | AI11: Có GCN quyền sở hữu nhà ở và Quyền sử dụng đất ở, hồ sơ gốc số 484 do UBND tỉnh Kiên Giang cấp ngày 10/11/1998. | AJ11: Giá hỗ trợ VKT theo Quyết định số 11/QĐ-UBND ngày 31/3/2025 và khoản c, điều 5 Quyết định số 07/2026/QĐ-UBND ngày 12/02/2026 của UBND tỉnh AG | AK11: nguồn góc kí 354,5 bản đồ sửa
A12: 3 | F12: Đất trồng cây lâu năm-Ngoài GCN (LG) - VT1 - Giáp đường LQK (đoạn Đống Đa - Ngô Văn Sở) - CĐN | G12: 50.9 | H12: 50.9 | I12: 554400 | J12: 1663200 | K12: 28219000 | L12: 84657000 | M12: Dừa D | O12: 6 | P12: 211000 | Q12: 1266000 | R12: Nền xi măng SN.01 (hỗ trợ 90%) | S12: m² | T12: 17.9 | U12: 9.1 | V12: 238288 | W12: 4265000 | AI12: Tờ BĐ 85, thửa 37, diện tích đất ở 300,0 m² | AJ12: Giá bồi thường về cây trồng theo Quyết định số 18/QĐ-UBND ngày 02/12/2025 và Quyết định số 03/2026/QĐ-UBND ngày 22/01/2026 của UBND tỉnh AG
A13: 3 | M13: Mít B | O13: 4 | P13: 1632000 | Q13: 6528000 | R13: Nền gạch men (hỗ trợ 90%) | S13: m² | T13: 53.51 | V13: 275180 | W13: 14725000 | AI13: Có GCN quyền sở hữu nhà ở và quyền sử dụng đất ở, số hồ sơ gốc 0088/2009 do UBND thành phố Rạch Giá cấp ngày 22/1/2009. Diện tích sàn (nhà ở, căn hộ): 247,24 m². | AJ13: Hỗ trợ di chuyển nhà theo khoản 1, Điều 8, Quyết định số 12/2025/QĐ-UBND ngày 30/9/2025 của UBND tỉnh AG
A14: 3 | M14: Chuối A | O14: 152 | P14: 132000 | Q14: 20064000 | R14: Nền xi măng SN.02 (hỗ trợ 90%) | S14: m² | T14: 73.68 | V14: 265836 | W14: 19587000 | AI14: Nhà xây dựng năm 2001 | AJ14: Báo cáo số 06/BC-TTKĐ ngày 15 tháng 4 năm 2026 ngày 15 tháng 4 năm 2026 của Trung tâm kiểm định và Dịch vụ xây dựng - Sở Xây dựng tỉnh AG
A15: 3 | M15: Chuối B | O15: 101 | P15: 76000 | Q15: 7676000 | R15: WC+ Tắm (trong nhà) xí bệt, dán gạch men WC.01 (hỗ trợ 90%) | S15: m² | T15: 8.3 | V15: 9347414 | W15: 77584000 | X15: Btct | Y15: Btct | Z15: G.men | AA15: Tường | AB15: Btct | AI15: Phần diện tích 30,8 m² (LG) nằm ngoài GCN, có cùng nguồn gốc và thời điểm sử dụng theo GCN số BU 454890 do UBND Thành Phố Rạch Giá cấp ngày 22/10/2014.
A16: 3 | M16: Chuối C | O16: 145 | P16: 34000 | Q16: 4930000 | R16: Mái che tol (hỗ trợ 90%) | S16: m² | T16: 8.05 | V16: 0 | W16: 0 | AI16: CĐN theo mẫu 07 giấy xác nhận trực tiếp SXNN của UBND phường Rạch Giá
A17: 3 | M17: Đu đủ C | O17: 1 | P17: 45000 | Q17: 45000 | R17: Nền gạch men (hỗ trợ 90%) | S17: m² | T17: 8.05 | V17: 275180 | W17: 2215000
A18: 3 | M18: Xoài B | O18: 2 | P18: 3064000 | Q18: 6128000 | R18: Bồn BTCT (có nắp) BNN.01 (hỗ trợ 90%) | S18: m³ | T18: 20.13 | V18: 3878211 | W18: 78068000
A19: 3 | M19: Xoài C | O19: 1 | P19: 1035000 | Q19: 1035000 | R19: Hàng rào xây 10, song sắt, móng BTCT, trụ BTCT HR.14 (hỗ trợ 90%) | S19: m² | T19: 23.45 | V19: 890132 | W19: 20874000
A20: 3 | M20: Xoài D | O20: 2 | P20: 400000 | Q20: 800000 | R20: Chuồng gà (hỗ trợ 90%) | S20: m² | T20: 4.6 | V20: 0 | W20: 0 | Y20: Tolv | Z20: đất | AA20: lưới B40 | AB20: Sắt
A21: 3 | M21: Hạnh B | O21: 1 | P21: 300000 | Q21: 300000 | R21: Miếu xây C4.01 (hỗ trợ 90%) | S21: m² | T21: 1.2 | V21: 3764632 | W21: 4518000 | Y21: Ngói | Z21: G.men | AA21: Tường | AB21: Gạch
A22: 3 | M22: Sao E | O22: 1 | P22: 360000 | Q22: 360000 | R22: Chuồng gà (hỗ trợ 90%) | S22: m² | T22: 4.56 | V22: 0 | W22: 0 | Y22: Lưới B40 | Z22: Đất | AA22: lưới B40 | AB22: Gỗ<10
A23: 3 | M23: Bồ đề E | O23: 1 | P23: 60000 | Q23: 60000 | R23: Hàng rào xây 10, khung lưới B40, móng BTCT, trụ BTCT HR.08 (hỗ trợ 90%) | S23: m² | T23: 74.16 | V23: 830536 | W23: 61593000
A24: 3 | M24: Sộp H | O24: 1 | P24: 32000 | Q24: 32000 | R24: Hàng ba nhà C2.01*80% (tầng 1) (hỗ trợ 90%) | S24: m² | T24: 15.08 | V24: 4631321 | W24: 69840000 | Y24: Btct | Z24: G.men | AB24: Btct
A25: 3 | M25: Nhàu G | O25: 1 | P25: 60000 | Q25: 60000 | R25: Hàng ba C2.01*80% (tầng 1) (hỗ trợ 90%) | S25: m² | T25: 14.75 | V25: 4631321 | W25: 68312000 | Y25: Btct | Z25: G.men | AB25: Btct
A26: 3 | M26: Chanh C | O26: 1 | P26: 283000 | Q26: 283000 | R26: Nhà C2.07 (tầng 1) (hỗ trợ 90%) | S26: m² | T26: 88 | V26: 5469063 | W26: 481278000 | Y26: Tol giả ngói | Z26: G.men | AA26: Tường | AB26: Btct
A27: 3 | M27: Chanh D | O27: 1 | P27: 93000 | Q27: 93000 | R27: WC (Tầng 1) xí bệt, dán gạch men WC.01 (hỗ trợ 90%) | S27: m² | T27: 2.66 | V27: 9347414 | W27: 24864000 | Y27: Btct | Z27: G.men | AA27: Tường | AB27: Btct | AC27: Lima
A28: 3 | M28: Chuối A | O28: 63 | P28: 132000 | Q28: 8316000 | R28: Tắm (tầng 1) dán gạch men WC.10 (hỗ trợ 90%) | S28: m² | T28: 4 | V28: 3141561 | W28: 12566000 | Y28: Btct | Z28: G.men | AA28: Tường | AB28: Btct
A29: 3 | M29: Chuối B | O29: 44 | P29: 76000 | Q29: 3344000 | R29: Nền gạch men (hỗ trợ 90%) | S29: m² | T29: 47.94 | V29: 275180 | W29: 13192000
A30: 3 | M30: Chuối C | O30: 43 | P30: 34000 | Q30: 1462000 | R30: Hàng ba C2.22 x 80% (hỗ trợ 90%) | S30: m² | T30: 15.84 | V30: 4092245 | W30: 64821000
A31: 3 | M31: Rau màu các loại A (m²) | O31: 22 | P31: 12000 | Q31: 264000 | R31: Nền gạch men (hỗ trợ 90%) | S31: m² | T31: 14.3 | V31: 275180 | W31: 3935000
A32: 3
A33: 3
A34: 3
A35: 1 | B35: Quách Ngọc Tuấn | C35: khu phố An Hoà 5, phường Rạch Giá, tỉnh An Giang | G35: 0 | H35: 0 | K35: 0 | L35: 0 | O35: 0 | Q35: 0 | T35: 50.55 | W35: 61518000 | AE35: =SUBTOTAL(9,AE36:AE41) -> 1 | AG35: 5000000 | AH35: 66518000
A36: 1 | B36: 1974 - 0910 7400 2275 | R36: Nhà C4.05 (hỗ trợ 90%) | S36: m² | T36: 15.3 | V36: 3550600 | W36: 54324000 | X36: Gạch | Y36: Tolv | Z36: G.men | AA36: Tường | AB36: Gạch | AC36: Prima | AD36: Kinh doanh không đăng ký | AE36: 1 | AF36: 5000000 | AG36: 5000000 | AI36: Nhà xây dựng năm 2006, sửa lại năm 2015 cất trên đất Ông Quách Ngọc Nghé | AJ36: Giá hỗ trợ VKT theo Quyết định số 11/QĐ-UBND ngày 31/3/2025 và khoản c, điều 5 Quyết định số 07/2026/QĐ-UBND ngày 12/02/2026 của UBND tỉnh AG
A37: 1 | B37: 1065/1C Lâm Quang Ky, Phường Rạch Giá, tỉnh An Giang | R37: Mái che tol (hỗ trợ 90%) | S37: m² | T37: 5.85 | V37: 0 | W37: 0 | AI37: Kinh doanh mua bán tạp hóa (ko giấy phép) | AJ37: Hỗ trợ kinh doanh theo khoản 1, Điều 12, Quyết định số 12/2025/QĐ-UBND ngày 30/9/2025 của UBND tỉnh AG
A38: 1 | B38: Vợ: Trần Thị Kiều Oanh | R38: Nền xi măng SN.01 (hỗ trợ 90%) | S38: m² | T38: 14.1 | V38: 238288 | W38: 3360000 | AJ38: Báo cáo số 06/BC-TTKĐ ngày 15 tháng 4 năm 2026 ngày 15 tháng 4 năm 2026 của Trung tâm kiểm định và Dịch vụ xây dựng - Sở Xây dựng tỉnh AG
A39: 1 | R39: Trần Prima (hỗ trợ 90%) | S39: m² | T39: 15.3 | V39: 250583 | W39: 3834000
A40: 1
...

Sheet Kangatang_52

Sheet Kangatang_53

Sheet Kangatang_54

Sheet Kangatang_55

Sheet Kangatang_56

Sheet Kangatang_57

Sheet con to do BTH
B1: =H7+C1 -> 82997 | C1: =0.4+5.9-0.5 -> 5.8 | AM1: năm xây dựng nhà cung cấp sau
A2: BẢNG TỔNG HỢP BỒI THƯỜNG, HỖ TRỢ, TÁI ĐỊNH CƯ KHI NHÀ NƯỚC THU HỒI ĐẤT ĐỂ THỰC HIỆN DỰ ÁN: KHU TÁI ĐỊNH CƯ NAM AN HÒA (GIAI ĐOẠN 3)
A3: ĐỊA ĐIỂM: KHU PHỐ 2 AN HÒA VÀ KHU PHỐ 5 AN HÒA, PHƯỜNG RẠCH GIÁ, TỈNH AN GIANG
B4: =C4-B1 -> 0 | C4: 82997
B5: Số | C5: Họ và Tên | D5: Số | E5: Số | F5: Số | G5: Đất đai | O5: Cây trồng | S5: Vật kiến trúc | Y5: Kết cấu | AE5: Chính sách bồi thường, hỗ trợ khác | AI5: Tổng | AJ5: Các cơ sở pháp lý
A6: a | B6: PA | D6: kh | E6: tờ | F6: th | G6: Loại đất | H6: DT (m2) | I6: Diện tích CĐN | J6: AH | K6: Đ.giá BT | L6: Đ.giá HT | M6: T.tiền BT | N6: T.tiền HT | O6: Loại cây | P6: SL | Q6: Đ.giá | R6: T.tiền | S6: Hạng mục | T6: DV | U6: DT | V6: AH | W6: Đ.giá | X6: T.tiền | Y6: Móng | Z6: Mái | AA6: Nền | AB6: Vách | AC6: Cột | AD6: Trần | AE6: Loại BT,HT | AF6: S.lượng | AG6: Đ.giá | AH6: T.tiền | AI6: T.tiền | AJ6: Các thông tin được địa phương xác nhận về nguồn gốc đất, nhà vật kiến trúc trên đất | AK6: Căn cứ cơ sở pháp lý
A7: Grand Total | C7: Tổng | H7: =SUBTOTAL(9,H9:H2439) -> 82991.2 | I7: =SUBTOTAL(9,I9:I2439) -> 43626.2 | M7: =SUBTOTAL(9,M9:M2439) -> 70703020000 | N7: =SUBTOTAL(9,N9:N2439) -> 62265448000 | P7: =SUBTOTAL(9,P9:P2439) -> 16033.5 | R7: =SUBTOTAL(9,R9:R2439) -> 2065249500 | U7: =SUBTOTAL(9,U9:U2439) -> 23019.546 | X7: =SUBTOTAL(9,X9:X2439) -> 25201681000 | AF7: =SUBTOTAL(9,AF9:AF2439) -> 31 | AH7: =SUBTOTAL(9,AH9:AH2439) -> 309000000 | AI7: =SUBTOTAL(9,AI8:AI2439) -> 160544398500
A8: 1 Total | B8: 1 | C8: Quách Ngọc Tuấn | H8: =SUBTOTAL(9,H9:H14) -> 0 | I8: =SUBTOTAL(9,I9:I14) -> 0 | M8: =SUBTOTAL(9,M9:M14) -> 0 | N8: =SUBTOTAL(9,N9:N14) -> 0 | P8: =SUBTOTAL(9,P9:P14) -> 0 | R8: =SUBTOTAL(9,R9:R14) -> 0 | U8: =SUBTOTAL(9,U9:U14) -> 50.55 | X8: =SUBTOTAL(9,X9:X14) -> 61518000 | AF8: =SUBTOTAL(9,AF9:AF14) -> 1 | AH8: =SUBTOTAL(9,AH9:AH14) -> 5000000 | AI8: =IF(B8<>0,M8+N8+R8+X8+AH8," ") -> 66518000
A9: =IF(B8<>0,B8,A6) -> 1 | C9: 1974 - 0910 7400 2275 | D9: 4 | K9: =IF(G9<>0,VLOOKUP(G9,'gia dat'!$A$1:$F$144,5,0)," ") | L9: =IF(G9<>0,VLOOKUP(G9,'gia dat'!$A$1:$F$144,6,0)," ") | M9: =IF(H9<>0,ROUND(H9*K9,-3)," ") | N9: =IF(H9<>0,ROUND(H9*L9,-3)," ") | Q9: =IF(O9<>0,VLOOKUP(O9,'Cây trong'!$A$2:$C$246,3,0)," ") | R9: =IF(O9<>0,ROUND(P9*Q9,-2)," ") | S9: Nhà C4.05 (hỗ trợ 90%) | T9: m² | U9: 15.3 | W9: =IF(S9<>0,VLOOKUP(S9,VKT!$A$2:$G$415,7,0),"") -> 3550600 | X9: =IF(S9<>0,ROUND(U9*W9,-3)," ") -> 54324000 | Y9: Gạch | Z9: Tolv | AA9: G.men | AB9: Tường | AC9: Gạch | AD9: Prima | AE9: Kinh doanh không đăng ký | AF9: 1 | AG9: =IF(AE9<>0,VLOOKUP(AE9,ODDS!$A$2:$C$13,3,0),"") -> 5000000 | AH9: =IF(AE9<>0,ROUND(AF9*AG9,-2)," ") -> 5000000 | AI9: =IF(B9<>0,M9+N9+R9+X9+AH9," ") | AJ9: Nhà xây dựng năm 2006, sửa lại năm 2015 cất trên đất Ông Quách Ngọc Nghé | AK9: Giá hỗ trợ VKT theo Quyết định số 11/QĐ-UBND ngày 31/3/2025 và khoản c, điều 5 Quyết định số 07/2026/QĐ-UBND ngày 12/02/2026 của UBND tỉnh AG
A10: =IF(B9<>0,B9,A9) -> 1 | C10: 1065/1C Lâm Quang Ky, Phường Rạch Giá, tỉnh An Giang | K10: =IF(G10<>0,VLOOKUP(G10,'gia dat'!$A$1:$F$144,5,0)," ") | L10: =IF(G10<>0,VLOOKUP(G10,'gia dat'!$A$1:$F$144,6,0)," ") | M10: =IF(H10<>0,ROUND(H10*K10,-3)," ") | N10: =IF(H10<>0,ROUND(H10*L10,-3)," ") | Q10: =IF(O10<>0,VLOOKUP(O10,'Cây trong'!$A$2:$C$246,3,0)," ") | R10: =IF(O10<>0,ROUND(P10*Q10,-2)," ") | S10: Mái che tol (hỗ trợ 90%) | T10: m² | U10: 5.85 | W10: =IF(S10<>0,VLOOKUP(S10,VKT!$A$2:$G$415,7,0),"") -> 0 | X10: =IF(S10<>0,ROUND(U10*W10,-3)," ") -> 0 | AG10: =IF(AE10<>0,VLOOKUP(AE10,ODDS!$A$2:$C$13,3,0),"") | AH10: =IF(AE10<>0,ROUND(AF10*AG10,-2)," ") | AI10: =IF(B10<>0,M10+N10+R10+X10+AH10," ") | AJ10: Kinh doanh mua bán tạp hóa (ko giấy phép) | AK10: Hỗ trợ kinh doanh theo khoản 1, Điều 12, Quyết định số 12/2025/QĐ-UBND ngày 30/9/2025 của UBND tỉnh AG
A11: =IF(B10<>0,B10,A10) -> 1 | C11: Vợ: Trần Thị Kiều Oanh | K11: =IF(G11<>0,VLOOKUP(G11,'gia dat'!$A$1:$F$144,5,0)," ") | L11: =IF(G11<>0,VLOOKUP(G11,'gia dat'!$A$1:$F$144,6,0)," ") | M11: =IF(H11<>0,ROUND(H11*K11,-3)," ") | N11: =IF(H11<>0,ROUND(H11*L11,-3)," ") | Q11: =IF(O11<>0,VLOOKUP(O11,'Cây trong'!$A$2:$C$246,3,0)," ") | R11: =IF(O11<>0,ROUND(P11*Q11,-2)," ") | S11: Nền xi măng SN.01 (hỗ trợ 90%) | T11: m² | U11: 14.1 | W11: =IF(S11<>0,VLOOKUP(S11,VKT!$A$2:$G$415,7,0),"") -> 238288 | X11: =IF(S11<>0,ROUND(U11*W11,-3)," ") -> 3360000 | AG11: =IF(AE11<>0,VLOOKUP(AE11,ODDS!$A$2:$C$13,3,0),"") | AH11: =IF(AE11<>0,ROUND(AF11*AG11,-2)," ") | AI11: =IF(B11<>0,M11+N11+R11+X11+AH11," ") | AK11: Báo cáo số 06/BC-TTKĐ ngày 15 tháng 4 năm 2026 ngày 15 tháng 4 năm 2026 của Trung tâm kiểm định và Dịch vụ xây dựng - Sở Xây dựng tỉnh AG
A12: =IF(B11<>0,B11,A11) -> 1 | K12: =IF(G12<>0,VLOOKUP(G12,'gia dat'!$A$1:$F$144,5,0)," ") | L12: =IF(G12<>0,VLOOKUP(G12,'gia dat'!$A$1:$F$144,6,0)," ") | M12: =IF(H12<>0,ROUND(H12*K12,-3)," ") | N12: =IF(H12<>0,ROUND(H12*L12,-3)," ") | Q12: =IF(O12<>0,VLOOKUP(O12,'Cây trong'!$A$2:$C$246,3,0)," ") | R12: =IF(O12<>0,ROUND(P12*Q12,-2)," ") | S12: Trần Prima (hỗ trợ 90%) | T12: m² | U12: 15.3 | W12: =IF(S12<>0,VLOOKUP(S12,VKT!$A$2:$G$415,7,0),"") -> 250583 | X12: =IF(S12<>0,ROUND(U12*W12,-3)," ") -> 3834000 | AG12: =IF(AE12<>0,VLOOKUP(AE12,ODDS!$A$2:$C$13,3,0),"") | AH12: =IF(AE12<>0,ROUND(AF12*AG12,-2)," ") | AI12: =IF(B12<>0,M12+N12+R12+X12+AH12," ")
A13: =IF(B12<>0,B12,A12) -> 1 | K13: =IF(G13<>0,VLOOKUP(G13,'gia dat'!$A$1:$F$144,5,0)," ") | L13: =IF(G13<>0,VLOOKUP(G13,'gia dat'!$A$1:$F$144,6,0)," ") | M13: =IF(H13<>0,ROUND(H13*K13,-3)," ") | N13: =IF(H13<>0,ROUND(H13*L13,-3)," ") | W13: =IF(S13<>0,VLOOKUP(S13,VKT!$A$2:$G$415,7,0),"") | X13: =IF(S13<>0,ROUND(U13*W13,-3)," ") | AG13: =IF(AE13<>0,VLOOKUP(AE13,ODDS!$A$2:$C$13,3,0),"") | AI13: =IF(B13<>0,M13+N13+R13+X13+AH13," ")
A14: =IF(B13<>0,B13,A13) -> 1 | K14: =IF(G14<>0,VLOOKUP(G14,'gia dat'!$A$1:$F$144,5,0)," ") | L14: =IF(G14<>0,VLOOKUP(G14,'gia dat'!$A$1:$F$144,6,0)," ") | M14: =IF(H14<>0,ROUND(H14*K14,-3)," ") | N14: =IF(H14<>0,ROUND(H14*L14,-3)," ") | W14: =IF(S14<>0,VLOOKUP(S14,VKT!$A$2:$G$415,7,0),"") | X14: =IF(S14<>0,ROUND(U14*W14,-3)," ") | AG14: =IF(AE14<>0,VLOOKUP(AE14,ODDS!$A$2:$C$13,3,0),"") | AI14: =IF(B14<>0,M14+N14+R14+X14+AH14," ")
A15: 2 Total | B15: 2 | C15: Hộ Ông Quách Ngọc Nghé | H15: =SUBTOTAL(9,H16:H21) -> 25.9 | I15: =SUBTOTAL(9,I16:I21) -> 0 | M15: =SUBTOTAL(9,M16:M21) -> 14359000 | N15: =SUBTOTAL(9,N16:N21) -> 0 | P15: =SUBTOTAL(9,P16:P21) -> 0 | R15: =SUBTOTAL(9,R16:R21) -> 0 | U15: =SUBTOTAL(9,U16:U21) -> 0 | X15: =SUBTOTAL(9,X16:X21) -> 0 | AF15: =SUBTOTAL(9,AF16:AF21) -> 0 | AH15: =SUBTOTAL(9,AH16:AH21) -> 0 | AI15: =IF(B15<>0,M15+N15+R15+X15+AH15," ") -> 14359000
A16: =IF(B15<>0,B15,A14) -> 2 | C16: 1943 - 0910 4300 2669 | G16: Đất trồng cây lâu năm ngoài GCN (LG) - VT1 - giáp đường LQK (đoạn Đống Đa - Ngô Văn Sở) - trừ VKT | H16: 25.9 | I16: =IF(N16>0,H16,"") | K16: =IF(G16<>0,VLOOKUP(G16,'gia dat'!$A$1:$F$144,5,0)," ") -> 554400 | L16: =IF(G16<>0,VLOOKUP(G16,'gia dat'!$A$1:$F$144,6,0)," ") -> 0 | M16: =IF(H16<>0,ROUND(H16*K16,-3)," ") -> 14359000 | N16: =IF(H16<>0,ROUND(H16*L16,-3)," ") -> 0 | W16: =IF(S16<>0,VLOOKUP(S16,VKT!$A$2:$G$415,7,0),"") | X16: =IF(S16<>0,ROUND(U16*W16,-3)," ") | AG16: =IF(AE16<>0,VLOOKUP(AE16,ODDS!$A$2:$C$13,3,0),"") | AI16: =IF(B16<>0,M16+N16+R16+X16+AH16," ") | AJ16: Nguồn gốc đất Phần diện tích 10,5 m² nằm ngoài GCN thuộc đất HLATGT, có cùng nguồn gốc và thời điểm sử dụng theo GCN số BU 454890 do UBND Thành Phố Rạch Giá cấp ngày 22/10/2014 do Hộ Ông Quách Ngọc Nghé đứng tên. hiện trạng do cha Quách Ngọc Nghé cho con là Quách Ngọc Tuấn ngày 12/6/2006 (giấy tay). | AK16: Giá bồi thường về đất theo Nghị quyết số 16/2025/NQ-HĐND ngày 30/12/2025 của Hội đồng nhân dân tỉnh AG và Quyết định số 69/2026/QĐ-UBND ngày 18/7/2026 của UBND tỉnh AG
A17: =IF(B16<>0,B16,A16) -> 2 | C17: 1065 Lâm Quang Ky, Phường Rạch Giá, tỉnh An Giang | K17: =IF(G17<>0,VLOOKUP(G17,'gia dat'!$A$1:$F$144,5,0)," ") | L17: =IF(G17<>0,VLOOKUP(G17,'gia dat'!$A$1:$F$144,6,0)," ") | M17: =IF(H17<>0,ROUND(H17*K17,-3)," ") | N17: =IF(H17<>0,ROUND(H17*L17,-3)," ") | W17: =IF(S17<>0,VLOOKUP(S17,VKT!$A$2:$G$415,7,0),"") | X17: =IF(S17<>0,ROUND(U17*W17,-3)," ") | AG17: =IF(AE17<>0,VLOOKUP(AE17,ODDS!$A$2:$C$13,3,0),"") | AI17: =IF(B17<>0,M17+N17+R17+X17+AH17," ")
A18: =IF(B17<>0,B17,A17) -> 2 | C18: Vợ: Trang Thị Em | K18: =IF(G18<>0,VLOOKUP(G18,'gia dat'!$A$1:$F$144,5,0)," ") | L18: =IF(G18<>0,VLOOKUP(G18,'gia dat'!$A$1:$F$144,6,0)," ") | M18: =IF(H18<>0,ROUND(H18*K18,-3)," ") | N18: =IF(H18<>0,ROUND(H18*L18,-3)," ") | W18: =IF(S18<>0,VLOOKUP(S18,VKT!$A$2:$G$415,7,0),"") | X18: =IF(S18<>0,ROUND(U18*W18,-3)," ") | AG18: =IF(AE18<>0,VLOOKUP(AE18,ODDS!$A$2:$C$13,3,0),"") | AI18: =IF(B18<>0,M18+N18+R18+X18+AH18," ")
A19: =IF(B18<>0,B18,A18) -> 2 | K19: =IF(G19<>0,VLOOKUP(G19,'gia dat'!$A$1:$F$144,5,0)," ") | L19: =IF(G19<>0,VLOOKUP(G19,'gia dat'!$A$1:$F$144,6,0)," ") | M19: =IF(H19<>0,ROUND(H19*K19,-3)," ") | N19: =IF(H19<>0,ROUND(H19*L19,-3)," ") | W19: =IF(S19<>0,VLOOKUP(S19,VKT!$A$2:$G$415,7,0),"") | X19: =IF(S19<>0,ROUND(U19*W19,-3)," ") | AG19: =IF(AE19<>0,VLOOKUP(AE19,ODDS!$A$2:$C$13,3,0),"") | AI19: =IF(B19<>0,M19+N19+R19+X19+AH19," ")
A20: =IF(B19<>0,B19,A19) -> 2 | K20: =IF(G20<>0,VLOOKUP(G20,'gia dat'!$A$1:$F$144,5,0)," ") | L20: =IF(G20<>0,VLOOKUP(G20,'gia dat'!$A$1:$F$144,6,0)," ") | M20: =IF(H20<>0,ROUND(H20*K20,-3)," ") | N20: =IF(H20<>0,ROUND(H20*L20,-3)," ") | Q20: =IF(O20<>0,VLOOKUP(O20,'Cây trong'!$A$2:$C$246,3,0)," ") | R20: =IF(O20<>0,ROUND(P20*Q20,-2)," ") | W20: =IF(S20<>0,VLOOKUP(S20,VKT!$A$2:$G$415,7,0),"") | X20: =IF(S20<>0,ROUND(U20*W20,-3)," ") | AG20: =IF(AE20<>0,VLOOKUP(AE20,ODDS!$A$2:$C$13,3,0),"") | AH20: =IF(AE20<>0,ROUND(AF20*AG20,-2)," ") | AI20: =IF(B20<>0,M20+N20+R20+X20+AH20," ")
A21: =IF(B20<>0,B20,A20) -> 2 | K21: =IF(G21<>0,VLOOKUP(G21,'gia dat'!$A$1:$F$144,5,0)," ") | L21: =IF(G21<>0,VLOOKUP(G21,'gia dat'!$A$1:$F$144,6,0)," ") | M21: =IF(H21<>0,ROUND(H21*K21,-3)," ") | N21: =IF(H21<>0,ROUND(H21*L21,-3)," ") | Q21: =IF(O21<>0,VLOOKUP(O21,'Cây trong'!$A$2:$C$246,3,0)," ") | R21: =IF(O21<>0,ROUND(P21*Q21,-2)," ") | W21: =IF(S21<>0,VLOOKUP(S21,VKT!$A$2:$G$415,7,0),"") | X21: =IF(S21<>0,ROUND(U21*W21,-3)," ") | AG21: =IF(AE21<>0,VLOOKUP(AE21,ODDS!$A$2:$C$13,3,0),"") | AH21: =IF(AE21<>0,ROUND(AF21*AG21,-2)," ") | AI21: =IF(B21<>0,M21+N21+R21+X21+AH21," ")
A22: 3 Total | B22: 3 | C22: Hộ Ông Quách Ngọc Nghé | H22: =SUBTOTAL(9,H23:H48) -> 587.1 | I22: =SUBTOTAL(9,I23:I28) -> 405.4 | M22: =SUBTOTAL(9,M23:M48) -> 2987514000 | N22: =SUBTOTAL(9,N23:N48) -> 674261000 | P22: =SUBTOTAL(9,P23:P48) -> 605 | R22: =SUBTOTAL(9,R23:R48) -> 76300000 | U22: =SUBTOTAL(9,U23:U48) -> 670.2 | X22: =SUBTOTAL(9,X23:X48) -> 1667759000 | AF22: =SUBTOTAL(9,AF23:AF48) -> 0 | AH22: =SUBTOTAL(9,AH23:AH48) -> 0 | AI22: =IF(B22<>0,M22+N22+R22+X22+AH22," ") -> 5405834000
A23: =IF(B22<>0,B22,A21) -> 3 | C23: 1943 - 0910 4300 2669 | D23: 12 | E23: 85 | F23: 37 | G23: Đất ở đô thị (GCN) - VT1 - đường LQK (đoạn Đống Đa - Ngô Văn Sở) | H23: 124.2 | I23: =IF(N23>0,H23,"") | K23: =IF(G23<>0,VLOOKUP(G23,'gia dat'!$A$1:$F$144,5,0)," ") -> 16800000 | L23: =IF(G23<>0,VLOOKUP(G23,'gia dat'!$A$1:$F$144,6,0)," ") -> 0 | M23: =IF(H23<>0,ROUND(H23*K23,-3)," ") -> 2086560000 | N23: =IF(H23<>0,ROUND(H23*L23,-3)," ") -> 0 | O23: Dừa A | P23: 5 | Q23: =IF(O23<>0,VLOOKUP(O23,'Cây trong'!$A$2:$C$246,3,0)," ") -> 1708000 | R23: =IF(O23<>0,ROUND(P23*Q23,-2)," ") -> 8540000 | S23: Nhà C2.01 (hỗ trợ 90%) | T23: m² | U23: 104.4 | W23: =IF(S23<>0,VLOOKUP(S23,VKT!$A$2:$G$415,7,0),"") -> 5789151 | X23: =IF(S23<>0,ROUND(U23*W23,-3)," ") -> 604387000 | Y23: Btct | Z23: Btct | AA23: G.men | AB23: Tường | AC23: Btct | AG23: =IF(AE23<>0,VLOOKUP(AE23,ODDS!$A$2:$C$13,3,0),"") | AI23: =IF(B23<>0,M23+N23+R23+X23+AH23," ") | AJ23: Có GCN số BU 454890 do UBND Thành Phố Rạch Giá cấp ngày 22/10/2014. | AK23: Giá bồi thường về đất theo Nghị quyết số 16/2025/NQ-HĐND ngày 30/12/2025 của Hội đồng nhân dân tỉnh AG và Quyết định số 69/2026/QĐ-UBND ngày 18/7/2026 của UBND tỉnh AG
A24: =IF(B23<>0,B23,A23) -> 3 | C24: 1065 Lâm Quang Ky, Phường Rạch Giá, tỉnh An Giang | E24: 85 | F24: 37 | G24: Đất ở đô thị (GCN) - VT2 - đường LQK (đoạn Đống Đa - Ngô Văn Sở) | H24: =181.7-H23 -> 57.5 | I24: =IF(N24>0,H24,"") | K24: =IF(G24<>0,VLOOKUP(G24,'gia dat'!$A$1:$F$144,5,0)," ") -> 11760000 | L24: =IF(G24<>0,VLOOKUP(G24,'gia dat'!$A$1:$F$144,6,0)," ") -> 0 | M24: =IF(H24<>0,ROUND(H24*K24,-3)," ") -> 676200000 | N24: =IF(H24<>0,ROUND(H24*L24,-3)," ") -> 0 | O24: Dừa B | P24: 2 | Q24: =IF(O24<>0,VLOOKUP(O24,'Cây trong'!$A$2:$C$246,3,0)," ") -> 1122000 | R24: =IF(O24<>0,ROUND(P24*Q24,-2)," ") -> 2244000 | S24: NTC.02 (hỗ trợ 90%) | T24: m² | U24: 47.94 | W24: =IF(S24<>0,VLOOKUP(S24,VKT!$A$2:$G$415,7,0),"") -> 770070 | X24: =IF(S24<>0,ROUND(U24*W24,-3)," ") -> 36917000 | Z24: Tolv | AA24: G.men | AC24: Sắt | AG24: =IF(AE24<>0,VLOOKUP(AE24,ODDS!$A$2:$C$13,3,0),"") | AH24: =IF(AE24<>0,ROUND(AF24*AG24,-2)," ") | AI24: =IF(B24<>0,M24+N24+R24+X24+AH24," ") | AJ24: Tờ BĐ 85, thửa 37; diện tích đất trồng cây lâu năm 2.316,8 m² | AK24: Hỗ trợ CĐN và TKVL theo khoản 1, điều 13 Quyết định số 12/2025/QĐ-UBND ngày 30/9/2025 của UBND tỉnh AG
A25: =IF(B24<>0,B24,A24) -> 3 | C25: Vợ: Trang Thị Em | E25: 85 | F25: 37 | G25: Đất trồng cây lâu năm (GCN) - VT1 - Giáp đường LQK (đoạn Đống Đa - Ngô Văn Sở) - CĐN | H25: 354.5 | I25: =IF(N25>0,H25,"") -> 354.5 | K25: =IF(G25<>0,VLOOKUP(G25,'gia dat'!$A$1:$F$144,5,0)," ") -> 554400 | L25: =IF(G25<>0,VLOOKUP(G25,'gia dat'!$A$1:$F$144,6,0)," ") -> 1663200 | M25: =IF(H25<>0,ROUND(H25*K25,-3)," ") -> 196535000 | N25: =IF(H25<>0,ROUND(H25*L25,-3)," ") -> 589604000 | O25: Dừa C | P25: 5 | Q25: =IF(O25<>0,VLOOKUP(O25,'Cây trong'!$A$2:$C$246,3,0)," ") -> 494000 | R25: =IF(O25<>0,ROUND(P25*Q25,-2)," ") -> 2470000 | S25: Sân xi măng SN.01 (hỗ trợ 90%) | T25: m² | U25: 17.7 | V25: 12.7 | W25: =IF(S25<>0,VLOOKUP(S25,VKT!$A$2:$G$415,7,0),"") -> 238288 | X25: =IF(S25<>0,ROUND(U25*W25,-3)," ") -> 4218000 | AG25: =IF(AE25<>0,VLOOKUP(AE25,ODDS!$A$2:$C$13,3,0),"") | AH25: =IF(AE25<>0,ROUND(AF25*AG25,-2)," ") | AI25: =IF(B25<>0,M25+N25+R25+X25+AH25," ") | AJ25: Có GCN quyền sở hữu nhà ở và Quyền sử dụng đất ở, hồ sơ gốc số 484 do UBND tỉnh Kiên Giang cấp ngày 10/11/1998. | AK25: Giá hỗ trợ VKT theo Quyết định số 11/QĐ-UBND ngày 31/3/2025 và khoản c, điều 5 Quyết định số 07/2026/QĐ-UBND ngày 12/02/2026 của UBND tỉnh AG | AL25: nguồn góc kí 354,5 bản đồ sửa
A26: =IF(B25<>0,B25,A25) -> 3 | G26: Đất trồng cây lâu năm-Ngoài GCN (LG) - VT1 - Giáp đường LQK (đoạn Đống Đa - Ngô Văn Sở) - CĐN | H26: 50.9 | I26: =IF(N26>0,H26,"") -> 50.9 | K26: =IF(G26<>0,VLOOKUP(G26,'gia dat'!$A$1:$F$144,5,0)," ") -> 554400 | L26: =IF(G26<>0,VLOOKUP(G26,'gia dat'!$A$1:$F$144,6,0)," ") -> 1663200 | M26: =IF(H26<>0,ROUND(H26*K26,-3)," ") -> 28219000 | N26: =IF(H26<>0,ROUND(H26*L26,-3)," ") -> 84657000 | O26: Dừa D | P26: 6 | Q26: =IF(O26<>0,VLOOKUP(O26,'Cây trong'!$A$2:$C$246,3,0)," ") -> 211000 | R26: =IF(O26<>0,ROUND(P26*Q26,-2)," ") -> 1266000 | S26: Nền xi măng SN.01 (hỗ trợ 90%) | T26: m² | U26: 17.9 | V26: 9.1 | W26: =IF(S26<>0,VLOOKUP(S26,VKT!$A$2:$G$415,7,0),"") -> 238288 | X26: =IF(S26<>0,ROUND(U26*W26,-3)," ") -> 4265000 | AG26: =IF(AE26<>0,VLOOKUP(AE26,ODDS!$A$2:$C$13,3,0),"") | AH26: =IF(AE26<>0,ROUND(AF26*AG26,-2)," ") | AI26: =IF(B26<>0,M26+N26+R26+X26+AH26," ") | AJ26: Tờ BĐ 85, thửa 37, diện tích đất ở 300,0 m² | AK26: Giá bồi thường về cây trồng theo Quyết định số 18/QĐ-UBND ngày 02/12/2025 và Quyết định số 03/2026/QĐ-UBND ngày 22/01/2026 của UBND tỉnh AG
A27: =IF(B26<>0,B26,A26) -> 3 | K27: =IF(G27<>0,VLOOKUP(G27,'gia dat'!$A$1:$F$144,5,0)," ") | L27: =IF(G27<>0,VLOOKUP(G27,'gia dat'!$A$1:$F$144,6,0)," ") | M27: =IF(H27<>0,ROUND(H27*K27,-3)," ") | N27: =IF(H27<>0,ROUND(H27*L27,-3)," ") | O27: Mít B | P27: 4 | Q27: =IF(O27<>0,VLOOKUP(O27,'Cây trong'!$A$2:$C$246,3,0)," ") -> 1632000 | R27: =IF(O27<>0,ROUND(P27*Q27,-2)," ") -> 6528000 | S27: Nền gạch men (hỗ trợ 90%) | T27: m² | U27: 53.51 | W27: =IF(S27<>0,VLOOKUP(S27,VKT!$A$2:$G$415,7,0),"") -> 275180 | X27: =IF(S27<>0,ROUND(U27*W27,-3)," ") -> 14725000 | AG27: =IF(AE27<>0,VLOOKUP(AE27,ODDS!$A$2:$C$13,3,0),"") | AH27: =IF(AE27<>0,ROUND(AF27*AG27,-2)," ") | AI27: =IF(B27<>0,M27+N27+R27+X27+AH27," ") | AJ27: Có GCN quyền sở hữu nhà ở và quyền sử dụng đất ở, số hồ sơ gốc 0088/2009 do UBND thành phố Rạch Giá cấp ngày 22/1/2009. Diện tích sàn (nhà ở, căn hộ): 247,24 m². | AK27: Hỗ trợ di chuyển nhà theo khoản 1, Điều 8, Quyết định số 12/2025/QĐ-UBND ngày 30/9/2025 của UBND tỉnh AG
A28: =IF(B27<>0,B27,A27) -> 3 | K28: =IF(G28<>0,VLOOKUP(G28,'gia dat'!$A$1:$F$144,5,0)," ") | L28: =IF(G28<>0,VLOOKUP(G28,'gia dat'!$A$1:$F$144,6,0)," ") | M28: =IF(H28<>0,ROUND(H28*K28,-3)," ") | N28: =IF(H28<>0,ROUND(H28*L28,-3)," ") | O28: Chuối A | P28: 152 | Q28: =IF(O28<>0,VLOOKUP(O28,'Cây trong'!$A$2:$C$246,3,0)," ") -> 132000 | R28: =IF(O28<>0,ROUND(P28*Q28,-2)," ") -> 20064000 | S28: Nền xi măng SN.02 (hỗ trợ 90%) | T28: m² | U28: 73.68 | W28: =IF(S28<>0,VLOOKUP(S28,VKT!$A$2:$G$415,7,0),"") -> 265836 | X28: =IF(S28<>0,ROUND(U28*W28,-3)," ") -> 19587000 | AG28: =IF(AE28<>0,VLOOKUP(AE28,ODDS!$A$2:$C$13,3,0),"") | AH28: =IF(AE28<>0,ROUND(AF28*AG28,-2)," ") | AI28: =IF(B28<>0,M28+N28+R28+X28+AH28," ") | AJ28: Nhà xây dựng năm 2001 | AK28: Báo cáo số 06/BC-TTKĐ ngày 15 tháng 4 năm 2026 ngày 15 tháng 4 năm 2026 của Trung tâm kiểm định và Dịch vụ xây dựng - Sở Xây dựng tỉnh AG
A29: =IF(B28<>0,B28,A28) -> 3 | K29: =IF(G29<>0,VLOOKUP(G29,'gia dat'!$A$1:$F$144,5,0)," ") | L29: =IF(G29<>0,VLOOKUP(G29,'gia dat'!$A$1:$F$144,6,0)," ") | M29: =IF(H29<>0,ROUND(H29*K29,-3)," ") | N29: =IF(H29<>0,ROUND(H29*L29,-3)," ") | O29: Chuối B | P29: 101 | Q29: =IF(O29<>0,VLOOKUP(O29,'Cây trong'!$A$2:$C$246,3,0)," ") -> 76000 | R29: =IF(O29<>0,ROUND(P29*Q29,-2)," ") -> 7676000 | S29: WC+ Tắm (trong nhà) xí bệt, dán gạch men WC.01 (hỗ trợ 90%) | T29: m² | U29: 8.3 | W29: =IF(S29<>0,VLOOKUP(S29,VKT!$A$2:$G$415,7,0),"") -> 9347414 | X29: =IF(S29<>0,ROUND(U29*W29,-3)," ") -> 77584000 | Y29: Btct | Z29: Btct | AA29: G.men | AB29: Tường | AC29: Btct | AG29: =IF(AE29<>0,VLOOKUP(AE29,ODDS!$A$2:$C$13,3,0),"") | AH29: =IF(AE29<>0,ROUND(AF29*AG29,-2)," ") | AI29: =IF(B29<>0,M29+N29+R29+X29+AH29," ") | AJ29: Phần diện tích 30,8 m² (LG) nằm ngoài GCN, có cùng nguồn gốc và thời điểm sử dụng theo GCN số BU 454890 do UBND Thành Phố Rạch Giá cấp ngày 22/10/2014.
A30: =IF(B29<>0,B29,A29) -> 3 | K30: =IF(G30<>0,VLOOKUP(G30,'gia dat'!$A$1:$F$144,5,0)," ") | L30: =IF(G30<>0,VLOOKUP(G30,'gia dat'!$A$1:$F$144,6,0)," ") | M30: =IF(H30<>0,ROUND(H30*K30,-3)," ") | N30: =IF(H30<>0,ROUND(H30*L30,-3)," ") | O30: Chuối C | P30: 145 | Q30: =IF(O30<>0,VLOOKUP(O30,'Cây trong'!$A$2:$C$246,3,0)," ") -> 34000 | R30: =IF(O30<>0,ROUND(P30*Q30,-2)," ") -> 4930000 | S30: Mái che tol (hỗ trợ 90%) | T30: m² | U30: 8.05 | W30: =IF(S30<>0,VLOOKUP(S30,VKT!$A$2:$G$415,7,0),"") -> 0 | X30: =IF(S30<>0,ROUND(U30*W30,-3)," ") -> 0 | AG30: =IF(AE30<>0,VLOOKUP(AE30,ODDS!$A$2:$C$13,3,0),"") | AH30: =IF(AE30<>0,ROUND(AF30*AG30,-2)," ") | AI30: =IF(B30<>0,M30+N30+R30+X30+AH30," ") | AJ30: CĐN theo mẫu 07 giấy xác nhận trực tiếp SXNN của UBND phường Rạch Giá
A31: =IF(B30<>0,B30,A30) -> 3 | K31: =IF(G31<>0,VLOOKUP(G31,'gia dat'!$A$1:$F$144,5,0)," ") | L31: =IF(G31<>0,VLOOKUP(G31,'gia dat'!$A$1:$F$144,6,0)," ") | M31: =IF(H31<>0,ROUND(H31*K31,-3)," ") | N31: =IF(H31<>0,ROUND(H31*L31,-3)," ") | O31: Đu đủ C | P31: 1 | Q31: =IF(O31<>0,VLOOKUP(O31,'Cây trong'!$A$2:$C$246,3,0)," ") -> 45000 | R31: =IF(O31<>0,ROUND(P31*Q31,-2)," ") -> 45000 | S31: Nền gạch men (hỗ trợ 90%) | T31: m² | U31: 8.05 | W31: =IF(S31<>0,VLOOKUP(S31,VKT!$A$2:$G$415,7,0),"") -> 275180 | X31: =IF(S31<>0,ROUND(U31*W31,-3)," ") -> 2215000 | AG31: =IF(AE31<>0,VLOOKUP(AE31,ODDS!$A$2:$C$13,3,0),"") | AH31: =IF(AE31<>0,ROUND(AF31*AG31,-2)," ") | AI31: =IF(B31<>0,M31+N31+R31+X31+AH31," ")
A32: =IF(B31<>0,B31,A31) -> 3 | K32: =IF(G32<>0,VLOOKUP(G32,'gia dat'!$A$1:$F$144,5,0)," ") | L32: =IF(G32<>0,VLOOKUP(G32,'gia dat'!$A$1:$F$144,6,0)," ") | M32: =IF(H32<>0,ROUND(H32*K32,-3)," ") | N32: =IF(H32<>0,ROUND(H32*L32,-3)," ") | O32: Xoài B | P32: 2 | Q32: =IF(O32<>0,VLOOKUP(O32,'Cây trong'!$A$2:$C$246,3,0)," ") -> 3064000 | R32: =IF(O32<>0,ROUND(P32*Q32,-2)," ") -> 6128000 | S32: Bồn BTCT (có nắp) BNN.01 (hỗ trợ 90%) | T32: m³ | U32: 20.13 | W32: =IF(S32<>0,VLOOKUP(S32,VKT!$A$2:$G$415,7,0),"") -> 3878211 | X32: =IF(S32<>0,ROUND(U32*W32,-3)," ") -> 78068000 | AG32: =IF(AE32<>0,VLOOKUP(AE32,ODDS!$A$2:$C$13,3,0),"") | AH32: =IF(AE32<>0,ROUND(AF32*AG32,-2)," ") | AI32: =IF(B32<>0,M32+N32+R32+X32+AH32," ")
A33: =IF(B32<>0,B32,A32) -> 3 | K33: =IF(G33<>0,VLOOKUP(G33,'gia dat'!$A$1:$F$144,5,0)," ") | L33: =IF(G33<>0,VLOOKUP(G33,'gia dat'!$A$1:$F$144,6,0)," ") | M33: =IF(H33<>0,ROUND(H33*K33,-3)," ") | N33: =IF(H33<>0,ROUND(H33*L33,-3)," ") | O33: Xoài C | P33: 1 | Q33: =IF(O33<>0,VLOOKUP(O33,'Cây trong'!$A$2:$C$246,3,0)," ") -> 1035000 | R33: =IF(O33<>0,ROUND(P33*Q33,-2)," ") -> 1035000 | S33: Hàng rào xây 10, song sắt, móng BTCT, trụ BTCT HR.14 (hỗ trợ 90%) | T33: m² | U33: 23.45 | W33: =IF(S33<>0,VLOOKUP(S33,VKT!$A$2:$G$415,7,0),"") -> 890132 | X33: =IF(S33<>0,ROUND(U33*W33,-3)," ") -> 20874000 | AG33: =IF(AE33<>0,VLOOKUP(AE33,ODDS!$A$2:$C$13,3,0),"") | AH33: =IF(AE33<>0,ROUND(AF33*AG33,-2)," ") | AI33: =IF(B33<>0,M33+N33+R33+X33+AH33," ")
A34: =IF(B33<>0,B33,A33) -> 3 | K34: =IF(G34<>0,VLOOKUP(G34,'gia dat'!$A$1:$F$144,5,0)," ") | L34: =IF(G34<>0,VLOOKUP(G34,'gia dat'!$A$1:$F$144,6,0)," ") | M34: =IF(H34<>0,ROUND(H34*K34,-3)," ") | N34: =IF(H34<>0,ROUND(H34*L34,-3)," ") | O34: Xoài D | P34: 2 | Q34: =IF(O34<>0,VLOOKUP(O34,'Cây trong'!$A$2:$C$246,3,0)," ") -> 400000 | R34: =IF(O34<>0,ROUND(P34*Q34,-2)," ") -> 800000 | S34: Chuồng gà (hỗ trợ 90%) | T34: m² | U34: 4.6 | W34: =IF(S34<>0,VLOOKUP(S34,VKT!$A$2:$G$415,7,0),"") -> 0 | X34: =IF(S34<>0,ROUND(U34*W34,-3)," ") -> 0 | Z34: Tolv | AA34: đất | AB34: lưới B40 | AC34: Sắt | AG34: =IF(AE34<>0,VLOOKUP(AE34,ODDS!$A$2:$C$13,3,0),"") | AH34: =IF(AE34<>0,ROUND(AF34*AG34,-2)," ") | AI34: =IF(B34<>0,M34+N34+R34+X34+AH34," ")
A35: =IF(B34<>0,B34,A34) -> 3 | K35: =IF(G35<>0,VLOOKUP(G35,'gia dat'!$A$1:$F$144,5,0)," ") | L35: =IF(G35<>0,VLOOKUP(G35,'gia dat'!$A$1:$F$144,6,0)," ") | M35: =IF(H35<>0,ROUND(H35*K35,-3)," ") | N35: =IF(H35<>0,ROUND(H35*L35,-3)," ") | O35: Hạnh B | P35: 1 | Q35: =IF(O35<>0,VLOOKUP(O35,'Cây trong'!$A$2:$C$246,3,0)," ") -> 300000 | R35: =IF(O35<>0,ROUND(P35*Q35,-2)," ") -> 300000 | S35: Miếu xây C4.01 (hỗ trợ 90%) | T35: m² | U35: 1.2 | W35: =IF(S35<>0,VLOOKUP(S35,VKT!$A$2:$G$415,7,0),"") -> 3764632 | X35: =IF(S35<>0,ROUND(U35*W35,-3)," ") -> 4518000 | Z35: Ngói | AA35: G.men | AB35: Tường | AC35: Gạch | AG35: =IF(AE35<>0,VLOOKUP(AE35,ODDS!$A$2:$C$13,3,0),"") | AH35: =IF(AE35<>0,ROUND(AF35*AG35,-2)," ") | AI35: =IF(B35<>0,M35+N35+R35+X35+AH35," ")
A36: =IF(B35<>0,B35,A35) -> 3 | K36: =IF(G36<>0,VLOOKUP(G36,'gia dat'!$A$1:$F$144,5,0)," ") | L36: =IF(G36<>0,VLOOKUP(G36,'gia dat'!$A$1:$F$144,6,0)," ") | M36: =IF(H36<>0,ROUND(H36*K36,-3)," ") | N36: =IF(H36<>0,ROUND(H36*L36,-3)," ") | O36: Sao E | P36: 1 | Q36: =IF(O36<>0,VLOOKUP(O36,'Cây trong'!$A$2:$C$246,3,0)," ") -> 360000 | R36: =IF(O36<>0,ROUND(P36*Q36,-2)," ") -> 360000 | S36: Chuồng gà (hỗ trợ 90%) | T36: m² | U36: 4.56 | W36: =IF(S36<>0,VLOOKUP(S36,VKT!$A$2:$G$415,7,0),"") -> 0 | X36: =IF(S36<>0,ROUND(U36*W36,-3)," ") -> 0 | Z36: Lưới B40 | AA36: Đất | AB36: lưới B40 | AC36: Gỗ<10 | AG36: =IF(AE36<>0,VLOOKUP(AE36,ODDS!$A$2:$C$13,3,0),"") | AH36: =IF(AE36<>0,ROUND(AF36*AG36,-2)," ") | AI36: =IF(B36<>0,M36+N36+R36+X36+AH36," ")
A37: =IF(B36<>0,B36,A36) -> 3 | K37: =IF(G37<>0,VLOOKUP(G37,'gia dat'!$A$1:$F$144,5,0)," ") | L37: =IF(G37<>0,VLOOKUP(G37,'gia dat'!$A$1:$F$144,6,0)," ") | M37: =IF(H37<>0,ROUND(H37*K37,-3)," ") | N37: =IF(H37<>0,ROUND(H37*L37,-3)," ") | O37: Bồ đề E | P37: 1 | Q37: =IF(O37<>0,VLOOKUP(O37,'Cây trong'!$A$2:$C$246,3,0)," ") -> 60000 | R37: =IF(O37<>0,ROUND(P37*Q37,-2)," ") -> 60000 | S37: Hàng rào xây 10, khung lưới B40, móng BTCT, trụ BTCT HR.08 (hỗ trợ 90%) | T37: m² | U37: 74.16 | W37: =IF(S37<>0,VLOOKUP(S37,VKT!$A$2:$G$415,7,0),"") -> 830536 | X37: =IF(S37<>0,ROUND(U37*W37,-3)," ") -> 61593000 | AG37: =IF(AE37<>0,VLOOKUP(AE37,ODDS!$A$2:$C$13,3,0),"") | AH37: =IF(AE37<>0,ROUND(AF37*AG37,-2)," ") | AI37: =IF(B37<>0,M37+N37+R37+X37+AH37," ")
A38: =IF(B37<>0,B37,A37) -> 3 | K38: =IF(G38<>0,VLOOKUP(G38,'gia dat'!$A$1:$F$144,5,0)," ") | L38: =IF(G38<>0,VLOOKUP(G38,'gia dat'!$A$1:$F$144,6,0)," ") | M38: =IF(H38<>0,ROUND(H38*K38,-3)," ") | N38: =IF(H38<>0,ROUND(H38*L38,-3)," ") | O38: Sộp H | P38: 1 | Q38: =IF(O38<>0,VLOOKUP(O38,'Cây trong'!$A$2:$C$246,3,0)," ") -> 32000 | R38: =IF(O38<>0,ROUND(P38*Q38,-2)," ") -> 32000 | S38: Hàng ba nhà C2.01*80% (tầng 1) (hỗ trợ 90%) | T38: m² | U38: 15.08 | W38: =IF(S38<>0,VLOOKUP(S38,VKT!$A$2:$G$415,7,0),"") -> 4631321 | X38: =IF(S38<>0,ROUND(U38*W38,-3)," ") -> 69840000 | Z38: Btct | AA38: G.men | AC38: Btct | AG38: =IF(AE38<>0,VLOOKUP(AE38,ODDS!$A$2:$C$13,3,0),"") | AH38: =IF(AE38<>0,ROUND(AF38*AG38,-2)," ") | AI38: =IF(B38<>0,M38+N38+R38+X38+AH38," ")
A39: =IF(B38<>0,B38,A38) -> 3 | K39: =IF(G39<>0,VLOOKUP(G39,'gia dat'!$A$1:$F$144,5,0)," ") | L39: =IF(G39<>0,VLOOKUP(G39,'gia dat'!$A$1:$F$144,6,0)," ") | M39: =IF(H39<>0,ROUND(H39*K39,-3)," ") | N39: =IF(H39<>0,ROUND(H39*L39,-3)," ") | O39: Nhàu G | P39: 1 | Q39: =IF(O39<>0,VLOOKUP(O39,'Cây trong'!$A$2:$C$246,3,0)," ") -> 60000 | R39: =IF(O39<>0,ROUND(P39*Q39,-2)," ") -> 60000 | S39: Hàng ba C2.01*80% (tầng 1) (hỗ trợ 90%) | T39: m² | U39: 14.75 | W39: =IF(S39<>0,VLOOKUP(S39,VKT!$A$2:$G$415,7,0),"") -> 4631321 | X39: =IF(S39<>0,ROUND(U39*W39,-3)," ") -> 68312000 | Z39: Btct | AA39: G.men | AC39: Btct | AG39: =IF(AE39<>0,VLOOKUP(AE39,ODDS!$A$2:$C$13,3,0),"") | AH39: =IF(AE39<>0,ROUND(AF39*AG39,-2)," ") | AI39: =IF(B39<>0,M39+N39+R39+X39+AH39," ")
A40: =IF(B39<>0,B39,A39) -> 3 | K40: =IF(G40<>0,VLOOKUP(G40,'gia dat'!$A$1:$F$144,5,0)," ") | L40: =IF(G40<>0,VLOOKUP(G40,'gia dat'!$A$1:$F$144,6,0)," ") | M40: =IF(H40<>0,ROUND(H40*K40,-3)," ") | N40: =IF(H40<>0,ROUND(H40*L40,-3)," ") | O40: Chanh C | P40: 1 | Q40: =IF(O40<>0,VLOOKUP(O40,'Cây trong'!$A$2:$C$246,3,0)," ") -> 283000 | R40: =IF(O40<>0,ROUND(P40*Q40,-2)," ") -> 283000 | S40: Nhà C2.07 (tầng 1) (hỗ trợ 90%) | T40: m² | U40: 88 | W40: =IF(S40<>0,VLOOKUP(S40,VKT!$A$2:$G$415,7,0),"") -> 5469063 | X40: =IF(S40<>0,ROUND(U40*W40,-3)," ") -> 481278000 | Z40: Tol giả ngói | AA40: G.men | AB40: Tường | AC40: Btct | AG40: =IF(AE40<>0,VLOOKUP(AE40,ODDS!$A$2:$C$13,3,0),"") | AH40: =IF(AE40<>0,ROUND(AF40*AG40,-2)," ") | AI40: =IF(B40<>0,M40+N40+R40+X40+AH40," ")
...

Sheet BTH
B1: =H7+C1 -> 82997 | C1: =0.4+5.9-0.5 -> 5.8 | AM1: năm xây dựng nhà cung cấp sau
A2: DỰ THẢO BẢNG TỔNG HỢP BỒI THƯỜNG, HỖ TRỢ, TÁI ĐỊNH CƯ KHI NHÀ NƯỚC THU HỒI ĐẤT ĐỂ THỰC HIỆN DỰ ÁN: KHU TÁI ĐỊNH CƯ NAM AN HÒA (GIAI ĐOẠN 3)
A3: ĐỊA ĐIỂM: KHU PHỐ 2 AN HÒA VÀ KHU PHỐ 5 AN HÒA, PHƯỜNG RẠCH GIÁ, TỈNH AN GIANG
B4: =C4-B1 -> 0 | C4: 82997
B5: Số | C5: Họ và Tên | D5: Số | E5: Số | F5: Số | G5: Đất đai | O5: Cây trồng | S5: Vật kiến trúc | Y5: Kết cấu | AE5: Chính sách bồi thường, hỗ trợ khác | AI5: Tổng | AJ5: Các cơ sở pháp lý
A6: a | B6: PA | D6: kh | E6: tờ | F6: th | G6: Loại đất | H6: DT (m2) | I6: Diện tích CĐN | J6: AH | K6: Đ.giá BT | L6: Đ.giá HT | M6: T.tiền BT | N6: T.tiền HT | O6: Loại cây | P6: SL | Q6: Đ.giá | R6: T.tiền | S6: Hạng mục | T6: DV | U6: DT | V6: AH | W6: Đ.giá | X6: T.tiền | Y6: Móng | Z6: Mái | AA6: Nền | AB6: Vách | AC6: Cột | AD6: Trần | AE6: Loại BT,HT | AF6: S. lượng | AG6: Đ.giá | AH6: T.tiền | AI6: T.tiền | AJ6: Các thông tin được địa phương xác nhận về nguồn gốc đất, nhà vật kiến trúc trên đất | AK6: Căn cứ cơ sở pháp lý
A7: Grand Total | C7: Tổng | H7: =SUBTOTAL(9,H9:H2439) -> 82991.2 | I7: =SUBTOTAL(9,I9:I2439) -> 43626.2 | M7: =SUBTOTAL(9,M9:M2439) -> 70703020000 | N7: =SUBTOTAL(9,N9:N2439) -> 62265448000 | P7: =SUBTOTAL(9,P9:P2439) -> 16033.5 | R7: =SUBTOTAL(9,R9:R2439) -> 2065249500 | U7: =SUBTOTAL(9,U9:U2439) -> 23019.546 | X7: =SUBTOTAL(9,X9:X2439) -> 25201681000 | AF7: =SUBTOTAL(9,AF9:AF2439) -> 31 | AH7: =SUBTOTAL(9,AH9:AH2439) -> 309000000 | AI7: =SUBTOTAL(9,AI8:AI2439) -> 160544398500
A8: 1 Total | B8: 1 | C8: Quách Ngọc Tuấn | H8: =SUBTOTAL(9,H9:H14) -> 0 | I8: =SUBTOTAL(9,I9:I14) -> 0 | M8: =SUBTOTAL(9,M9:M14) -> 0 | N8: =SUBTOTAL(9,N9:N14) -> 0 | P8: =SUBTOTAL(9,P9:P14) -> 0 | R8: =SUBTOTAL(9,R9:R14) -> 0 | U8: =SUBTOTAL(9,U9:U14) -> 50.55 | X8: =SUBTOTAL(9,X9:X14) -> 61518000 | AF8: =SUBTOTAL(9,AF9:AF14) -> 1 | AH8: =SUBTOTAL(9,AH9:AH14) -> 5000000 | AI8: =IF(B8<>0,M8+N8+R8+X8+AH8," ") -> 66518000
A9: =IF(B8<>0,B8,A6) -> 1 | C9: 1974 - 0910 7400 2275 | D9: 4 | K9: =IF(G9<>0,VLOOKUP(G9,'gia dat'!$A$1:$F$144,5,0)," ") | L9: =IF(G9<>0,VLOOKUP(G9,'gia dat'!$A$1:$F$144,6,0)," ") | M9: =IF(H9<>0,ROUND(H9*K9,-3)," ") | N9: =IF(H9<>0,ROUND(H9*L9,-3)," ") | Q9: =IF(O9<>0,VLOOKUP(O9,'Cây trong'!$A$2:$C$246,3,0)," ") | R9: =IF(O9<>0,ROUND(P9*Q9,-2)," ") | S9: Nhà C4.05 (hỗ trợ 90%) | T9: m² | U9: 15.3 | W9: =IF(S9<>0,VLOOKUP(S9,VKT!$A$2:$G$415,7,0),"") -> 3550600 | X9: =IF(S9<>0,ROUND(U9*W9,-3)," ") -> 54324000 | Y9: Gạch | Z9: Tolv | AA9: G.men | AB9: Tường | AC9: Gạch | AD9: Prima | AE9: Kinh doanh không đăng ký | AF9: 1 | AG9: =IF(AE9<>0,VLOOKUP(AE9,ODDS!$A$2:$C$13,3,0),"") -> 5000000 | AH9: =IF(AE9<>0,ROUND(AF9*AG9,-2)," ") -> 5000000 | AI9: =IF(B9<>0,M9+N9+R9+X9+AH9," ") | AJ9: Nhà xây dựng năm 2006, sửa lại năm 2015 cất trên đất Ông Quách Ngọc Nghé | AK9: Giá hỗ trợ VKT theo Quyết định số 11/QĐ-UBND ngày 31/3/2025 và khoản c, điều 5 Quyết định số 07/2026/QĐ-UBND ngày 12/02/2026 của UBND tỉnh AG
A10: =IF(B9<>0,B9,A9) -> 1 | C10: 1065/1C Lâm Quang Ky, Phường Rạch Giá, tỉnh An Giang | K10: =IF(G10<>0,VLOOKUP(G10,'gia dat'!$A$1:$F$144,5,0)," ") | L10: =IF(G10<>0,VLOOKUP(G10,'gia dat'!$A$1:$F$144,6,0)," ") | M10: =IF(H10<>0,ROUND(H10*K10,-3)," ") | N10: =IF(H10<>0,ROUND(H10*L10,-3)," ") | Q10: =IF(O10<>0,VLOOKUP(O10,'Cây trong'!$A$2:$C$246,3,0)," ") | R10: =IF(O10<>0,ROUND(P10*Q10,-2)," ") | S10: Mái che tol (hỗ trợ 90%) | T10: m² | U10: 5.85 | W10: =IF(S10<>0,VLOOKUP(S10,VKT!$A$2:$G$415,7,0),"") -> 0 | X10: =IF(S10<>0,ROUND(U10*W10,-3)," ") -> 0 | AG10: =IF(AE10<>0,VLOOKUP(AE10,ODDS!$A$2:$C$13,3,0),"") | AH10: =IF(AE10<>0,ROUND(AF10*AG10,-2)," ") | AI10: =IF(B10<>0,M10+N10+R10+X10+AH10," ") | AJ10: Kinh doanh mua bán tạp hóa (ko giấy phép) | AK10: Hỗ trợ kinh doanh theo khoản 1, Điều 12, Quyết định số 12/2025/QĐ-UBND ngày 30/9/2025 của UBND tỉnh AG
A11: =IF(B10<>0,B10,A10) -> 1 | C11: Vợ: Trần Thị Kiều Oanh | K11: =IF(G11<>0,VLOOKUP(G11,'gia dat'!$A$1:$F$144,5,0)," ") | L11: =IF(G11<>0,VLOOKUP(G11,'gia dat'!$A$1:$F$144,6,0)," ") | M11: =IF(H11<>0,ROUND(H11*K11,-3)," ") | N11: =IF(H11<>0,ROUND(H11*L11,-3)," ") | Q11: =IF(O11<>0,VLOOKUP(O11,'Cây trong'!$A$2:$C$246,3,0)," ") | R11: =IF(O11<>0,ROUND(P11*Q11,-2)," ") | S11: Nền xi măng SN.01 (hỗ trợ 90%) | T11: m² | U11: 14.1 | W11: =IF(S11<>0,VLOOKUP(S11,VKT!$A$2:$G$415,7,0),"") -> 238288 | X11: =IF(S11<>0,ROUND(U11*W11,-3)," ") -> 3360000 | AG11: =IF(AE11<>0,VLOOKUP(AE11,ODDS!$A$2:$C$13,3,0),"") | AH11: =IF(AE11<>0,ROUND(AF11*AG11,-2)," ") | AI11: =IF(B11<>0,M11+N11+R11+X11+AH11," ") | AK11: Báo cáo số 06/BC-TTKĐ ngày 15 tháng 4 năm 2026 ngày 15 tháng 4 năm 2026 của Trung tâm kiểm định và Dịch vụ xây dựng - Sở Xây dựng tỉnh AG
A12: =IF(B11<>0,B11,A11) -> 1 | K12: =IF(G12<>0,VLOOKUP(G12,'gia dat'!$A$1:$F$144,5,0)," ") | L12: =IF(G12<>0,VLOOKUP(G12,'gia dat'!$A$1:$F$144,6,0)," ") | M12: =IF(H12<>0,ROUND(H12*K12,-3)," ") | N12: =IF(H12<>0,ROUND(H12*L12,-3)," ") | Q12: =IF(O12<>0,VLOOKUP(O12,'Cây trong'!$A$2:$C$246,3,0)," ") | R12: =IF(O12<>0,ROUND(P12*Q12,-2)," ") | S12: Trần Prima (hỗ trợ 90%) | T12: m² | U12: 15.3 | W12: =IF(S12<>0,VLOOKUP(S12,VKT!$A$2:$G$415,7,0),"") -> 250583 | X12: =IF(S12<>0,ROUND(U12*W12,-3)," ") -> 3834000 | AG12: =IF(AE12<>0,VLOOKUP(AE12,ODDS!$A$2:$C$13,3,0),"") | AH12: =IF(AE12<>0,ROUND(AF12*AG12,-2)," ") | AI12: =IF(B12<>0,M12+N12+R12+X12+AH12," ")
A13: =IF(B12<>0,B12,A12) -> 1 | K13: =IF(G13<>0,VLOOKUP(G13,'gia dat'!$A$1:$F$144,5,0)," ") | L13: =IF(G13<>0,VLOOKUP(G13,'gia dat'!$A$1:$F$144,6,0)," ") | M13: =IF(H13<>0,ROUND(H13*K13,-3)," ") | N13: =IF(H13<>0,ROUND(H13*L13,-3)," ") | W13: =IF(S13<>0,VLOOKUP(S13,VKT!$A$2:$G$415,7,0),"") | X13: =IF(S13<>0,ROUND(U13*W13,-3)," ") | AG13: =IF(AE13<>0,VLOOKUP(AE13,ODDS!$A$2:$C$13,3,0),"") | AI13: =IF(B13<>0,M13+N13+R13+X13+AH13," ")
A14: =IF(B13<>0,B13,A13) -> 1 | K14: =IF(G14<>0,VLOOKUP(G14,'gia dat'!$A$1:$F$144,5,0)," ") | L14: =IF(G14<>0,VLOOKUP(G14,'gia dat'!$A$1:$F$144,6,0)," ") | M14: =IF(H14<>0,ROUND(H14*K14,-3)," ") | N14: =IF(H14<>0,ROUND(H14*L14,-3)," ") | W14: =IF(S14<>0,VLOOKUP(S14,VKT!$A$2:$G$415,7,0),"") | X14: =IF(S14<>0,ROUND(U14*W14,-3)," ") | AG14: =IF(AE14<>0,VLOOKUP(AE14,ODDS!$A$2:$C$13,3,0),"") | AI14: =IF(B14<>0,M14+N14+R14+X14+AH14," ")
A15: 2 Total | B15: 2 | C15: Hộ Ông Quách Ngọc Nghé | H15: =SUBTOTAL(9,H16:H21) -> 25.9 | I15: =SUBTOTAL(9,I16:I21) -> 0 | M15: =SUBTOTAL(9,M16:M21) -> 14359000 | N15: =SUBTOTAL(9,N16:N21) -> 0 | P15: =SUBTOTAL(9,P16:P21) -> 0 | R15: =SUBTOTAL(9,R16:R21) -> 0 | U15: =SUBTOTAL(9,U16:U21) -> 0 | X15: =SUBTOTAL(9,X16:X21) -> 0 | AF15: =SUBTOTAL(9,AF16:AF21) -> 0 | AH15: =SUBTOTAL(9,AH16:AH21) -> 0 | AI15: =IF(B15<>0,M15+N15+R15+X15+AH15," ") -> 14359000
A16: =IF(B15<>0,B15,A14) -> 2 | C16: 1943 - 0910 4300 2669 | G16: Đất trồng cây lâu năm ngoài GCN (LG) - VT1 - giáp đường LQK (đoạn Đống Đa - Ngô Văn Sở) - trừ VKT | H16: 25.9 | I16: =IF(N16>0,H16,"") | K16: =IF(G16<>0,VLOOKUP(G16,'gia dat'!$A$1:$F$144,5,0)," ") -> 554400 | L16: =IF(G16<>0,VLOOKUP(G16,'gia dat'!$A$1:$F$144,6,0)," ") -> 0 | M16: =IF(H16<>0,ROUND(H16*K16,-3)," ") -> 14359000 | N16: =IF(H16<>0,ROUND(H16*L16,-3)," ") -> 0 | W16: =IF(S16<>0,VLOOKUP(S16,VKT!$A$2:$G$415,7,0),"") | X16: =IF(S16<>0,ROUND(U16*W16,-3)," ") | AG16: =IF(AE16<>0,VLOOKUP(AE16,ODDS!$A$2:$C$13,3,0),"") | AI16: =IF(B16<>0,M16+N16+R16+X16+AH16," ") | AJ16: Nguồn gốc đất Phần diện tích 10,5 m² nằm ngoài GCN thuộc đất HLATGT, có cùng nguồn gốc và thời điểm sử dụng theo GCN số BU 454890 do UBND Thành Phố Rạch Giá cấp ngày 22/10/2014 do Hộ Ông Quách Ngọc Nghé đứng tên. hiện trạng do cha Quách Ngọc Nghé cho con là Quách Ngọc Tuấn ngày 12/6/2006 (giấy tay). | AK16: Giá bồi thường về đất theo Nghị quyết số 16/2025/NQ-HĐND ngày 30/12/2025 của Hội đồng nhân dân tỉnh AG và Quyết định số 69/2026/QĐ-UBND ngày 18/7/2026 của UBND tỉnh AG
A17: =IF(B16<>0,B16,A16) -> 2 | C17: 1065 Lâm Quang Ky, Phường Rạch Giá, tỉnh An Giang | K17: =IF(G17<>0,VLOOKUP(G17,'gia dat'!$A$1:$F$144,5,0)," ") | L17: =IF(G17<>0,VLOOKUP(G17,'gia dat'!$A$1:$F$144,6,0)," ") | M17: =IF(H17<>0,ROUND(H17*K17,-3)," ") | N17: =IF(H17<>0,ROUND(H17*L17,-3)," ") | W17: =IF(S17<>0,VLOOKUP(S17,VKT!$A$2:$G$415,7,0),"") | X17: =IF(S17<>0,ROUND(U17*W17,-3)," ") | AG17: =IF(AE17<>0,VLOOKUP(AE17,ODDS!$A$2:$C$13,3,0),"") | AI17: =IF(B17<>0,M17+N17+R17+X17+AH17," ")
A18: =IF(B17<>0,B17,A17) -> 2 | C18: Vợ: Trang Thị Em | K18: =IF(G18<>0,VLOOKUP(G18,'gia dat'!$A$1:$F$144,5,0)," ") | L18: =IF(G18<>0,VLOOKUP(G18,'gia dat'!$A$1:$F$144,6,0)," ") | M18: =IF(H18<>0,ROUND(H18*K18,-3)," ") | N18: =IF(H18<>0,ROUND(H18*L18,-3)," ") | W18: =IF(S18<>0,VLOOKUP(S18,VKT!$A$2:$G$415,7,0),"") | X18: =IF(S18<>0,ROUND(U18*W18,-3)," ") | AG18: =IF(AE18<>0,VLOOKUP(AE18,ODDS!$A$2:$C$13,3,0),"") | AI18: =IF(B18<>0,M18+N18+R18+X18+AH18," ")
A19: =IF(B18<>0,B18,A18) -> 2 | K19: =IF(G19<>0,VLOOKUP(G19,'gia dat'!$A$1:$F$144,5,0)," ") | L19: =IF(G19<>0,VLOOKUP(G19,'gia dat'!$A$1:$F$144,6,0)," ") | M19: =IF(H19<>0,ROUND(H19*K19,-3)," ") | N19: =IF(H19<>0,ROUND(H19*L19,-3)," ") | W19: =IF(S19<>0,VLOOKUP(S19,VKT!$A$2:$G$415,7,0),"") | X19: =IF(S19<>0,ROUND(U19*W19,-3)," ") | AG19: =IF(AE19<>0,VLOOKUP(AE19,ODDS!$A$2:$C$13,3,0),"") | AI19: =IF(B19<>0,M19+N19+R19+X19+AH19," ")
A20: =IF(B19<>0,B19,A19) -> 2 | K20: =IF(G20<>0,VLOOKUP(G20,'gia dat'!$A$1:$F$144,5,0)," ") | L20: =IF(G20<>0,VLOOKUP(G20,'gia dat'!$A$1:$F$144,6,0)," ") | M20: =IF(H20<>0,ROUND(H20*K20,-3)," ") | N20: =IF(H20<>0,ROUND(H20*L20,-3)," ") | Q20: =IF(O20<>0,VLOOKUP(O20,'Cây trong'!$A$2:$C$246,3,0)," ") | R20: =IF(O20<>0,ROUND(P20*Q20,-2)," ") | W20: =IF(S20<>0,VLOOKUP(S20,VKT!$A$2:$G$415,7,0),"") | X20: =IF(S20<>0,ROUND(U20*W20,-3)," ") | AG20: =IF(AE20<>0,VLOOKUP(AE20,ODDS!$A$2:$C$13,3,0),"") | AH20: =IF(AE20<>0,ROUND(AF20*AG20,-2)," ") | AI20: =IF(B20<>0,M20+N20+R20+X20+AH20," ")
A21: =IF(B20<>0,B20,A20) -> 2 | K21: =IF(G21<>0,VLOOKUP(G21,'gia dat'!$A$1:$F$144,5,0)," ") | L21: =IF(G21<>0,VLOOKUP(G21,'gia dat'!$A$1:$F$144,6,0)," ") | M21: =IF(H21<>0,ROUND(H21*K21,-3)," ") | N21: =IF(H21<>0,ROUND(H21*L21,-3)," ") | Q21: =IF(O21<>0,VLOOKUP(O21,'Cây trong'!$A$2:$C$246,3,0)," ") | R21: =IF(O21<>0,ROUND(P21*Q21,-2)," ") | W21: =IF(S21<>0,VLOOKUP(S21,VKT!$A$2:$G$415,7,0),"") | X21: =IF(S21<>0,ROUND(U21*W21,-3)," ") | AG21: =IF(AE21<>0,VLOOKUP(AE21,ODDS!$A$2:$C$13,3,0),"") | AH21: =IF(AE21<>0,ROUND(AF21*AG21,-2)," ") | AI21: =IF(B21<>0,M21+N21+R21+X21+AH21," ")
A22: 3 Total | B22: 3 | C22: Hộ Ông Quách Ngọc Nghé | H22: =SUBTOTAL(9,H23:H48) -> 587.1 | I22: =SUBTOTAL(9,I23:I28) -> 405.4 | M22: =SUBTOTAL(9,M23:M48) -> 2987514000 | N22: =SUBTOTAL(9,N23:N48) -> 674261000 | P22: =SUBTOTAL(9,P23:P48) -> 605 | R22: =SUBTOTAL(9,R23:R48) -> 76300000 | U22: =SUBTOTAL(9,U23:U48) -> 670.2 | X22: =SUBTOTAL(9,X23:X48) -> 1667759000 | AF22: =SUBTOTAL(9,AF23:AF48) -> 0 | AH22: =SUBTOTAL(9,AH23:AH48) -> 0 | AI22: =IF(B22<>0,M22+N22+R22+X22+AH22," ") -> 5405834000
A23: =IF(B22<>0,B22,A21) -> 3 | C23: 1943 - 0910 4300 2669 | D23: 12 | E23: 85 | F23: 37 | G23: Đất ở đô thị (GCN) - VT1 - đường LQK (đoạn Đống Đa - Ngô Văn Sở) | H23: 124.2 | I23: =IF(N23>0,H23,"") | K23: =IF(G23<>0,VLOOKUP(G23,'gia dat'!$A$1:$F$144,5,0)," ") -> 16800000 | L23: =IF(G23<>0,VLOOKUP(G23,'gia dat'!$A$1:$F$144,6,0)," ") -> 0 | M23: =IF(H23<>0,ROUND(H23*K23,-3)," ") -> 2086560000 | N23: =IF(H23<>0,ROUND(H23*L23,-3)," ") -> 0 | O23: Dừa A | P23: 5 | Q23: =IF(O23<>0,VLOOKUP(O23,'Cây trong'!$A$2:$C$246,3,0)," ") -> 1708000 | R23: =IF(O23<>0,ROUND(P23*Q23,-2)," ") -> 8540000 | S23: Nhà C2.01 (hỗ trợ 90%) | T23: m² | U23: 104.4 | W23: =IF(S23<>0,VLOOKUP(S23,VKT!$A$2:$G$415,7,0),"") -> 5789151 | X23: =IF(S23<>0,ROUND(U23*W23,-3)," ") -> 604387000 | Y23: Btct | Z23: Btct | AA23: G.men | AB23: Tường | AC23: Btct | AG23: =IF(AE23<>0,VLOOKUP(AE23,ODDS!$A$2:$C$13,3,0),"") | AI23: =IF(B23<>0,M23+N23+R23+X23+AH23," ") | AJ23: Có GCN số BU 454890 do UBND Thành Phố Rạch Giá cấp ngày 22/10/2014. | AK23: Giá bồi thường về đất theo Nghị quyết số 16/2025/NQ-HĐND ngày 30/12/2025 của Hội đồng nhân dân tỉnh AG và Quyết định số 69/2026/QĐ-UBND ngày 18/7/2026 của UBND tỉnh AG
A24: =IF(B23<>0,B23,A23) -> 3 | C24: 1065 Lâm Quang Ky, Phường Rạch Giá, tỉnh An Giang | E24: 85 | F24: 37 | G24: Đất ở đô thị (GCN) - VT2 - đường LQK (đoạn Đống Đa - Ngô Văn Sở) | H24: =181.7-H23 -> 57.5 | I24: =IF(N24>0,H24,"") | K24: =IF(G24<>0,VLOOKUP(G24,'gia dat'!$A$1:$F$144,5,0)," ") -> 11760000 | L24: =IF(G24<>0,VLOOKUP(G24,'gia dat'!$A$1:$F$144,6,0)," ") -> 0 | M24: =IF(H24<>0,ROUND(H24*K24,-3)," ") -> 676200000 | N24: =IF(H24<>0,ROUND(H24*L24,-3)," ") -> 0 | O24: Dừa B | P24: 2 | Q24: =IF(O24<>0,VLOOKUP(O24,'Cây trong'!$A$2:$C$246,3,0)," ") -> 1122000 | R24: =IF(O24<>0,ROUND(P24*Q24,-2)," ") -> 2244000 | S24: NTC.02 (hỗ trợ 90%) | T24: m² | U24: 47.94 | W24: =IF(S24<>0,VLOOKUP(S24,VKT!$A$2:$G$415,7,0),"") -> 770070 | X24: =IF(S24<>0,ROUND(U24*W24,-3)," ") -> 36917000 | Z24: Tolv | AA24: G.men | AC24: Sắt | AG24: =IF(AE24<>0,VLOOKUP(AE24,ODDS!$A$2:$C$13,3,0),"") | AH24: =IF(AE24<>0,ROUND(AF24*AG24,-2)," ") | AI24: =IF(B24<>0,M24+N24+R24+X24+AH24," ") | AJ24: Tờ BĐ 85, thửa 37; diện tích đất trồng cây lâu năm 2.316,8 m² | AK24: Hỗ trợ CĐN và TKVL theo khoản 1, điều 13 Quyết định số 12/2025/QĐ-UBND ngày 30/9/2025 của UBND tỉnh AG
A25: =IF(B24<>0,B24,A24) -> 3 | C25: Vợ: Trang Thị Em | E25: 85 | F25: 37 | G25: Đất trồng cây lâu năm (GCN) - VT1 - Giáp đường LQK (đoạn Đống Đa - Ngô Văn Sở) - CĐN | H25: 354.5 | I25: =IF(N25>0,H25,"") -> 354.5 | K25: =IF(G25<>0,VLOOKUP(G25,'gia dat'!$A$1:$F$144,5,0)," ") -> 554400 | L25: =IF(G25<>0,VLOOKUP(G25,'gia dat'!$A$1:$F$144,6,0)," ") -> 1663200 | M25: =IF(H25<>0,ROUND(H25*K25,-3)," ") -> 196535000 | N25: =IF(H25<>0,ROUND(H25*L25,-3)," ") -> 589604000 | O25: Dừa C | P25: 5 | Q25: =IF(O25<>0,VLOOKUP(O25,'Cây trong'!$A$2:$C$246,3,0)," ") -> 494000 | R25: =IF(O25<>0,ROUND(P25*Q25,-2)," ") -> 2470000 | S25: Sân xi măng SN.01 (hỗ trợ 90%) | T25: m² | U25: 17.7 | V25: 12.7 | W25: =IF(S25<>0,VLOOKUP(S25,VKT!$A$2:$G$415,7,0),"") -> 238288 | X25: =IF(S25<>0,ROUND(U25*W25,-3)," ") -> 4218000 | AG25: =IF(AE25<>0,VLOOKUP(AE25,ODDS!$A$2:$C$13,3,0),"") | AH25: =IF(AE25<>0,ROUND(AF25*AG25,-2)," ") | AI25: =IF(B25<>0,M25+N25+R25+X25+AH25," ") | AJ25: Có GCN quyền sở hữu nhà ở và Quyền sử dụng đất ở, hồ sơ gốc số 484 do UBND tỉnh Kiên Giang cấp ngày 10/11/1998. | AK25: Giá hỗ trợ VKT theo Quyết định số 11/QĐ-UBND ngày 31/3/2025 và khoản c, điều 5 Quyết định số 07/2026/QĐ-UBND ngày 12/02/2026 của UBND tỉnh AG | AL25: nguồn góc kí 354,5 bản đồ sửa
